
BEGIN:VCALENDAR
PRODID:-/Asia Week New York//Asia Week New York Events//EN
VERSION:2.0
METHOD:PUBLISH
BEGIN:VEVENT
DTSTART:20230422T090000
DTEND:20230422T103000
LOCATION:
UID:12345
DTSTAMP:20260425T195400Z
DESCRIPTION:
SUMMARY:*Canceled* Pollinator Walk Along Buffalo Bayou
CATEGORIES:IMP
PRIORITY:5
BEGIN:VALARM
TRIGGER:PT15M
ACTION:DISPLAY
DESCRIPTION:Reminder
PRIORITY:5
END:VALARM
END:VEVENT
END:VCALENDAR