
BEGIN:VCALENDAR
PRODID:-/Asia Week New York//Asia Week New York Events//EN
VERSION:2.0
METHOD:PUBLISH
BEGIN:VEVENT
DTSTART:20230318T083000
DTEND:20230318T113000
LOCATION:
UID:12345
DTSTAMP:20260424T194800Z
DESCRIPTION:
SUMMARY:*FULL* Monthly Volunteer Workday
CATEGORIES:IMP
PRIORITY:5
BEGIN:VALARM
TRIGGER:PT15M
ACTION:DISPLAY
DESCRIPTION:Reminder
PRIORITY:5
END:VALARM
END:VEVENT
END:VCALENDAR