
BEGIN:VCALENDAR
PRODID:-/Asia Week New York//Asia Week New York Events//EN
VERSION:2.0
METHOD:PUBLISH
BEGIN:VEVENT
DTSTART:20220922T180000
DTEND:20220922T200000
LOCATION:
UID:12345
DTSTAMP:20260425T12500Z
DESCRIPTION:
SUMMARY:Born to Fly - The Currents and Houston Audubon YPAC Bird Week Happy Hour
CATEGORIES:IMP
PRIORITY:5
BEGIN:VALARM
TRIGGER:PT15M
ACTION:DISPLAY
DESCRIPTION:Reminder
PRIORITY:5
END:VALARM
END:VEVENT
END:VCALENDAR