
BEGIN:VCALENDAR
PRODID:-/Asia Week New York//Asia Week New York Events//EN
VERSION:2.0
METHOD:PUBLISH
BEGIN:VEVENT
DTSTART:20211114T160000
DTEND:20211114T180000
LOCATION:
UID:12345
DTSTAMP:20260424T164200Z
DESCRIPTION:
SUMMARY:Jazzy Sundays in the Park (Buffalo Bayou Park)
CATEGORIES:IMP
PRIORITY:5
BEGIN:VALARM
TRIGGER:PT15M
ACTION:DISPLAY
DESCRIPTION:Reminder
PRIORITY:5
END:VALARM
END:VEVENT
END:VCALENDAR