BEGIN:VCALENDAR
VERSION:2.0
PRODID:-//Buffalo Bayou Partnership - ECPv6.15.20//NONSGML v1.0//EN
CALSCALE:GREGORIAN
METHOD:PUBLISH
X-WR-CALNAME:Buffalo Bayou Partnership
X-ORIGINAL-URL:https://www.buffalobayou.org
X-WR-CALDESC:Events for Buffalo Bayou Partnership
REFRESH-INTERVAL;VALUE=DURATION:PT1H
X-Robots-Tag:noindex
X-PUBLISHED-TTL:PT1H
BEGIN:VTIMEZONE
TZID:America/Chicago
BEGIN:DAYLIGHT
TZOFFSETFROM:-0600
TZOFFSETTO:-0500
TZNAME:CDT
DTSTART:20180311T080000
END:DAYLIGHT
BEGIN:STANDARD
TZOFFSETFROM:-0500
TZOFFSETTO:-0600
TZNAME:CST
DTSTART:20181104T070000
END:STANDARD
BEGIN:DAYLIGHT
TZOFFSETFROM:-0600
TZOFFSETTO:-0500
TZNAME:CDT
DTSTART:20190310T080000
END:DAYLIGHT
BEGIN:STANDARD
TZOFFSETFROM:-0500
TZOFFSETTO:-0600
TZNAME:CST
DTSTART:20191103T070000
END:STANDARD
BEGIN:DAYLIGHT
TZOFFSETFROM:-0600
TZOFFSETTO:-0500
TZNAME:CDT
DTSTART:20200308T080000
END:DAYLIGHT
BEGIN:STANDARD
TZOFFSETFROM:-0500
TZOFFSETTO:-0600
TZNAME:CST
DTSTART:20201101T070000
END:STANDARD
BEGIN:DAYLIGHT
TZOFFSETFROM:-0600
TZOFFSETTO:-0500
TZNAME:CDT
DTSTART:20210314T080000
END:DAYLIGHT
BEGIN:STANDARD
TZOFFSETFROM:-0500
TZOFFSETTO:-0600
TZNAME:CST
DTSTART:20211107T070000
END:STANDARD
BEGIN:DAYLIGHT
TZOFFSETFROM:-0600
TZOFFSETTO:-0500
TZNAME:CDT
DTSTART:20220313T080000
END:DAYLIGHT
BEGIN:STANDARD
TZOFFSETFROM:-0500
TZOFFSETTO:-0600
TZNAME:CST
DTSTART:20221106T070000
END:STANDARD
END:VTIMEZONE
BEGIN:VEVENT
DTSTART;TZID=America/Chicago:20210925T100000
DTEND;TZID=America/Chicago:20210925T104500
DTSTAMP:20260419T174708
CREATED:20200727T195106Z
LAST-MODIFIED:20200727T195106Z
UID:10003188-1632564000-1632566700@www.buffalobayou.org
SUMMARY:Sound Healing Meditation in the Cistern
DESCRIPTION:Find your center and practice meditation in the spacious and tranquil Buffalo Bayou Park Cistern. Offered in collaboration with Union is Creation and Youniversoul this meditation series will feature the use of singing bowls and wind chimes to encourage mindfulness and connectivity. Guests should bring their own cushion or mat. \n\nSaturdays from 10-10:45am\n34 person max\n$15 per person\n\nPurchase Tickets
URL:https://www.buffalobayou.org/event/sound-healing-meditation-in-the-cistern-2021-09-25/
LOCATION:bird-grasshopper
CATEGORIES:Yoga
END:VEVENT
BEGIN:VEVENT
DTSTART;TZID=America/Chicago:20210924T063000
DTEND;TZID=America/Chicago:20210924T071500
DTSTAMP:20260419T174708
CREATED:20210324T183959Z
LAST-MODIFIED:20210324T183959Z
UID:10003201-1632465000-1632467700@www.buffalobayou.org
SUMMARY:Sunrise Yoga
DESCRIPTION:Flow into the weekend with Sunrise Yoga on Buffalo Bayou! We’re partnering with The Breathing Room for a series of 45-minute early morning yoga sessions that will take place at The Water Works in Buffalo Bayou Park. With a spectacular view of downtown\, Houston’s most iconic green space is a unique and uplifting backdrop for yogis of all levels and ages. Bring your own mat. Reusable water bottle encouraged. \nCost: Suggested $10 donation to Buffalo Bayou Partnership\n(No cash. Text BAYOUYOGA to 41444 to make a donation.) \nParking is available at 105 Sabine Street. See other parking options here. \nRegister
URL:https://www.buffalobayou.org/event/sunrise-yoga-3-2021-09-24/
LOCATION:bird-grasshopper
CATEGORIES:Yoga
ATTACH;FMTTYPE=image/jpeg:https://www.buffalobayou.org/wp-content/uploads/2023/04/IMG_2982-scaled.jpg
END:VEVENT
BEGIN:VEVENT
DTSTART;TZID=America/Chicago:20210919T100000
DTEND;TZID=America/Chicago:20210919T104500
DTSTAMP:20260419T174708
CREATED:20200727T195106Z
LAST-MODIFIED:20200727T195106Z
UID:10002648-1632045600-1632048300@www.buffalobayou.org
SUMMARY:Sound Healing Meditation in the Cistern
DESCRIPTION:Find your center and practice meditation in the spacious and tranquil Buffalo Bayou Park Cistern. Offered in collaboration with Union is Creation and Youniversoul this meditation series will feature the use of singing bowls and wind chimes to encourage mindfulness and connectivity. Guests should bring their own cushion or mat. \n\nSaturdays from 10-10:45am\n34 person max\n$15 per person\n\nPurchase Tickets
URL:https://www.buffalobayou.org/event/sound-healing-meditation-in-the-cistern-2021-09-19/
LOCATION:bird-grasshopper
CATEGORIES:Yoga
ATTACH;FMTTYPE=image/jpeg:https://www.buffalobayou.org/wp-content/uploads/2023/04/sound-bath-high-res-crop-scaled-1.jpg
END:VEVENT
BEGIN:VEVENT
DTSTART;TZID=America/Chicago:20210918T100000
DTEND;TZID=America/Chicago:20210918T104500
DTSTAMP:20260419T174708
CREATED:20200727T195106Z
LAST-MODIFIED:20200727T195106Z
UID:10003187-1631959200-1631961900@www.buffalobayou.org
SUMMARY:Sound Healing Meditation in the Cistern
DESCRIPTION:Find your center and practice meditation in the spacious and tranquil Buffalo Bayou Park Cistern. Offered in collaboration with Union is Creation and Youniversoul this meditation series will feature the use of singing bowls and wind chimes to encourage mindfulness and connectivity. Guests should bring their own cushion or mat. \n\nSaturdays from 10-10:45am\n34 person max\n$15 per person\n\nPurchase Tickets
URL:https://www.buffalobayou.org/event/sound-healing-meditation-in-the-cistern-2021-09-18/
LOCATION:bird-grasshopper
CATEGORIES:Yoga
END:VEVENT
BEGIN:VEVENT
DTSTART;TZID=America/Chicago:20210912T100000
DTEND;TZID=America/Chicago:20210912T104500
DTSTAMP:20260419T174708
CREATED:20200727T195106Z
LAST-MODIFIED:20200727T195106Z
UID:10002646-1631440800-1631443500@www.buffalobayou.org
SUMMARY:Sound Healing Meditation in the Cistern
DESCRIPTION:Find your center and practice meditation in the spacious and tranquil Buffalo Bayou Park Cistern. Offered in collaboration with Union is Creation and Youniversoul this meditation series will feature the use of singing bowls and wind chimes to encourage mindfulness and connectivity. Guests should bring their own cushion or mat. \n\nSaturdays from 10-10:45am\n34 person max\n$15 per person\n\nPurchase Tickets
URL:https://www.buffalobayou.org/event/sound-healing-meditation-in-the-cistern-2021-09-12/
LOCATION:bird-grasshopper
CATEGORIES:Yoga
ATTACH;FMTTYPE=image/jpeg:https://www.buffalobayou.org/wp-content/uploads/2023/04/sound-bath-high-res-crop-scaled-1.jpg
END:VEVENT
BEGIN:VEVENT
DTSTART;TZID=America/Chicago:20210911T100000
DTEND;TZID=America/Chicago:20210911T104500
DTSTAMP:20260419T174708
CREATED:20200727T195106Z
LAST-MODIFIED:20200727T195106Z
UID:10003186-1631354400-1631357100@www.buffalobayou.org
SUMMARY:Sound Healing Meditation in the Cistern
DESCRIPTION:Find your center and practice meditation in the spacious and tranquil Buffalo Bayou Park Cistern. Offered in collaboration with Union is Creation and Youniversoul this meditation series will feature the use of singing bowls and wind chimes to encourage mindfulness and connectivity. Guests should bring their own cushion or mat. \n\nSaturdays from 10-10:45am\n34 person max\n$15 per person\n\nPurchase Tickets
URL:https://www.buffalobayou.org/event/sound-healing-meditation-in-the-cistern-2021-09-11/
LOCATION:bird-grasshopper
CATEGORIES:Yoga
END:VEVENT
BEGIN:VEVENT
DTSTART;TZID=America/Chicago:20210910T063000
DTEND;TZID=America/Chicago:20210910T071500
DTSTAMP:20260419T174708
CREATED:20210324T183959Z
LAST-MODIFIED:20210324T183959Z
UID:10003200-1631255400-1631258100@www.buffalobayou.org
SUMMARY:Sunrise Yoga
DESCRIPTION:Flow into the weekend with Sunrise Yoga on Buffalo Bayou! We’re partnering with The Breathing Room for a series of 45-minute early morning yoga sessions that will take place at The Water Works in Buffalo Bayou Park. With a spectacular view of downtown\, Houston’s most iconic green space is a unique and uplifting backdrop for yogis of all levels and ages. Bring your own mat. Reusable water bottle encouraged. \nCost: Suggested $10 donation to Buffalo Bayou Partnership\n(No cash. Text BAYOUYOGA to 41444 to make a donation.) \nParking is available at 105 Sabine Street. See other parking options here. \nRegister
URL:https://www.buffalobayou.org/event/sunrise-yoga-3-2021-09-10/
LOCATION:bird-grasshopper
CATEGORIES:Yoga
ATTACH;FMTTYPE=image/jpeg:https://www.buffalobayou.org/wp-content/uploads/2023/04/IMG_2982-scaled.jpg
END:VEVENT
BEGIN:VEVENT
DTSTART;TZID=America/Chicago:20210905T100000
DTEND;TZID=America/Chicago:20210905T104500
DTSTAMP:20260419T174708
CREATED:20200727T195106Z
LAST-MODIFIED:20200727T195106Z
UID:10002645-1630836000-1630838700@www.buffalobayou.org
SUMMARY:Sound Healing Meditation in the Cistern
DESCRIPTION:Find your center and practice meditation in the spacious and tranquil Buffalo Bayou Park Cistern. Offered in collaboration with Union is Creation and Youniversoul this meditation series will feature the use of singing bowls and wind chimes to encourage mindfulness and connectivity. Guests should bring their own cushion or mat. \n\nSaturdays from 10-10:45am\n34 person max\n$15 per person\n\nPurchase Tickets
URL:https://www.buffalobayou.org/event/sound-healing-meditation-in-the-cistern-2021-09-05/
LOCATION:bird-grasshopper
CATEGORIES:Yoga
ATTACH;FMTTYPE=image/jpeg:https://www.buffalobayou.org/wp-content/uploads/2023/04/sound-bath-high-res-crop-scaled-1.jpg
END:VEVENT
BEGIN:VEVENT
DTSTART;TZID=America/Chicago:20210904T100000
DTEND;TZID=America/Chicago:20210904T104500
DTSTAMP:20260419T174708
CREATED:20200727T195106Z
LAST-MODIFIED:20200727T195106Z
UID:10003185-1630749600-1630752300@www.buffalobayou.org
SUMMARY:Sound Healing Meditation in the Cistern
DESCRIPTION:Find your center and practice meditation in the spacious and tranquil Buffalo Bayou Park Cistern. Offered in collaboration with Union is Creation and Youniversoul this meditation series will feature the use of singing bowls and wind chimes to encourage mindfulness and connectivity. Guests should bring their own cushion or mat. \n\nSaturdays from 10-10:45am\n34 person max\n$15 per person\n\nPurchase Tickets
URL:https://www.buffalobayou.org/event/sound-healing-meditation-in-the-cistern-2021-09-04/
LOCATION:bird-grasshopper
CATEGORIES:Yoga
END:VEVENT
BEGIN:VEVENT
DTSTART;TZID=America/Chicago:20210829T100000
DTEND;TZID=America/Chicago:20210829T104500
DTSTAMP:20260419T174708
CREATED:20200727T195106Z
LAST-MODIFIED:20200727T195106Z
UID:10002644-1630231200-1630233900@www.buffalobayou.org
SUMMARY:Sound Healing Meditation in the Cistern
DESCRIPTION:Find your center and practice meditation in the spacious and tranquil Buffalo Bayou Park Cistern. Offered in collaboration with Union is Creation and Youniversoul this meditation series will feature the use of singing bowls and wind chimes to encourage mindfulness and connectivity. Guests should bring their own cushion or mat. \n\nSaturdays from 10-10:45am\n34 person max\n$15 per person\n\nPurchase Tickets
URL:https://www.buffalobayou.org/event/sound-healing-meditation-in-the-cistern-2021-08-29/
LOCATION:bird-grasshopper
CATEGORIES:Yoga
ATTACH;FMTTYPE=image/jpeg:https://www.buffalobayou.org/wp-content/uploads/2023/04/sound-bath-high-res-crop-scaled-1.jpg
END:VEVENT
BEGIN:VEVENT
DTSTART;TZID=America/Chicago:20210827T063000
DTEND;TZID=America/Chicago:20210827T071500
DTSTAMP:20260419T174708
CREATED:20210324T183959Z
LAST-MODIFIED:20210324T183959Z
UID:10003199-1630045800-1630048500@www.buffalobayou.org
SUMMARY:Sunrise Yoga
DESCRIPTION:Flow into the weekend with Sunrise Yoga on Buffalo Bayou! We’re partnering with The Breathing Room for a series of 45-minute early morning yoga sessions that will take place at The Water Works in Buffalo Bayou Park. With a spectacular view of downtown\, Houston’s most iconic green space is a unique and uplifting backdrop for yogis of all levels and ages. Bring your own mat. Reusable water bottle encouraged. \nCost: Suggested $10 donation to Buffalo Bayou Partnership\n(No cash. Text BAYOUYOGA to 41444 to make a donation.) \nParking is available at 105 Sabine Street. See other parking options here. \nRegister
URL:https://www.buffalobayou.org/event/sunrise-yoga-3-2021-08-27/
LOCATION:bird-grasshopper
CATEGORIES:Yoga
ATTACH;FMTTYPE=image/jpeg:https://www.buffalobayou.org/wp-content/uploads/2023/04/IMG_2982-scaled.jpg
END:VEVENT
BEGIN:VEVENT
DTSTART;TZID=America/Chicago:20190920T063000
DTEND;TZID=America/Chicago:20190920T071500
DTSTAMP:20260419T174708
CREATED:20190205T024549Z
LAST-MODIFIED:20190205T024549Z
UID:10001955-1568961000-1568963700@www.buffalobayou.org
SUMMARY:CANCELLED: Sunrise Yoga sponsored by BIG Power Yoga
DESCRIPTION:Due to weather\, this event has been cancelled. The next Sunrise Yoga will take place Friday\, October 4. \n\nFlow into the weekend with Sunrise Yoga on Buffalo Bayou! We’re partnering with BIG Power Yoga for a series of 45-minute early morning yoga sessions that will take place on the lawn at The Water Works in Buffalo Bayou Park. With a spectacular view of downtown\, Houston’s most iconic greenspace is a unique and uplifting backdrop for yogis of all levels and ages. Bring your own mat. Reusable water bottle encouraged. \nCost: Suggested $10 donation to Buffalo Bayou Partnership (No cash. Text BAYOUYOGA to 41444 to make a donation.) \nParking is available at 105 Sabine Street. See other parking options here.
URL:https://www.buffalobayou.org/event/sunrise-yoga-sponsored-by-big-power-yoga-2019-09-20/
LOCATION:bird-grasshopper
CATEGORIES:Yoga
ATTACH;FMTTYPE=image/jpeg:https://www.buffalobayou.org/wp-content/uploads/2023/04/IMG_2982-scaled.jpg
END:VEVENT
BEGIN:VEVENT
DTSTART;TZID=America/Chicago:20190814T193000
DTEND;TZID=America/Chicago:20190814T193000
DTSTAMP:20260419T174708
CREATED:20190730T231344Z
LAST-MODIFIED:20190730T231344Z
UID:10002306-1565811000-1565811000@www.buffalobayou.org
SUMMARY:The Currents + HTXoutdoors Full Moon Hiking Zen
DESCRIPTION:Members of both The Currents and HTXOutdoors are invited to a hike along Buffalo Bayou Park during a Full Moon to see the Lunar Cycle Lighting orbs turn white along the trails followed by a 30-minute moonlit yoga session atop The Water Works in Buffalo Bayou Park. \n7:15pm: Meet \n7:30pm: Hike \n8:30pm: Yoga \nCheck-in is at 105 Sabine Street next to the Wortham Insurance Visitor Center. Read more about what to bring here. \nMembers Register Here
URL:https://www.buffalobayou.org/event/the-currents-htxoutdoors-full-moon-hiking-zen/
LOCATION:bird-grasshopper
CATEGORIES:The Currents,Yoga
ATTACH;FMTTYPE=image/jpeg:https://www.buffalobayou.org/wp-content/uploads/2023/04/Blue-Full-Moon-1024x576-1024x576-1.jpg
END:VEVENT
BEGIN:VEVENT
DTSTART;TZID=America/Chicago:20190731T193000
DTEND;TZID=America/Chicago:20190731T213000
DTSTAMP:20260419T174708
CREATED:20190701T222049Z
LAST-MODIFIED:20190701T222049Z
UID:10002303-1564601400-1564608600@www.buffalobayou.org
SUMMARY:Glow Flow with Empower Fitness Lab
DESCRIPTION:7:30-9:30pm Lunar Cycling (20-minute sessions) \nEmpower Fitness Lab and Buffalo Bayou Partnership are joining forces for two out-of-this-world fitness experiences in one evening. Empower will lead a series of 20-minute “lunar” cycling sessions on stationary bikes in Buffalo Bayou Park. Enjoy a stellar view of the downtown skyline and take in the Lunar Cycle Lighting scheme along Buffalo Bayou when all of the orbs will be blue during the new moon. \n8-9pm Silent Yoga\nDrown out all distractions and focus on your flow during an hour-long practice of silent yoga. Using wireless\, noise-canceling headphones\, this unique yoga session encourages a full sensory experience without the everyday disruptions \nRegister
URL:https://www.buffalobayou.org/event/glow-flow-with-empower-fitness-lab-silent-yoga/
LOCATION:bird-grasshopper
CATEGORIES:Special Event,Yoga
ATTACH;FMTTYPE=image/jpeg:https://www.buffalobayou.org/wp-content/uploads/2023/04/silent-yoga-1.jpg
END:VEVENT
BEGIN:VEVENT
DTSTART;TZID=America/Chicago:20190621T063000
DTEND;TZID=America/Chicago:20190621T071500
DTSTAMP:20260419T174708
CREATED:20190205T024549Z
LAST-MODIFIED:20190205T024549Z
UID:10001954-1561098600-1561101300@www.buffalobayou.org
SUMMARY:Sunrise Yoga sponsored by BIG Power Yoga (International Yoga Day!)
DESCRIPTION:We’re excited to partner with BIG Power Yoga\, sweetgreen\, and Juice Society\, for an extra special International Yoga day sunrise yoga celebration. Sweetgreen\, an innovative fast-casual destination serving simple\, seasonal\, healthy food with a mission to build healthier communities by connecting people to real food\, is opening this summer in Montrose and Rice Village. The first 50 attendees will receive a sweetgreen tote bag + $15 app credit to redeem at the restaurant and samples from Juice society\, come join us for a great morning! \nFlow into the weekend with BIG Power Yoga for a series of 45-minute early morning yoga sessions that will take place on the lawn at The Water Works in Buffalo Bayou Park. With a spectacular view of downtown\, Houston’s most iconic greenspace is a unique and uplifting backdrop for yogis of all levels and ages. Bring your own mat. Reusable water bottle encouraged. \nCost: Suggested $10 donation to Buffalo Bayou Partnership (No cash. Text BAYOUYOGA to 41444 to make a donation.) \nParking is available at 105 Sabine Street. See other parking options here. \nRSVP!
URL:https://www.buffalobayou.org/event/sunrise-yoga-sponsored-by-big-power-yoga-2019-06-21/
LOCATION:bird-grasshopper
CATEGORIES:Yoga
ATTACH;FMTTYPE=image/jpeg:https://www.buffalobayou.org/wp-content/uploads/2023/04/IMG_2982-scaled.jpg
END:VEVENT
BEGIN:VEVENT
DTSTART;TZID=America/Chicago:20190405T063000
DTEND;TZID=America/Chicago:20190405T071500
DTSTAMP:20260419T174708
CREATED:20190205T024549Z
LAST-MODIFIED:20190205T024549Z
UID:10001952-1554445800-1554448500@www.buffalobayou.org
SUMMARY:Sunrise Yoga sponsored by BIG Power Yoga
DESCRIPTION:Flow into the weekend with Sunrise Yoga on Buffalo Bayou! We’re partnering with BIG Power Yoga for a series of 45-minute early morning yoga sessions that will take place on the lawn at The Water Works in Buffalo Bayou Park. With a spectacular view of downtown\, Houston’s most iconic greenspace is a unique and uplifting backdrop for yogis of all levels and ages. Bring your own mat. Reusable water bottle encouraged. \nCost: Suggested $10 donation to Buffalo Bayou Partnership (No cash. Text BAYOUYOGA to 41444 to make a donation.) \nParking is available at 105 Sabine Street. See other parking options here.
URL:https://www.buffalobayou.org/event/sunrise-yoga-sponsored-by-big-power-yoga/
LOCATION:bird-grasshopper
CATEGORIES:Yoga
ATTACH;FMTTYPE=image/jpeg:https://www.buffalobayou.org/wp-content/uploads/2023/04/IMG_2982-scaled.jpg
END:VEVENT
END:VCALENDAR