BEGIN:VCALENDAR
VERSION:2.0
PRODID:-//Buffalo Bayou Partnership - ECPv6.15.20//NONSGML v1.0//EN
CALSCALE:GREGORIAN
METHOD:PUBLISH
X-WR-CALNAME:Buffalo Bayou Partnership
X-ORIGINAL-URL:https://www.buffalobayou.org
X-WR-CALDESC:Events for Buffalo Bayou Partnership
REFRESH-INTERVAL;VALUE=DURATION:PT1H
X-Robots-Tag:noindex
X-PUBLISHED-TTL:PT1H
BEGIN:VTIMEZONE
TZID:UTC
BEGIN:STANDARD
TZOFFSETFROM:+0000
TZOFFSETTO:+0000
TZNAME:UTC
DTSTART:20140101T000000
END:STANDARD
END:VTIMEZONE
BEGIN:VEVENT
DTSTART;TZID=UTC:20150814T110000
DTEND;TZID=UTC:20150814T200000
DTSTAMP:20260421T054124
CREATED:20150701T003153Z
LAST-MODIFIED:20150701T003153Z
UID:10001940-1439550000-1439582400@www.buffalobayou.org
SUMMARY:Art Workshops for Buffalo Bayou Park's Grand Opening
DESCRIPTION:This past June\, Houstonians worked with visiting artists Alex Kahn and Sophia Michahelles of Processional Arts Workshop (PAW) to create 26 large-scale lanterns for Buffalo Bayou Park’s grand opening evening procession rescheduled for Saturday\, October 3. All the visual elements pay homage to Houston and Buffalo Bayou: an art car\, a margarita glass\, egret\, running shoe\, and more! \nBBP is excited to continue these arts workshops beginning Saturday\, August 1 through Friday\, August 14 with local artists taking the lead! \nWorkshops are free\, all materials are provided\, and no experience is required. Kids (ages 9 and up) working with an adult are welcome! Different techniques and tasks will take place each day (i.e.\, building the structure out of bamboo and rattan\, papier-mâché\, and adding color) as the collective work progresses. View photos from June’s art workshops here. \nSign up to volunteer at one (or more) art workshops! \nSaturday\, August 1 (9 – 11 am; 11 am – 2 pm; 2 – 5 pm)\nSunday\, August 2 (11 am – 2 pm; 2 – 5 pm)\nTuesday\, August 4 (2 – 5 pm; 5 – 8 pm)\nWednesday\, August 5 (2 – 5 pm; 5 – 8 pm)\nThursday\, August 6 (2 – 5 pm; 5 – 8 pm)\nFriday\, August 7 (2 – 5 pm; 5 – 8 pm)\nSaturday\, August 8 (11 am – 2 pm; 2 – 5 pm)\nSunday\, August 9 (11 am – 2 pm; 2 – 5 pm)\nTuesday\, August 11 (2 – 5 pm; 5 – 8 pm)\nWednesday\, August 12 (2 – 5 pm; 5 – 8 pm)\nThursday\, August 13 (2 – 5 pm; 5 – 8 pm)\nFriday\, August 14 (2 – 5 pm; 5 – 8 pm) \n  \n\nAbout Confluence: A Journey in Five Movements \n22 Bayous fan across Houston\, converging lines that link neighborhoods\, histories\, ecosystems\, and cultures – several gravitating toward the common arterial space of Buffalo Bayou. On October 3\, we will gather to celebrate the restoration and re-imagining of Buffalo Bayou Park as multiple illuminated processions come together one-by-one along its storied banks. The final performance takes place in Buffalo Bayou Park between Carruth Bridge at the Houston Police Officers’ Memorial and Sabine Street Bridge. Confluence reflects upon a waterway and a city in perpetual motion – of bats\, boats\, bicyclists. As distinct “streams” of marchers come together from throughout the park\, the growing procession will embody a place where the converging diversity of Houston flows into the shared space of Buffalo Bayou Park. \nSign Up for a Shift
URL:https://www.buffalobayou.org/event/art-workshops-bbpark/
LOCATION:RSH-in-thicket
CATEGORIES:Free Event,Volunteer Opportunity
ATTACH;FMTTYPE=image/jpeg:https://www.buffalobayou.org/wp-content/uploads/2023/04/1077315_701408153318907_117609202763565892_o-1.jpg
END:VEVENT
END:VCALENDAR