BEGIN:VCALENDAR
VERSION:2.0
PRODID:-//Buffalo Bayou Partnership - ECPv6.15.20//NONSGML v1.0//EN
CALSCALE:GREGORIAN
METHOD:PUBLISH
X-ORIGINAL-URL:https://www.buffalobayou.org
X-WR-CALDESC:Events for Buffalo Bayou Partnership
REFRESH-INTERVAL;VALUE=DURATION:PT1H
X-Robots-Tag:noindex
X-PUBLISHED-TTL:PT1H
BEGIN:VTIMEZONE
TZID:America/Chicago
BEGIN:DAYLIGHT
TZOFFSETFROM:-0600
TZOFFSETTO:-0500
TZNAME:CDT
DTSTART:20140309T080000
END:DAYLIGHT
BEGIN:STANDARD
TZOFFSETFROM:-0500
TZOFFSETTO:-0600
TZNAME:CST
DTSTART:20141102T070000
END:STANDARD
BEGIN:DAYLIGHT
TZOFFSETFROM:-0600
TZOFFSETTO:-0500
TZNAME:CDT
DTSTART:20150308T080000
END:DAYLIGHT
BEGIN:STANDARD
TZOFFSETFROM:-0500
TZOFFSETTO:-0600
TZNAME:CST
DTSTART:20151101T070000
END:STANDARD
BEGIN:DAYLIGHT
TZOFFSETFROM:-0600
TZOFFSETTO:-0500
TZNAME:CDT
DTSTART:20160313T080000
END:DAYLIGHT
BEGIN:STANDARD
TZOFFSETFROM:-0500
TZOFFSETTO:-0600
TZNAME:CST
DTSTART:20161106T070000
END:STANDARD
END:VTIMEZONE
BEGIN:VEVENT
DTSTART;TZID=America/Chicago:20151003T133000
DTEND;TZID=America/Chicago:20151003T213000
DTSTAMP:20260419T111650
CREATED:20150331T221502Z
LAST-MODIFIED:20150331T221502Z
UID:10001781-1443879000-1443907800@www.buffalobayou.org
SUMMARY:Buffalo Bayou Park's Grand Opening
DESCRIPTION:[button url=”http://buffalobayou.org/wp-content/uploads/2015/03/BBP-Grand-Opening.pdf”]Download Event Map[/button] \n  \n \nCome celebrate\, recreate and create at the Grand Opening of Buffalo Bayou Park on Saturday\, October 3. For this FREE public event\, BBP will highlight various destinations and amenities in the 160-acre park that stretches from Shepherd Drive to Sabine Street. Enjoy a day full of activities ranging from walking tours\, lectures\, children’s crafts\, recreational opportunities\, delicious food\, live music and programming that will showcase Houston’s diverse arts community. The celebration will conclude with Confluence: A Journey in Five Movements\, a site-specific illuminated procession designed by Processional Arts Workshop (PAW) of New York with fireworks following! \nBuffalo Bayou Park is handicapped accessible\, including trails and visitor centers. \n__________________________________________________________ \nOther Experiences \n– Check out our sponsors located at The Water Works and Eleanor Tinsley Park to learn more about their offerings and snag some freebies!\n– We are so excited to officially “launch” paddle craft rentals from Bayou City Adventures (Lost Lake and Sabine Promenade) and bike rentals from Bike Barn (The Water Works).\n– Don’t forget free pontoon boat rides on Spirit of the Bayou from 1:30 to 4 pm at Sabine Promenade. Limited seating.\n– Tag your photos with #BuffaloBayouPark or @buffalobayou \n__________________________________________________________ \nVolunteer Opportunities \nBuffalo Bayou Partnership is also looking for event volunteers and processional volunteers to help at our grand opening. There are a variety of shift times and duties available. Volunteers must be at least 18 years old to participate. Sign up to volunteer! \nIf you have a group interested in volunteering on October 3\, please contact Crystal Ortiz at cortiz@buffalobayou.org. \n__________________________________________________________ \nEvent Parking \nWe strongly recommend using alternative transportation to get to the park. Walk or ride your bike and park it in BikeHouston’s bike valet (located at Sabine Street and Allen Parkway) and receive a free bike bell. Or ride the METRO Bus or Rail. \nSpecial thanks to our parking sponsor\, Winpark. Park your vehicle at the 1100 Smith Parking Garage for $10 per vehicle. \n \nAdditional parking options in downtown include 401 Franklin St.\, City Lot H\, Theatre District Parking Garages or use the Downtown Houston Interactive Parking Map. Parking fees may apply. \nStreet Closures – Saturday\, October 3 \n10:00 am – 10:30 pm:\n– Allen Parkway outbound between Bagby and Taft Street\n– Sabine Street between Allen Parkway and Memorial Drive\n– Allen Parkway exit ramp from I-45 North and South \n12:00 pm – 10:30 pm:\n– Allen Parkway outbound between Taft Street and Waugh Drive \n__________________________________________________________ \nPark Rules and Regulations \nTo ensure a safe and fun event\, and to protect Buffalo Bayou Park: \n– No glass containers or alcohol allowed in the park. Food and beverage will be available for purchase onsite through approved vendors and in approved areas.\n– No umbrellas\, weapons\, unauthorized vending\, sales\, solicitations\, or promotions.\n– Please walk your bicycle along the hike/bike trails when approaching larger crowds.\n– Smoking is prohibited in all City of Houston parks.\n– Do not disturb wildlife or plantings.\n– Please keep out of fountains and cascades.\n– Read on for a full list of Buffalo Bayou Park Rules and Regulations. \nSign up to volunteer!
URL:https://www.buffalobayou.org/event/bbpark-grand-opening/
LOCATION:bird-grasshopper
CATEGORIES:Free Event,Volunteer Opportunity
ATTACH;FMTTYPE=image/jpeg:https://www.buffalobayou.org/wp-content/uploads/2023/04/Buffalo-Bayou-Grand-Opening_rev960x300.jpg
END:VEVENT
END:VCALENDAR