BEGIN:VCALENDAR
VERSION:2.0
PRODID:-//Buffalo Bayou Partnership - ECPv6.15.20//NONSGML v1.0//EN
CALSCALE:GREGORIAN
METHOD:PUBLISH
X-WR-CALNAME:Buffalo Bayou Partnership
X-ORIGINAL-URL:https://www.buffalobayou.org
X-WR-CALDESC:Events for Buffalo Bayou Partnership
REFRESH-INTERVAL;VALUE=DURATION:PT1H
X-Robots-Tag:noindex
X-PUBLISHED-TTL:PT1H
BEGIN:VTIMEZONE
TZID:America/Chicago
BEGIN:DAYLIGHT
TZOFFSETFROM:-0600
TZOFFSETTO:-0500
TZNAME:CDT
DTSTART:20140309T080000
END:DAYLIGHT
BEGIN:STANDARD
TZOFFSETFROM:-0500
TZOFFSETTO:-0600
TZNAME:CST
DTSTART:20141102T070000
END:STANDARD
BEGIN:DAYLIGHT
TZOFFSETFROM:-0600
TZOFFSETTO:-0500
TZNAME:CDT
DTSTART:20150308T080000
END:DAYLIGHT
BEGIN:STANDARD
TZOFFSETFROM:-0500
TZOFFSETTO:-0600
TZNAME:CST
DTSTART:20151101T070000
END:STANDARD
BEGIN:DAYLIGHT
TZOFFSETFROM:-0600
TZOFFSETTO:-0500
TZNAME:CDT
DTSTART:20160313T080000
END:DAYLIGHT
BEGIN:STANDARD
TZOFFSETFROM:-0500
TZOFFSETTO:-0600
TZNAME:CST
DTSTART:20161106T070000
END:STANDARD
END:VTIMEZONE
BEGIN:VEVENT
DTSTART;TZID=America/Chicago:20150926T090000
DTEND;TZID=America/Chicago:20150926T120000
DTSTAMP:20260421T020202
CREATED:20150729T010703Z
LAST-MODIFIED:20150729T010703Z
UID:10001786-1443258000-1443268800@www.buffalobayou.org
SUMMARY:Buffalo Bayou Park Community Clean Up
DESCRIPTION:Join Buffalo Bayou Partnership (BBP) and REI for a community-wide volunteer day to beautify Buffalo Bayou Park! This 160-acre park that stretches from Shepherd Drive to Sabine Street offers beautiful scenery and skyline views\, artwork\, a children’s nature play area\, the “go-to” dog park in the city\, hike and bike trails\, and gathering places for visitors to enjoy outdoor activities as well as live\, artistic performances. \nVolunteers\, ages 9 and up\, will help with trash pick-up\, mulching and weed removal. Please bring your own work gloves – all other necessary work tools will be provided by BBP. Snacks and a limited supply of REI and BBP t-shirts will be provided. \nParking is available at City Lot H (1643 Memorial Drive) and you can walk to Eleanor Tinsley Park by taking Sabine Street Bridge to Allen Parkway. \nYou will check-in with a BBP representative\, sign a waiver\, and receive your volunteer assignment at the Nau Family Pavilion overlooking Eleanor Tinsley Park. \nQuestions? Contact Crystal Ortiz\, Volunteer Supervisor\, at cortiz@buffalobayou.org or 713-752-0314 ext. 206.
URL:https://www.buffalobayou.org/event/buffalo-bayou-park-community-clean-up/
LOCATION:Homey
CATEGORIES:Free Event,Volunteer Opportunity
ATTACH;FMTTYPE=image/jpeg:https://www.buffalobayou.org/wp-content/uploads/2023/04/BBP_016.jpg
END:VEVENT
END:VCALENDAR