BEGIN:VCALENDAR
VERSION:2.0
PRODID:-//Buffalo Bayou Partnership - ECPv6.15.20//NONSGML v1.0//EN
CALSCALE:GREGORIAN
METHOD:PUBLISH
X-WR-CALNAME:Buffalo Bayou Partnership
X-ORIGINAL-URL:https://www.buffalobayou.org
X-WR-CALDESC:Events for Buffalo Bayou Partnership
REFRESH-INTERVAL;VALUE=DURATION:PT1H
X-Robots-Tag:noindex
X-PUBLISHED-TTL:PT1H
BEGIN:VTIMEZONE
TZID:UTC
BEGIN:STANDARD
TZOFFSETFROM:+0000
TZOFFSETTO:+0000
TZNAME:UTC
DTSTART:20250101T000000
END:STANDARD
END:VTIMEZONE
BEGIN:VEVENT
DTSTART;TZID=UTC:20260815T191500
DTEND;TZID=UTC:20260815T210000
DTSTAMP:20260423T042234
CREATED:20260422T210524Z
LAST-MODIFIED:20260422T210818Z
UID:10004135-1786821300-1786827600@www.buffalobayou.org
SUMMARY:Bikes & Bats
DESCRIPTION:Join Buffalo Bayou Partnership and BikeHouston for a batty good time with a bike ride to the Waugh Bridge Bat Colony! \nBring your bike for an evening ride along Buffalo Bayou to the Waugh Drive Bridge\, where you’ll witness an unforgettable sight—more than 250\,000 Mexican free-tailed bats emerging at sunset. Along the way\, bat expert DeAndra Ramsey will share insights about these fascinating and important creatures—affectionately known as “sky puppies.” Spots are limited\, so reserve yours today! \nCost\n$10 \nDuration\n2 hours / 3 miles \nMeeting Location\nThe Water Works in Buffalo Bayou Park (105-B Sabine St) \nTICKETS
URL:https://www.buffalobayou.org/event/2026-bikes-and-bats-2-2/
LOCATION:THE WATER WORKS\, 105 Sabine Street\, Houston\, TX\, 77007\, United States
CATEGORIES:Bat Colony Tours,Bike Tour,Nature Event
ATTACH;FMTTYPE=image/jpeg:https://www.buffalobayou.org/wp-content/uploads/2023/04/bats.jpg
END:VEVENT
END:VCALENDAR