BEGIN:VCALENDAR
VERSION:2.0
PRODID:-//Buffalo Bayou Partnership - ECPv6.15.20//NONSGML v1.0//EN
CALSCALE:GREGORIAN
METHOD:PUBLISH
X-WR-CALNAME:Buffalo Bayou Partnership
X-ORIGINAL-URL:https://www.buffalobayou.org
X-WR-CALDESC:Events for Buffalo Bayou Partnership
REFRESH-INTERVAL;VALUE=DURATION:PT1H
X-Robots-Tag:noindex
X-PUBLISHED-TTL:PT1H
BEGIN:VTIMEZONE
TZID:UTC
BEGIN:STANDARD
TZOFFSETFROM:+0000
TZOFFSETTO:+0000
TZNAME:UTC
DTSTART:20240101T000000
END:STANDARD
END:VTIMEZONE
BEGIN:VEVENT
DTSTART;TZID=UTC:20250402T113000
DTEND;TZID=UTC:20250402T200000
DTSTAMP:20260419T184119
CREATED:20250303T152537Z
LAST-MODIFIED:20250320T155454Z
UID:10003719-1743593400-1743624000@www.buffalobayou.org
SUMMARY:National Walking Day Wellness Walk
DESCRIPTION:April 2 is National Walking Day! Join the movement toward a healthier lifestyle with free Wellness Walks led by Laura Conely\, founder of Urban Paths. Anyone and everyone are invited to walk the paths along Buffalo Bayou and downtown with fellow nature enthusiasts and enjoy the benefits of movement\, connection\, and the outdoors. Each walk is 90 minutes long and will cover approximately 3 miles. Learn more about National Walking Day Houston. \nCost\nFree \nDuration\n90 minutes / 3 miles \nWalk Schedule \n\n11:30am – 1pm: Meet at downtown Allen’s Landing (1019 Commerce St.)\n6:30 – 8pm: Meet at The Water Works in Buffalo Bayou Park (105-B Sabine St)\n\n  \nFREE REGISTRATION
URL:https://www.buffalobayou.org/event/national-walking-day-wellness-walk/
LOCATION:ALLEN’S LANDING\, 1001 Commerce Street\, Houston\, TX\, 77002\, United States
CATEGORIES:Walking Tour,Wellness
ATTACH;FMTTYPE=image/jpeg:https://www.buffalobayou.org/wp-content/uploads/2023/02/Mask-Group-110.jpg
END:VEVENT
BEGIN:VEVENT
DTSTART;TZID=UTC:20250409T183000
DTEND;TZID=UTC:20250409T200000
DTSTAMP:20260419T184119
CREATED:20250206T203946Z
LAST-MODIFIED:20250409T194550Z
UID:10003720-1744223400-1744228800@www.buffalobayou.org
SUMMARY:Buffalo Bayou Park Wellness Walk
DESCRIPTION:Join Buffalo Bayou Partnership\, with support from AARP\, on a free Wellness Walk led by Laura Conely\, founder of Urban Paths. Anyone and everyone is invited to walk through the paths of Buffalo Bayou Park while discussing topics including mental and physical health as well as the benefits of being exposed to nature. \nEn Español\nEl primer miércoles de cada mes\, la traductora Marcella Cabrera se unirá al grupo para ofrecer la caminata guiada en español. \nCost\nFree \nDuration\n90 minutes / 3 miles \nMeeting Location\nThe Water Works in Buffalo Bayou Park (105-B Sabine St) \nFREE REGISTRATION
URL:https://www.buffalobayou.org/event/buffalo-bayou-park-wellness-walk-66/
LOCATION:THE WATER WORKS\, 105 Sabine Street\, Houston\, TX\, 77007\, United States
CATEGORIES:Walking Tour,Wellness
ATTACH;FMTTYPE=image/jpeg:https://www.buffalobayou.org/wp-content/uploads/2024/09/Buffalo-Bayou-Park_Summer-Series-Butterfly-Nature-Walk_5.18.2024_Photographer-Melissa-Taylor-115-scaled.jpg
END:VEVENT
BEGIN:VEVENT
DTSTART;TZID=UTC:20250416T183000
DTEND;TZID=UTC:20250416T200000
DTSTAMP:20260419T184119
CREATED:20250206T204000Z
LAST-MODIFIED:20250409T194535Z
UID:10003721-1744828200-1744833600@www.buffalobayou.org
SUMMARY:Buffalo Bayou Park Wellness Walk
DESCRIPTION:Join Buffalo Bayou Partnership\, with support from AARP\, on a free Wellness Walk led by Laura Conely\, founder of Urban Paths. Anyone and everyone is invited to walk through the paths of Buffalo Bayou Park while discussing topics including mental and physical health as well as the benefits of being exposed to nature. \nEn Español\nEl primer miércoles de cada mes\, la traductora Marcella Cabrera se unirá al grupo para ofrecer la caminata guiada en español. \nCost\nFree \nDuration\n90 minutes / 3 miles \nMeeting Location\nThe Water Works in Buffalo Bayou Park (105-B Sabine St) \nFREE REGISTRATION
URL:https://www.buffalobayou.org/event/buffalo-bayou-park-wellness-walk-67/
LOCATION:THE WATER WORKS\, 105 Sabine Street\, Houston\, TX\, 77007\, United States
CATEGORIES:Walking Tour,Wellness
ATTACH;FMTTYPE=image/jpeg:https://www.buffalobayou.org/wp-content/uploads/2024/09/Buffalo-Bayou-Park_Summer-Series-Butterfly-Nature-Walk_5.18.2024_Photographer-Melissa-Taylor-115-scaled.jpg
END:VEVENT
BEGIN:VEVENT
DTSTART;TZID=UTC:20250423T183000
DTEND;TZID=UTC:20250423T200000
DTSTAMP:20260419T184119
CREATED:20250206T204020Z
LAST-MODIFIED:20250409T194631Z
UID:10003722-1745433000-1745438400@www.buffalobayou.org
SUMMARY:Buffalo Bayou Park Wellness Walk
DESCRIPTION:Join Buffalo Bayou Partnership\, with support from AARP\, on a free Wellness Walk led by Laura Conely\, founder of Urban Paths. Anyone and everyone is invited to walk through the paths of Buffalo Bayou Park while discussing topics including mental and physical health as well as the benefits of being exposed to nature. \nEn Español\nEl primer miércoles de cada mes\, la traductora Marcella Cabrera se unirá al grupo para ofrecer la caminata guiada en español. \nCost\nFree \nDuration\n90 minutes / 3 miles \nMeeting Location\nThe Water Works in Buffalo Bayou Park (105-B Sabine St) \nFREE REGISTRATION
URL:https://www.buffalobayou.org/event/buffalo-bayou-park-wellness-walk-68/
LOCATION:THE WATER WORKS\, 105 Sabine Street\, Houston\, TX\, 77007\, United States
CATEGORIES:Walking Tour,Wellness
ATTACH;FMTTYPE=image/jpeg:https://www.buffalobayou.org/wp-content/uploads/2024/09/Buffalo-Bayou-Park_Summer-Series-Butterfly-Nature-Walk_5.18.2024_Photographer-Melissa-Taylor-115-scaled.jpg
END:VEVENT
BEGIN:VEVENT
DTSTART;TZID=UTC:20250430T183000
DTEND;TZID=UTC:20250430T200000
DTSTAMP:20260419T184119
CREATED:20250206T204034Z
LAST-MODIFIED:20250409T194338Z
UID:10003723-1746037800-1746043200@www.buffalobayou.org
SUMMARY:Buffalo Bayou Park Wellness Walk
DESCRIPTION:Join Buffalo Bayou Partnership\, with support from AARP\, on a free Wellness Walk led by Laura Conely\, founder of Urban Paths. Anyone and everyone is invited to walk through the paths of Buffalo Bayou Park while discussing topics including mental and physical health as well as the benefits of being exposed to nature. \nEn Español\nEl primer miércoles de cada mes\, la traductora Marcella Cabrera se unirá al grupo para ofrecer la caminata guiada en español. \nCost\nFree \nDuration\n90 minutes / 3 miles \nMeeting Location\nThe Water Works in Buffalo Bayou Park (105-B Sabine St) \nFREE REGISTRATION
URL:https://www.buffalobayou.org/event/buffalo-bayou-park-wellness-walk-69/
LOCATION:THE WATER WORKS\, 105 Sabine Street\, Houston\, TX\, 77007\, United States
CATEGORIES:Walking Tour,Wellness
ATTACH;FMTTYPE=image/jpeg:https://www.buffalobayou.org/wp-content/uploads/2024/09/Buffalo-Bayou-Park_Summer-Series-Butterfly-Nature-Walk_5.18.2024_Photographer-Melissa-Taylor-115-scaled.jpg
END:VEVENT
END:VCALENDAR