BEGIN:VCALENDAR
VERSION:2.0
PRODID:-//Buffalo Bayou Partnership - ECPv6.15.20//NONSGML v1.0//EN
CALSCALE:GREGORIAN
METHOD:PUBLISH
X-WR-CALNAME:Buffalo Bayou Partnership
X-ORIGINAL-URL:https://www.buffalobayou.org
X-WR-CALDESC:Events for Buffalo Bayou Partnership
REFRESH-INTERVAL;VALUE=DURATION:PT1H
X-Robots-Tag:noindex
X-PUBLISHED-TTL:PT1H
BEGIN:VTIMEZONE
TZID:UTC
BEGIN:STANDARD
TZOFFSETFROM:+0000
TZOFFSETTO:+0000
TZNAME:UTC
DTSTART:20220101T000000
END:STANDARD
END:VTIMEZONE
BEGIN:VTIMEZONE
TZID:America/Chicago
BEGIN:DAYLIGHT
TZOFFSETFROM:-0600
TZOFFSETTO:-0500
TZNAME:CDT
DTSTART:20170312T080000
END:DAYLIGHT
BEGIN:STANDARD
TZOFFSETFROM:-0500
TZOFFSETTO:-0600
TZNAME:CST
DTSTART:20171105T070000
END:STANDARD
BEGIN:DAYLIGHT
TZOFFSETFROM:-0600
TZOFFSETTO:-0500
TZNAME:CDT
DTSTART:20180311T080000
END:DAYLIGHT
BEGIN:STANDARD
TZOFFSETFROM:-0500
TZOFFSETTO:-0600
TZNAME:CST
DTSTART:20181104T070000
END:STANDARD
BEGIN:DAYLIGHT
TZOFFSETFROM:-0600
TZOFFSETTO:-0500
TZNAME:CDT
DTSTART:20190310T080000
END:DAYLIGHT
BEGIN:STANDARD
TZOFFSETFROM:-0500
TZOFFSETTO:-0600
TZNAME:CST
DTSTART:20191103T070000
END:STANDARD
BEGIN:DAYLIGHT
TZOFFSETFROM:-0600
TZOFFSETTO:-0500
TZNAME:CDT
DTSTART:20200308T080000
END:DAYLIGHT
BEGIN:STANDARD
TZOFFSETFROM:-0500
TZOFFSETTO:-0600
TZNAME:CST
DTSTART:20201101T070000
END:STANDARD
BEGIN:DAYLIGHT
TZOFFSETFROM:-0600
TZOFFSETTO:-0500
TZNAME:CDT
DTSTART:20210314T080000
END:DAYLIGHT
BEGIN:STANDARD
TZOFFSETFROM:-0500
TZOFFSETTO:-0600
TZNAME:CST
DTSTART:20211107T070000
END:STANDARD
BEGIN:DAYLIGHT
TZOFFSETFROM:-0600
TZOFFSETTO:-0500
TZNAME:CDT
DTSTART:20220313T080000
END:DAYLIGHT
BEGIN:STANDARD
TZOFFSETFROM:-0500
TZOFFSETTO:-0600
TZNAME:CST
DTSTART:20221106T070000
END:STANDARD
BEGIN:DAYLIGHT
TZOFFSETFROM:-0600
TZOFFSETTO:-0500
TZNAME:CDT
DTSTART:20230312T080000
END:DAYLIGHT
BEGIN:STANDARD
TZOFFSETFROM:-0500
TZOFFSETTO:-0600
TZNAME:CST
DTSTART:20231105T070000
END:STANDARD
END:VTIMEZONE
BEGIN:VEVENT
DTSTART;TZID=UTC:20251019T110000
DTEND;TZID=UTC:20251019T150000
DTSTAMP:20260424T151748
CREATED:20250909T163317Z
LAST-MODIFIED:20251015T200657Z
UID:10003990-1760871600-1760886000@www.buffalobayou.org
SUMMARY:2025 KBR Día de los Niños
DESCRIPTION:KBR Kids Day es un evento anual gratuito para toda la comunidad. Miles de niños y sus familias se reunirán en The Water Works en Buffalo Bayou Park para disfrutar de un día completo de diversión con actividades emocionantes para todas las edades. ¡Este año celebraremos el décimo aniversario de Buffalo Bayou Park! \nREGISTRACIÓN GRATUITA  \nINGLÉS \n  \nLo que debes saber\nComida y bebidas estarán disponibles para su compra en el evento.\n¡Se anima a usar disfraces de Halloween!\nEstacionamiento gratuito ubicado al otro lado de la calle en el lote H (1643 Memorial Dr.) \n  \nKBR Día de los Niños\, actividades\n\nActividades prácticas en la naturaleza\nPinta caritas\nCaminatas por la naturaleza\nEspectáculos de música y baile\nShow de aves rapaces\nDesfile de disfraces de Halloween\nObservación de animales silvestres\n¡Y más por venir!\n\n  \nHorario de actuaciones\n10am: Paseo familiar en bicicleta en grupo\n11am: Reconocimiento a la Tierra con Deer Moon Sis*Stars y Danza Azteca con Calmecac Tonantzin Yolilitzyotl\n11:20am: Houston Public Library – La hora del cuento: “This is the Tree We Planted”\n11:35am: Show de aves rapaces\n12:20pm: Desfile de disfraces de Halloween\n12:45pm: Show de Winners Circle Breakdance\n1pm: Caminata de celebración con Urban Paths – juntarse en la carpa de BBP\n1:15pm: Dance of Asian American\n1:40: Compania Folklorica Alegria Mexicana\n2pm: Segundo Barrio Children’s Chorus\n2:15pm: Show de aves rapaces \n  \nCompañeros\nAmerican Festival for the Arts\nArchaeology Now\nBarrio Dogs Inc.\nBe SMART for Kids\nBike Freedom Academy\nCity of Houston Floodplain Management Office\nCreators Worldwide\nDreamland Entertainment\nFriends of the Brazoria National Wildlife Refuges\nHouston Area Bat Team\nHouston Grand Opera\nHouston Public Library\nHouston Museum of Natural Science\nHouston Toy Museum\nHouston Zoo\nNative Plant Society of Houston\nNature Discovery Center\nTexas Tim Webb\nTrust CHW Organization\nUrban Paths\nUSFWS Jocelyn Nungaray National Wildlife Refuge\nWEAR – Wildlife and Environmental Advocacy and Relief\nYoung Audiences of Houston \n  \nVendedores de comida y bebidas\nBahama Bucks\nIt’s A Wrap\nMi Patio\nPaleteria El Pibe\nVolando Coffee \n  \nOportunidades de voluntariado\n8:30 – 11am: Set-up\n11am – 1pm: Pumpkin Patch A\n11am – 1pm: Young Audiences A\n1pm – 3pm: Pumpkin Patch B\n1pm – 3pm: Young Audiences B\n1:15 – 1:45pm: Birthday Walk with Urban Paths\n3 – 4:30pm: Tear Down \nSE VOLUNTARIO \n  \nApoyo generoso proporcionado por: \n\n  \n  \nBuffalo Bayou Partnership es
URL:https://www.buffalobayou.org/event/2025-kbr-dia-del-los-ninos/
LOCATION:THE WATER WORKS\, 105 Sabine Street\, Houston\, TX\, 77007\, United States
CATEGORIES:En español,Events at Buffalo Bayou Park,Free Event,Kids Day
ATTACH;FMTTYPE=image/png:https://www.buffalobayou.org/wp-content/uploads/2025/06/2024-KBR-KIDS-DAY-BBP.png
END:VEVENT
BEGIN:VEVENT
DTSTART;TZID=UTC:20251019T110000
DTEND;TZID=UTC:20251019T150000
DTSTAMP:20260424T151748
CREATED:20250624T215909Z
LAST-MODIFIED:20251015T200609Z
UID:10003911-1760871600-1760886000@www.buffalobayou.org
SUMMARY:2025 KBR Kids Day
DESCRIPTION:KBR Kids Day is a free annual event for the entire community. Thousands of children and their families will gather at The Water Works in Buffalo Bayou Park to experience a full day of fun with exciting activities for all ages. This year\, we will be celebrating the 10-year anniversary of Buffalo Bayou Park! \nFREE REGISTRATION  \nESPAÑOL \n  \nWhat to Know\nFood and drinks will be available for purchase on-site.\nHalloween costumes are encouraged!\nFree parking located across the street at Lot H (1643 Memorial Dr.) \n  \nKBR Kids Day activities include\n\nHands-on nature activities\nFace painting\nGuided walking tours\nMusic and dance performances\nBirds of prey show\nHalloween costume parade\nWildlife encounters\nAnd more to come!\n\n  \nPerformance Schedule\n10am: Family Bicycle Group Ride\n11am: Land Acknowledgement with Deer Moon Sis*Stars and Danza Azteca with Calmecac Tonantzin Yolilitzyotl\n11:20am: Houston Public Library Storytime: “This is the Tree we Planted”\n11:35am: Birds of Prey Show\n12:20pm: Halloween Costume Parade\n12:45pm: The Winners Circle Breakdance Show\n1pm: Birthday Walk with Urban Paths – Meet at the BBP Tent\n1:15pm: Dance of Asian American\n1:40pm: Compania Folklorica Alegria Mexicana\n2pm: Segundo Barrio Children’s Chorus\n2:15pm: Birds of Prey Show \n  \nPartners\nAmerican Festival for the Arts\nArchaeology Now\nBarrio Dogs Inc.\nBe SMART for Kids\nBike Freedom Academy\nCity of Houston Floodplain Management Office\nCreators Worldwide\nDreamland Entertainment\nFriends of the Brazoria National Wildlife Refuges\nHouston Area Bat Team\nHouston Grand Opera\nHouston Public Library\nHouston Museum of Natural Science\nHouston Toy Museum\nHouston Zoo\nNative Plant Society of Houston\nNature Discovery Center\nTexas Tim Webb\nTrust CHW Organization\nUrban Paths\nUSFWS Jocelyn Nungaray National Wildlife Refuge\nWEAR – Wildlife and Environmental Advocacy and Relief\nYoung Audiences of Houston \n  \nFood and Drink Vendors\nBahama Bucks\nIt’s A Wrap\nMi Patio\nPaleteria El Pibe\nVolando Coffee \n  \nVolunteer Opportunities\n8:30 – 11am: Set-up\n11am – 1pm: Pumpkin Patch A\n11am – 1pm: Young Audiences A\n1pm – 3pm: Pumpkin Patch B\n1pm – 3pm: Young Audiences B\n1:15 – 1:45pm: Birthday Walk with Urban Paths\n3 – 4:30pm: Tear Down \nVOLUNTEER WITH US \n  \n  \nGenerous support provided by: \n \n  \n\nBuffalo Bayou Partnership is
URL:https://www.buffalobayou.org/event/2025-kbr-kids-day/
LOCATION:THE WATER WORKS\, 105 Sabine Street\, Houston\, TX\, 77007\, United States
CATEGORIES:Events at Buffalo Bayou Park,Free Event,Kids Day
ATTACH;FMTTYPE=image/png:https://www.buffalobayou.org/wp-content/uploads/2025/06/2024-KBR-KIDS-DAY-BBP.png
END:VEVENT
BEGIN:VEVENT
DTSTART;TZID=UTC:20241019T110000
DTEND;TZID=UTC:20241019T150000
DTSTAMP:20260424T151748
CREATED:20240730T172810Z
LAST-MODIFIED:20241018T193245Z
UID:10003505-1729335600-1729350000@www.buffalobayou.org
SUMMARY:2024 KBR Kids Day & Tony Marron Park Send-Off
DESCRIPTION:KBR Kids Day is a free annual event for the entire community. Thousands of children and their families will gather at Tony Marron Park in the Buffalo Bayou East to experience a full day of fun with exciting activities for all ages. This year\, we have a special ground-breaking activity as we bid a temporary farewell to Tony Marron Park before it begins construction in late 2024. Bring your shovels and sand toys to help us move soil! \nKBR Kids Day activities include: \n\nHands-on nature activities\nPumpkin patch and carving by local artists\nRock climbing wall\nLarger-than-life bubbles\nScavenger hunt\nFace painting\nInvasive Plant Eradication Unit\nBirding and nature walks\nMusic and dance performances\nBirds of prey show\nHalloween costume parade\nSidewalk art\nAnd more to come!\n\n  \nREGISTER \n  \nWhat To Know\nFood and drinks will be available for purchase on-site. \nHalloween costumes are encouraged! \nFree parking will be available at 4100 Clinton Drive (just east of Hirsch Street) with a complementary shuttle service to and from the event. \n \n  \n\nSchedule of Events\n11:00am: Segundo Barrio Children’s Chorus \n11:00am: Soccer match with El Centro de Corazon \n11:20am: Dance of Asian America \n11:30am: Nature and birding walking tour \n11:45am: Soccer clinic \n11:45am: Birds of prey show with Friends of the Brazoria National Wildlife Refuges \n12:30pm: Halloween costume parade \n12:30pm: Nature and birding walking tour \n1:00pm: Bollywood Dancing Stars \n1:30pm: Compania Folklorica Alegria Mexicana \n1:30pm: Nature and birding walking tour \n2:00pm: Birds of prey show with Friends of the Brazoria National Wildlife Refuges \n2:30pm: Nature and birding walking tour \n  \nPartners\nAmerican Festival for the Arts (AFA)\nArchaeology Now\nBayou-Art Bayoutorium by Henry Sanchez\nBrain Builders/The Hackett Center for Mental Health\nChildren’s Museum Houston\nCoHousing Houston\nEl Centro de Corazon\nFriends of Anahuac Refuge\nFriends of the Brazoria National Wildlife Refuges\nHouston Area Bat Team\nHouston Botanic Garden\nHouston Humane Society Wildlife Center\nHouston Museum of Natural Science\nHouston Public Library\nHouston Zoo\nInanimate Nature/United by Design\nJesse Jones Park & Nature Center (HCP3)\nNative Plant Society of Texas – Houston Chapter\nSmall Places/Finca Tres Robles\nStorytime Chalk Talk with Artist Kristi Rangel\nTexas A&M Agrilife Extension Harris County Master Gardeners\nTexas Tim\nWildlife and Environmental Advocacy and Relief-Honors in Community Health (UH)\nYoung Audiences of Houston \n  \nGenerous support provided by: \n        \n  \n        \n  \n \n  \nBuffalo Bayou Partnership is \n \n  \n\n  \n2024 KBR Dia del Niño y Despedida de el Parque Tony Marron\n11–3pm\, Parque Tony Marron \nBUFFALO BAYOU EAST\, GRATIS\, DIA DEL NIÑO\n\n\nKBR Kids Day es un evento anual gratuito para toda la comunidad. Miles de niños y sus familias se reunirán en el Parque Tony Marron en Buffalo Bayou East para tener un día completo de diversión con emocionantes actividades para todas las edades. Este año\, tenemos una actividad especial\, ya que nos despedimos temporalmente del Parque Tony Marron antes de que comience su construcción a finales de 2024. \nActividades incluyen: \n\nActividades prácticas en la naturaleza\nTallado de calabazas por artistas locales\nRocódromo\nBúsqueda del tesoro\nUnidad de Erradicación de Plantas Invasoras\nObservación de aves y caminatas por la naturaleza\nEspectáculos de música y danza\nShow de aves rapaces\nDesfile de disfraces de Halloween\n¡Y más por venir!\n\nREGISTRAR \n  \nLo Que Debe Saber\nHabrá estacionamiento gratuito en 4100 Clinton Drive (justo al este de Hirsch Street) con un servicio de transporte complementario hacia y desde el evento. \nComida y bebidas estarán disponibles para su compra en el evento. \n¡Se anima a usar disfraces de Halloween! \n  \nHorario de Actuaciones\n11:00am: Coro Infantil del Segundo Barrio \n11:00am: Juego de futbol con El Centro de Corazon \n11:20am: Baile de Asian America \n11:30am: Recorrido con naturaleza y aves \n11:45am: Clinica de futbol \n11:45am: Show de aves rapaces con Friends of the Brazoria Wildlife Refuges \n12:30pm: Desfile de disfraces de Halloween \n12:30pm: Recorrido con naturaleza y aves \n1:00pm: Bollywood Dancing Stars \n1:30pm: Compania Folklorica Alegria Mexicana \n1:30pm: Recorrido con naturaleza y aves \n2:00pm: Show de aves rapaces con Friends of the Brazoria Wildlife Refuges \n2:30pm: Recorrido con naturaleza y aves \n  \nCompañeros\nArchaeology Now\nBayou-Art Bayoutorium by Henry Sanchez\nBrain Builders/The Hackett Center for Mental Health\nChildren’s Museum Houston\nCoHousing Houston\nEl Centro de Corazon\nFriends of Anahuac Refuge\nFriends of the Brazoria National Wildlife Refuges\nHouston Area Bat Team\nHouston Botanic Garden\nHouston Humane Society Wildlife Center\nHouston Museum of Natural Science\nHouston Public Library\nHouston Zoo\nInanimate Nature/United by Design\nJesse Jones Park & Nature Center (HCP3)\nNative Plant Society of Texas – Houston Chapter\nSmall Places/Finca Tres Robles\nStorytime Chalk Talk with Artist Kristi Rangel\nTexas A&M Agrilife Extension Harris County Master Gardeners\nTexas Tim\nWildlife and Environmental Advocacy and Relief-Honors in Community Health (UH)\nYoung Audiences of Houston \n  \nApoyo generoso proporcionado por: \n        \n  \n        \n  \n \n  \nBuffalo Bayou Partnership es
URL:https://www.buffalobayou.org/event/kbr-kids-day-on-buffalo-bayou-2024/
LOCATION:TONY MARRON PARK\, 808 N. York Street\, Houston\, Texas\, 77003
CATEGORIES:Buffalo Bayou East,Free Event,Kids Day
ATTACH;FMTTYPE=image/jpeg:https://www.buffalobayou.org/wp-content/uploads/2024/07/BBP_211023_076_PhotoBy-Lawrence-Elizabeth-Knox-scaled.jpg
END:VEVENT
BEGIN:VEVENT
DTSTART;TZID=UTC:20231021T110000
DTEND;TZID=UTC:20231021T150000
DTSTAMP:20260424T151748
CREATED:20230501T125536Z
LAST-MODIFIED:20240916T161817Z
UID:10003248-1697886000-1697900400@www.buffalobayou.org
SUMMARY:2023 KBR Kids Day on Buffalo Bayou
DESCRIPTION:Kids Day is a free annual event for the entire community. Thousands of children and their families will gather at Tony Marron Park in the East End to experience a full day of fun including: \n\nHands-on nature activities\nBirds of prey show\nPumpkin painting\nRock climbing wall\nDance performances\nFace painting\nBalloon artists\nHalloween costume parade\nNature and Birding Walks\nBBP’s Bayou-Vac trash vacuum boat\n\nGet to know your park with an exploratory scavenger hunt and learn more about BBP’s plans for this beloved neighborhood gathering place. \nFree parking and shuttle service are provided to and from the event at MoonStruck Drive-in at 100 Bringhurst St\, Houston\, TX 77020 (off Clinton Drive). \n  \nRegister here \nWe’re looking for volunteers to help make Kids Day a success! Sign up here. \n  \nPerformance Schedule: \n11:00 am     Compania Folklorica Alegria Mexicana\n11:45 am     Birds of prey show with the Friends of Brazoria Wildlife Refuges\n12:30 pm     Halloween costume parade\n1:00 pm       Infused Performing Arts\n1:30 pm       Break City Youth Breakdance League\n2:00 pm       Birds of prey show with the Friends of Brazoria Wildlife Refuges \nView the  walking tours schedule. \n  \nPartners\nAnahuac National Wildlife Refuge\nBe Smart for Kids\nDreamland Entertainment\nEast End Communities\nFriends of Anahuac Refuge\nFriends of Brazoria Wildlife Refuges\nGirl Scouts of San Jacinto Council\nHarris County Master Gardener Association\nHispanic Health Coalition\nHouston Area Bat Team\nHouston Ballet\nHouston Fire Department\nHouston Public Library – Flores and Stanaker Neighborhood Library\nIncredible Events\nLatino Learning Center\nMECA\nNameless Sound\nNative Plant Society of Texas – Houston Chapter\nSecret Life of Plants\nTexas Tim Webb\nTwist It Up\nUrban Paths\nUP Art Studio\nWildlife and Environmental Advocacy and Relief\nYES Prep East End Elementary\nYoung Audiences of Houston \n  \nGenerous support provided by: \n\nInterested in joining the fun as a sponsor? Download our sponsorship package here. \n  \n 
URL:https://www.buffalobayou.org/event/kids-day-2023/
LOCATION:TONY MARRON PARK\, 808 N. York Street\, Houston\, Texas\, 77003
CATEGORIES:Kids Day
ATTACH;FMTTYPE=image/jpeg:https://www.buffalobayou.org/wp-content/uploads/2023/04/BBP_211023_022_PhotoByLawrenceElizabethKnox-scaled-e1664799499959.jpg
END:VEVENT
BEGIN:VEVENT
DTSTART;TZID=America/Chicago:20221022T110000
DTEND;TZID=America/Chicago:20221022T150000
DTSTAMP:20260424T151748
CREATED:20220610T001453Z
LAST-MODIFIED:20220610T001453Z
UID:10002885-1666436400-1666450800@www.buffalobayou.org
SUMMARY:2022 KBR Kids Day
DESCRIPTION:KBR Kids Day is one of Buffalo Bayou Partnership’s (BBP) signature events\, with thousands of children and their families in attendance each year. Join us on October 22 for free family fun at the 15th annual KBR Kids Day at Tony Marron Park. Activity stations will include numerous hands-on activities from over 20 Houston partners\, local entertainment\, and performances on the stage\, Dia de los Muertos face painters\, balloon artists\, a rock climbing wall\, and so much more! Costumes encouraged! \nFree parking and shuttle service are provided to and from the event at MoonStruck Drive-in at 100 Bringhurst St\, Houston\, TX 77020 (off Clinton Drive). \nInterested in joining the fun as a sponsor? Download our sponsorship package here. \n  \nThank you to our partners! \nAll Star Clowns\nArchaeology Now\nArtist Boat\nBarrio Dogs\nBaylor College of Medicine\nBe Smart for Kids\nCatholic Charities\nChildren’s Museum of Houston\nCoHousing Houston\, LLC\nConnectSmart\nEarth Clinic\nFriends of Anahuac Refuge\nFriends of Brazoria Wildlife Refuges\nHarris County Master Gardener Association\nHarris County Public Health Mosquito and Vector\nHispanic Health Coalition\nHouston Area Bat Team\nHouston Ballet\nHouston Fire Department\nHouston Grand Opera\nHouston Public Library\nHouston SPCA\nHouston Texans\nLatino Learning Center\nMad About Hula Hoops\nMECA\nMETRO\nRainbow Joy Books\nSpecial Events Houston – Rock Climbing Wall\nSPLASH (Stopping Plastics and Litter Along Shorelines)\nTexas Tim Webb\nTWRC Wildlife Center\nYES Prep East End Elementary\nYoung Audiences of Houston
URL:https://www.buffalobayou.org/event/2022-kbr-kids-day/
LOCATION:turkey bend breezeway 2
CATEGORIES:En español,Kids Day
ATTACH;FMTTYPE=image/jpeg:https://www.buffalobayou.org/wp-content/uploads/2023/04/BBP_211023_022_PhotoByLawrenceElizabethKnox-scaled-e1664799499959.jpg
END:VEVENT
BEGIN:VEVENT
DTSTART;TZID=America/Chicago:20211023T110000
DTEND;TZID=America/Chicago:20211023T150000
DTSTAMP:20260424T151748
CREATED:20210426T211844Z
LAST-MODIFIED:20210426T211844Z
UID:10002606-1634986800-1635001200@www.buffalobayou.org
SUMMARY:2021 KBR Kids Day
DESCRIPTION:New location this year! \nKBR Kids Day is one of Buffalo Bayou Partnership’s (BBP) signature events\, with thousands of children and their families in attendance each year. Join us on October 23 for free family fun at the 14th annual KBR Kids Day at Tony Marron Park. Activity stations will include numerous hands-on activities from over 20 Houston partners\, local entertainment\, and performances on the H-E-B stage\, Dia de los Muertos face painters\, balloon artists\, a rock climbing wall\, and so much more! Costumes encouraged! \nAdditionally\, we will also have a birds of prey show and a Halloween Costume Parade. \nFood and drinks will be available for purchase. Free parking and shuttle service are provided to and from the event at 65 Hirsch Rd. (South of Clinton Dr.). \nPerformance Schedule \n11:00am   Infused Performing Arts\n11:45am   Birds of Prey Show presented by Friends of Brazoria Wildlife Refuges\n12:00pm   The Donington Quartet\n12:30pm   Break Free Hip-Hop School\n1:00pm     Costume Parade led by H-E-B’s Buddy and dancing with One Up\n1:30pm     Ballet Folklorico (MECA)\n2:00pm     Birds of Prey Show presented by Friends of Brazoria Wildlife Refuges \n  \nThank you to our partners: \n\nAll Star Clowns\nArchaeology Now\nBarrio Dogs\nBig Thicket National Preserve – National Park Service\nCatholic Charities\nChildren’s Museum of Houston\nCoHousing Houston\, LLC\nCommunity Family Centers\nDorrington Quartet presented by the Lisle Violin Shop\nFriends of Anahuac Refuge\nFriends of Brazoria Wildlife Refuges\nHarris County Flood Control District\nHarris County Master Gardeners – Texas A&M AgriLife Extension\nHarris County Public Health\nHarris County Resources for Children and Adults\nHouston Area Bat Team\nHouston Ballet\nHouston Fire Department\nHouston Public Library – downtown Houston\nHouston Public Library – Flores Neighborhood Library\nHouston Public Library – Stanaker Neighborhood Library\nHouston Texans\nMECA\nMad About Hoops\nNameless Sound\nNewSpring\nSafe Kids Greater Houston/Texas Children’s Hospital\nSPLASH (Stopping Plastics and Litter Along Shorelines)\nTexas Tim Webb\nTwist It Up\nU.S. Army Corps of Engineers\nYoung Audiences of Houston
URL:https://www.buffalobayou.org/event/2021-kbr-kids-day/
LOCATION:turkey bend breezeway 2
CATEGORIES:Kids Day
ATTACH;FMTTYPE=image/jpeg:https://www.buffalobayou.org/wp-content/uploads/2023/04/BBPKids2017_32_LR-e1634160896481.jpg
END:VEVENT
BEGIN:VEVENT
DTSTART;TZID=America/Chicago:20191012T110000
DTEND;TZID=America/Chicago:20191012T150000
DTSTAMP:20260424T151748
CREATED:20190131T034629Z
LAST-MODIFIED:20190131T034629Z
UID:10001947-1570878000-1570892400@www.buffalobayou.org
SUMMARY:2019 KBR Kids Day
DESCRIPTION:KBR Kids Day is one of Buffalo Bayou Partnership’s (BBP) signature events\, with thousands of children and their families in attendance each year. Join us on October 12 for free family fun at the 12th annual KBR Kids Day at Guadalupe Plaza Park. Activity stations will include numerous hands-on activities from over 20 Houston partners\, local entertainment and performers\, Dia de los Muertos face painters\, balloon artists\, a rock climbing wall\, and so much more! Costumes encouraged! \nAdditionally\, we will also have a birds of prey show and a Halloween Costume Parade. \nFood and drinks will be available for purchase. \nGuadalupe Plaza Park is located at the corner of Jensen St. and Navigation Blvd. \nView photos from KBR Kids Day 2018! \n\n\n\n\n\nTexas Children’s Health Plan will be helping families apply for CHIP or Medicaid coverage KBR Kids Day. Stop by their booth and speak with an Application Specialist if you want to find out more about applying for health care coverage. Visit texaschildrenshealthplan.org/plan for a list of documents you’ll need to submit with your application. Call 1-888-559-PLAN to schedule an appointment at one of our other Application Assistance locations or for questions about the application process.
URL:https://www.buffalobayou.org/event/2019-kbr-kids-day/
LOCATION:Bat Boat Tour
CATEGORIES:Kids Day
ATTACH;FMTTYPE=image/jpeg:https://www.buffalobayou.org/wp-content/uploads/2023/04/BBPKids2017_32_LR-e1634160896481.jpg
END:VEVENT
BEGIN:VEVENT
DTSTART;TZID=America/Chicago:20181013T110000
DTEND;TZID=America/Chicago:20181013T150000
DTSTAMP:20260424T151748
CREATED:20180215T235902Z
LAST-MODIFIED:20230422T171031Z
UID:10002259-1539428400-1539442800@www.buffalobayou.org
SUMMARY:2018 KBR Kids Day
DESCRIPTION:KBR Kids Day is one of Buffalo Bayou Partnership’s (BBP) signature events\, with thousands of children and their families in attendance each year. Join us on October 13 for free family fun at the 12th annual KBR Kids Day at Guadalupe Plaza Park. Activity stations will include numerous hands-on activities from over 20 Houston partners\, local entertainment and performers\, Dia de los Muertos face painters\, balloon artists\, a rock climbing wall\, and so much more! Costumes encouraged! \nAdditionally\, we will also have a birds of prey show and a Halloween Costume Parade. \nFood and drinks will be available for purchase. \nGuadalupe Plaza Park is located at the corner of Jensen St. and Navigation Blvd. \nView photos from KBR Kids Day 2017! \n\n\nParking\nFree parking located across the street\, on the corner of Jensen St. and Navigation Blvd.\, across from Guadalupe Plaza Park. \n \n  \n  \n\n\n \n  \n \n\nPerformance Schedule:\n11am: Birds of Prey Show presented by Friends of Brazoria Wildlife Refuges \n11:40am: Break Free Hip-Hop School \n12:05pm: Sunrise International Dance Company \n12:20pm: Vietnamese Martial Art \n12:30pm: Costume Parade \n12:45pm: Houston Grand Opera – Sing! Move! Play! \n1:15pm: Anjali Center for Performing Arts \n1:45pm: Compania Folklorica Alegria Mexicana \n2:15pm: Birds of Prey Show presented by Friends of Brazoria Wildlife Refuges \n\nAdditional Activities\n1-3pm: Say hello to Texans TORO as he joins in the festivities throughout the park \n1-1:50pm: TBH presents “Bocón\,” one of the 18-19 season of plays for the program EducaTeatro “Calavera con Calavera\,” a Día de los Muertos play produced by Teatro Índigo (on the Talento Bilingue de Houston stage\, indoors) \nShare on Facebook!
URL:https://www.buffalobayou.org/event/kbr-kids-day-2018/
LOCATION:Bat Boat Tour
CATEGORIES:Free Event,Kids Day
ATTACH;FMTTYPE=image/jpeg:https://www.buffalobayou.org/wp-content/uploads/2023/04/Front-of-postcard-revised.jpg
END:VEVENT
END:VCALENDAR