BEGIN:VCALENDAR
VERSION:2.0
PRODID:-//Buffalo Bayou Partnership - ECPv6.15.20//NONSGML v1.0//EN
CALSCALE:GREGORIAN
METHOD:PUBLISH
X-WR-CALNAME:Buffalo Bayou Partnership
X-ORIGINAL-URL:https://www.buffalobayou.org
X-WR-CALDESC:Events for Buffalo Bayou Partnership
REFRESH-INTERVAL;VALUE=DURATION:PT1H
X-Robots-Tag:noindex
X-PUBLISHED-TTL:PT1H
BEGIN:VTIMEZONE
TZID:America/Chicago
BEGIN:DAYLIGHT
TZOFFSETFROM:-0600
TZOFFSETTO:-0500
TZNAME:CDT
DTSTART:20170312T080000
END:DAYLIGHT
BEGIN:STANDARD
TZOFFSETFROM:-0500
TZOFFSETTO:-0600
TZNAME:CST
DTSTART:20171105T070000
END:STANDARD
BEGIN:DAYLIGHT
TZOFFSETFROM:-0600
TZOFFSETTO:-0500
TZNAME:CDT
DTSTART:20180311T080000
END:DAYLIGHT
BEGIN:STANDARD
TZOFFSETFROM:-0500
TZOFFSETTO:-0600
TZNAME:CST
DTSTART:20181104T070000
END:STANDARD
BEGIN:DAYLIGHT
TZOFFSETFROM:-0600
TZOFFSETTO:-0500
TZNAME:CDT
DTSTART:20190310T080000
END:DAYLIGHT
BEGIN:STANDARD
TZOFFSETFROM:-0500
TZOFFSETTO:-0600
TZNAME:CST
DTSTART:20191103T070000
END:STANDARD
END:VTIMEZONE
BEGIN:VEVENT
DTSTART;TZID=America/Chicago:20181001T183000
DTEND;TZID=America/Chicago:20181001T190000
DTSTAMP:20260419T195511
CREATED:20180924T235536Z
LAST-MODIFIED:20180924T235536Z
UID:10003116-1538418600-1538420400@www.buffalobayou.org
SUMMARY:Meditation Mondays
DESCRIPTION:Buffalo Bayou Partnership introduces free Mediation Mondays at Buffalo Bayou Park every Monday\, from 6:30-7pm\, through October and November! Start your week off with intention and focus. Practice mindfulness and meditation in one of the most tranquil green spaces in all of Houston – Meditation Mondays at The Water Works in Buffalo Bayou Park led by Dana Shamas of Bayou Bliss Yoga. \nNo time to change after work? No problem! Come as you are. No certain attire required to participate. \n\nShare on Facebook!
URL:https://www.buffalobayou.org/event/meditation-mondays/
LOCATION:bird-grasshopper
CATEGORIES:Events at Buffalo Bayou Park,Free Event
END:VEVENT
BEGIN:VEVENT
DTSTART;TZID=America/Chicago:20181013T110000
DTEND;TZID=America/Chicago:20181013T150000
DTSTAMP:20260419T195511
CREATED:20180215T235902Z
LAST-MODIFIED:20230422T171031Z
UID:10002259-1539428400-1539442800@www.buffalobayou.org
SUMMARY:2018 KBR Kids Day
DESCRIPTION:KBR Kids Day is one of Buffalo Bayou Partnership’s (BBP) signature events\, with thousands of children and their families in attendance each year. Join us on October 13 for free family fun at the 12th annual KBR Kids Day at Guadalupe Plaza Park. Activity stations will include numerous hands-on activities from over 20 Houston partners\, local entertainment and performers\, Dia de los Muertos face painters\, balloon artists\, a rock climbing wall\, and so much more! Costumes encouraged! \nAdditionally\, we will also have a birds of prey show and a Halloween Costume Parade. \nFood and drinks will be available for purchase. \nGuadalupe Plaza Park is located at the corner of Jensen St. and Navigation Blvd. \nView photos from KBR Kids Day 2017! \n\n\nParking\nFree parking located across the street\, on the corner of Jensen St. and Navigation Blvd.\, across from Guadalupe Plaza Park. \n \n  \n  \n\n\n \n  \n \n\nPerformance Schedule:\n11am: Birds of Prey Show presented by Friends of Brazoria Wildlife Refuges \n11:40am: Break Free Hip-Hop School \n12:05pm: Sunrise International Dance Company \n12:20pm: Vietnamese Martial Art \n12:30pm: Costume Parade \n12:45pm: Houston Grand Opera – Sing! Move! Play! \n1:15pm: Anjali Center for Performing Arts \n1:45pm: Compania Folklorica Alegria Mexicana \n2:15pm: Birds of Prey Show presented by Friends of Brazoria Wildlife Refuges \n\nAdditional Activities\n1-3pm: Say hello to Texans TORO as he joins in the festivities throughout the park \n1-1:50pm: TBH presents “Bocón\,” one of the 18-19 season of plays for the program EducaTeatro “Calavera con Calavera\,” a Día de los Muertos play produced by Teatro Índigo (on the Talento Bilingue de Houston stage\, indoors) \nShare on Facebook!
URL:https://www.buffalobayou.org/event/kbr-kids-day-2018/
LOCATION:Bat Boat Tour
CATEGORIES:Free Event,Kids Day
ATTACH;FMTTYPE=image/jpeg:https://www.buffalobayou.org/wp-content/uploads/2023/04/Front-of-postcard-revised.jpg
END:VEVENT
BEGIN:VEVENT
DTSTART;TZID=America/Chicago:20181026T180000
DTEND;TZID=America/Chicago:20181026T200000
DTSTAMP:20260419T195511
CREATED:20181003T031843Z
LAST-MODIFIED:20181003T031843Z
UID:10003122-1540576800-1540584000@www.buffalobayou.org
SUMMARY:Emerge: Fluvial Tapestries from Hurricane Harvey Opening Reception
DESCRIPTION:Join us for an opening reception of “Emerge: Fluvial Tapestries from Hurricane Harvey” on Friday\, October 26. \nFluvial Tapestries is an art installation exhibiting and interpreting the natural effects of Hurricane Harvey on Buffalo Bayou in the form of sculptural objects\, video\, and explanatory illustrations. The work is an artistic and scientific collaboration between artist Kate Kendall\, geologist Jerry Kendall\, and their communities. \nFluvial Tapestries presents a natural narrative of Hurricane Harvey in relation to Buffalo Bayou’s water levels and the sediment deposits left after the storm. \nWhen: Friday\, October 26 from 6-8pm\nWhere: Sunset Coffee Building (1019 Commerce Street) \nBuffalo Bayou is an ever-evolving fundamental feature of Houston. It has and always will change and adapt to its surroundings. The exhibition Emerge: Fluvial Tapestries presents a natural narrative of Hurricane Harvey in relation to Buffalo Bayou’s water levels and the sediment deposits left after the storm. \nFrom October 2017 to June 2018\, a team of artists and geologists working with Buffalo Bayou Partnership and the University of Houston Department of Earth and Atmospheric Sciences collected 12 sand peels from sediment deposits left by Harvey in Buffalo Bayou Park. A sand peel is a geologic science tool used to capture and read sediment deposit patterns. These natural sand tapestries are a record of Buffalo Bayou’s reactions to Hurricane Harvey. The layers tell the story of flooding\, adjustment\, and recovery from the storm. \nThe exhibition will be on view from October 26 through November 6\, 2018 at Buffalo Bayou Partnership’s Sunset Coffee Building (weekdays from 9am-5pm and weekends from 12-4pm). \nThis project is funded in part by the City of Houston through the Houston Arts Alliance. \n\nRecycled Bottle LED Labyrinth\nAlso on view Friday October 26\, 2018\, join public artist/labyrinth builder Reginald Adams as he creates a unique LED light labyrinth using discarded plastic water bottles that have been pulled from Buffalo Bayou. \n \n  \nThe labyrinth\, an ancient pathway to prayer and meditation\, has a single circuitous path that winds its way into the center. The person walking it uses the same path to return from the center\, as the entrance then becomes the exit. The path is in full view\, which allows a person to be quiet and focus internally. \nThe labyrinth project helps bring awareness to the need for recycling in order to keep our waterways clean and free of debris and trash. \nAs you walk the path of the labyrinth we hope that you will focus on ways in which you can help keep our bayous and water systems clean and healthy for future generations.
URL:https://www.buffalobayou.org/event/emerge-fluvial-tapestries-from-hurricane-harvey-opening-reception/
LOCATION:Monthly Volunteer Day
CATEGORIES:Free Event,Special Event
END:VEVENT
END:VCALENDAR