BEGIN:VCALENDAR
VERSION:2.0
PRODID:-//Buffalo Bayou Partnership - ECPv6.15.20//NONSGML v1.0//EN
CALSCALE:GREGORIAN
METHOD:PUBLISH
X-ORIGINAL-URL:https://www.buffalobayou.org
X-WR-CALDESC:Events for Buffalo Bayou Partnership
REFRESH-INTERVAL;VALUE=DURATION:PT1H
X-Robots-Tag:noindex
X-PUBLISHED-TTL:PT1H
BEGIN:VTIMEZONE
TZID:UTC
BEGIN:STANDARD
TZOFFSETFROM:+0000
TZOFFSETTO:+0000
TZNAME:UTC
DTSTART:20220101T000000
END:STANDARD
END:VTIMEZONE
BEGIN:VEVENT
DTSTART;TZID=UTC:20230930T130000
DTEND;TZID=UTC:20230930T140000
DTSTAMP:20260420T051157
CREATED:20230912T220936Z
LAST-MODIFIED:20230912T231532Z
UID:10003325-1696078800-1696082400@www.buffalobayou.org
SUMMARY:Tour Vivencial en Español
DESCRIPTION:Excelente para los visitantes nuevos como para los que repiten\, el recorrido experiencial incluye una introducción seguida de la oportunidad de explorar la Cisterna a su propio ritmo. Se proporcionan hojas informativas digitales e impresas para todos los huéspedes. Los tours privados también están disponibles para grupos. \nTarifas \n\nPersona (9+ Años): $10\nDe Últimos Años\, Militares y Estudiantes: $8\n\n  \nPurchase Tickets
URL:https://www.buffalobayou.org/event/la-experienca-de-la-cisterna-en-espanol-3/
LOCATION:TX
CATEGORIES:Cistern,En español
ATTACH;FMTTYPE=image/jpeg:https://www.buffalobayou.org/wp-content/uploads/2023/09/BBPCistern_10_Katya-Horner-scaled.jpg
END:VEVENT
END:VCALENDAR