BEGIN:VCALENDAR
VERSION:2.0
PRODID:-//Buffalo Bayou Partnership - ECPv6.15.20//NONSGML v1.0//EN
CALSCALE:GREGORIAN
METHOD:PUBLISH
X-WR-CALNAME:Buffalo Bayou Partnership
X-ORIGINAL-URL:https://www.buffalobayou.org
X-WR-CALDESC:Events for Buffalo Bayou Partnership
REFRESH-INTERVAL;VALUE=DURATION:PT1H
X-Robots-Tag:noindex
X-PUBLISHED-TTL:PT1H
BEGIN:VTIMEZONE
TZID:America/Chicago
BEGIN:DAYLIGHT
TZOFFSETFROM:-0600
TZOFFSETTO:-0500
TZNAME:CDT
DTSTART:20220313T080000
END:DAYLIGHT
BEGIN:STANDARD
TZOFFSETFROM:-0500
TZOFFSETTO:-0600
TZNAME:CST
DTSTART:20221106T070000
END:STANDARD
BEGIN:DAYLIGHT
TZOFFSETFROM:-0600
TZOFFSETTO:-0500
TZNAME:CDT
DTSTART:20230312T080000
END:DAYLIGHT
BEGIN:STANDARD
TZOFFSETFROM:-0500
TZOFFSETTO:-0600
TZNAME:CST
DTSTART:20231105T070000
END:STANDARD
BEGIN:DAYLIGHT
TZOFFSETFROM:-0600
TZOFFSETTO:-0500
TZNAME:CDT
DTSTART:20240310T080000
END:DAYLIGHT
BEGIN:STANDARD
TZOFFSETFROM:-0500
TZOFFSETTO:-0600
TZNAME:CST
DTSTART:20241103T070000
END:STANDARD
END:VTIMEZONE
BEGIN:VEVENT
DTSTART;TZID=America/Chicago:20231101T183000
DTEND;TZID=America/Chicago:20231101T200000
DTSTAMP:20260419T190839
CREATED:20210809T203853Z
LAST-MODIFIED:20230912T232433Z
UID:10003031-1698863400-1698868800@www.buffalobayou.org
SUMMARY:Buffalo Bayou Park Wellness Walk
DESCRIPTION:Join Buffalo Bayou Partnership on a free Wellness Walk led by Laura Conely\, founder of Urban Paths. Anyone and everyone is invited to walk through the paths of Buffalo Bayou Park while discussing topics including mental and physical health as well as the benefits of being exposed to nature. \nWalk departs at 6:30pm at 105 Sabine Street and covers 3 miles in 1.5 hours. \nNEW: The first Wednesday of every month\, translator Marcella Cabrera will join the group to offer the guided walk in Spanish. \nNUEVO: El primer miércoles de cada mes\, la traductora Marcella Cabrera se unirá al grupo para ofrecer la caminata guiada en español. \nFree Registration
URL:https://www.buffalobayou.org/event/buffalo-bayou-park-wellness-walk-2023-11-01/
LOCATION:bird-grasshopper
CATEGORIES:En español,Walking Tours,Wellness
ATTACH;FMTTYPE=image/jpeg:https://www.buffalobayou.org/wp-content/uploads/2023/04/Walking-Tour-Image-2020-scaled-2.jpg
END:VEVENT
BEGIN:VEVENT
DTSTART;TZID=America/Chicago:20231104T090000
DTEND;TZID=America/Chicago:20231104T094500
DTSTAMP:20260419T190839
CREATED:20221003T181723Z
LAST-MODIFIED:20231102T204654Z
UID:10003099-1699088400-1699091100@www.buffalobayou.org
SUMMARY:Books on the Bayou / Libros sobre el Bayou
DESCRIPTION:Join us for a fun\, free story time event for infants\, toddlers\, and preschoolers (best for 6 months – 4 years) and their parents/caregivers! There will be silly stories\, rhymes\, and songs\, along with fun for the whole family! \nBooks on the Bayou will be held on the first Saturday of each month at the Barbara Fish Daniel Nature Play Area in Buffalo Bayou Park. \nCost: Free \nTime: \n· 9am – Story time in English and Spanish \nMeeting location: Barbara Fish Daniel Nature Play Area (next to The Water Works at 105 Sabine St.) \n——————- \n¡Únase a nosotros para un evento divertido y gratuito a la hora del cuento para bebés\, niños pequeños y preescolares (mejor para 6 meses a 4 años) y sus padres / cuidadores! Habrá historias\, rimas y canciones. \nBooks on the Bayou se llevará a cabo el primer sábado de cada mes en el Área de Juegos Naturales Barbara Fish Daniel en Buffalo Bayou Park. \nCosto: Gratis \nHorario: \n• 9am – Hora del cuento en inglés y español \nLugar de reunión: Barbara Fish Daniel Nature Play Area (junto a The Water Works en 105 Sabine St.) \nFree Registration / Registro Gratuito
URL:https://www.buffalobayou.org/event/books-on-the-bayou-libros-sobre-el-bayou-2023-11-04/
LOCATION:bird-grasshopper
CATEGORIES:En español,Free,Free Event
ATTACH;FMTTYPE=image/jpeg:https://www.buffalobayou.org/wp-content/uploads/2023/04/8e7e45db-e9a7-48a0-b2b6-78a7d06c755a-e1699364246162.jpeg
END:VEVENT
BEGIN:VEVENT
DTSTART;TZID=America/Chicago:20231108T183000
DTEND;TZID=America/Chicago:20231108T200000
DTSTAMP:20260419T190839
CREATED:20210809T203853Z
LAST-MODIFIED:20231102T204716Z
UID:10003032-1699468200-1699473600@www.buffalobayou.org
SUMMARY:Buffalo Bayou Park Wellness Walk
DESCRIPTION:Join Buffalo Bayou Partnership on a free Wellness Walk led by Laura Conely\, founder of Urban Paths. Anyone and everyone is invited to walk through the paths of Buffalo Bayou Park while discussing topics including mental and physical health as well as the benefits of being exposed to nature. \nWalk departs at 6:30pm at 105 Sabine Street and covers 3 miles in 1.5 hours. \nNEW: The first Wednesday of every month\, translator Marcella Cabrera will join the group to offer the guided walk in Spanish. \nNUEVO: El primer miércoles de cada mes\, la traductora Marcella Cabrera se unirá al grupo para ofrecer la caminata guiada en español. \nFree Registration
URL:https://www.buffalobayou.org/event/buffalo-bayou-park-wellness-walk-2023-11-08/
LOCATION:bird-grasshopper
CATEGORIES:En español,Walking Tours,Wellness
ATTACH;FMTTYPE=image/jpeg:https://www.buffalobayou.org/wp-content/uploads/2023/04/Walking-Tour-Image-2020-scaled-2.jpg
END:VEVENT
BEGIN:VEVENT
DTSTART;TZID=America/Chicago:20231115T183000
DTEND;TZID=America/Chicago:20231115T200000
DTSTAMP:20260419T190839
CREATED:20210809T203853Z
LAST-MODIFIED:20210809T203853Z
UID:10003033-1700073000-1700078400@www.buffalobayou.org
SUMMARY:Buffalo Bayou Park Wellness Walk
DESCRIPTION:Join Buffalo Bayou Partnership on a free Wellness Walk led by Laura Conely\, founder of Urban Paths. Anyone and everyone is invited to walk through the paths of Buffalo Bayou Park while discussing topics including mental and physical health as well as the benefits of being exposed to nature. \nWalk departs at 6:30pm at 105 Sabine Street and covers 3 miles in 1.5 hours. \nNEW: The first Wednesday of every month\, translator Marcella Cabrera will join the group to offer the guided walk in Spanish. \nNUEVO: El primer miércoles de cada mes\, la traductora Marcella Cabrera se unirá al grupo para ofrecer la caminata guiada en español. \nFree Registration
URL:https://www.buffalobayou.org/event/buffalo-bayou-park-wellness-walk-2023-11-15/
LOCATION:bird-grasshopper
CATEGORIES:En español,Walking Tours,Wellness
ATTACH;FMTTYPE=image/jpeg:https://www.buffalobayou.org/wp-content/uploads/2023/04/Walking-Tour-Image-2020-scaled-2.jpg
END:VEVENT
BEGIN:VEVENT
DTSTART;TZID=America/Chicago:20231122T183000
DTEND;TZID=America/Chicago:20231122T200000
DTSTAMP:20260419T190839
CREATED:20210809T203853Z
LAST-MODIFIED:20231120T235445Z
UID:10003034-1700677800-1700683200@www.buffalobayou.org
SUMMARY:Buffalo Bayou Park Wellness Walk
DESCRIPTION:Join Buffalo Bayou Partnership on a free Wellness Walk led by Laura Conely\, founder of Urban Paths. Anyone and everyone is invited to walk through the paths of Buffalo Bayou Park while discussing topics including mental and physical health as well as the benefits of being exposed to nature. \nWalk departs at 6:30pm at 105 Sabine Street and covers 3 miles in 1.5 hours. \nNEW: The first Wednesday of every month\, translator Marcella Cabrera will join the group to offer the guided walk in Spanish. \nNUEVO: El primer miércoles de cada mes\, la traductora Marcella Cabrera se unirá al grupo para ofrecer la caminata guiada en español. \nFree Registration
URL:https://www.buffalobayou.org/event/buffalo-bayou-park-wellness-walk-2023-11-22/
LOCATION:bird-grasshopper
CATEGORIES:En español,Walking Tours,Wellness
ATTACH;FMTTYPE=image/jpeg:https://www.buffalobayou.org/wp-content/uploads/2023/04/Walking-Tour-Image-2020-scaled-2.jpg
END:VEVENT
BEGIN:VEVENT
DTSTART;TZID=America/Chicago:20231129T183000
DTEND;TZID=America/Chicago:20231129T200000
DTSTAMP:20260419T190839
CREATED:20210809T203853Z
LAST-MODIFIED:20210809T203853Z
UID:10003035-1701282600-1701288000@www.buffalobayou.org
SUMMARY:Buffalo Bayou Park Wellness Walk
DESCRIPTION:Join Buffalo Bayou Partnership on a free Wellness Walk led by Laura Conely\, founder of Urban Paths. Anyone and everyone is invited to walk through the paths of Buffalo Bayou Park while discussing topics including mental and physical health as well as the benefits of being exposed to nature. \nWalk departs at 6:30pm at 105 Sabine Street and covers 3 miles in 1.5 hours. \nNEW: The first Wednesday of every month\, translator Marcella Cabrera will join the group to offer the guided walk in Spanish. \nNUEVO: El primer miércoles de cada mes\, la traductora Marcella Cabrera se unirá al grupo para ofrecer la caminata guiada en español. \nFree Registration
URL:https://www.buffalobayou.org/event/buffalo-bayou-park-wellness-walk-2023-11-29/
LOCATION:bird-grasshopper
CATEGORIES:En español,Walking Tours,Wellness
ATTACH;FMTTYPE=image/jpeg:https://www.buffalobayou.org/wp-content/uploads/2023/04/Walking-Tour-Image-2020-scaled-2.jpg
END:VEVENT
END:VCALENDAR