BEGIN:VCALENDAR
VERSION:2.0
PRODID:-//Buffalo Bayou Partnership - ECPv6.15.20//NONSGML v1.0//EN
CALSCALE:GREGORIAN
METHOD:PUBLISH
X-WR-CALNAME:Buffalo Bayou Partnership
X-ORIGINAL-URL:https://www.buffalobayou.org
X-WR-CALDESC:Events for Buffalo Bayou Partnership
REFRESH-INTERVAL;VALUE=DURATION:PT1H
X-Robots-Tag:noindex
X-PUBLISHED-TTL:PT1H
BEGIN:VTIMEZONE
TZID:America/Chicago
BEGIN:DAYLIGHT
TZOFFSETFROM:-0600
TZOFFSETTO:-0500
TZNAME:CDT
DTSTART:20250309T080000
END:DAYLIGHT
BEGIN:STANDARD
TZOFFSETFROM:-0500
TZOFFSETTO:-0600
TZNAME:CST
DTSTART:20251102T070000
END:STANDARD
BEGIN:DAYLIGHT
TZOFFSETFROM:-0600
TZOFFSETTO:-0500
TZNAME:CDT
DTSTART:20260308T080000
END:DAYLIGHT
BEGIN:STANDARD
TZOFFSETFROM:-0500
TZOFFSETTO:-0600
TZNAME:CST
DTSTART:20261101T070000
END:STANDARD
BEGIN:DAYLIGHT
TZOFFSETFROM:-0600
TZOFFSETTO:-0500
TZNAME:CDT
DTSTART:20270314T080000
END:DAYLIGHT
BEGIN:STANDARD
TZOFFSETFROM:-0500
TZOFFSETTO:-0600
TZNAME:CST
DTSTART:20271107T070000
END:STANDARD
END:VTIMEZONE
BEGIN:VEVENT
DTSTART;TZID=America/Chicago:20260301T100000
DTEND;TZID=America/Chicago:20260301T104500
DTSTAMP:20260421T162129
CREATED:20260108T155522Z
LAST-MODIFIED:20260209T220133Z
UID:10004051-1772359200-1772361900@www.buffalobayou.org
SUMMARY:Sound Healing Meditation
DESCRIPTION:Step into a deeper stillness inside the spacious and tranquil Buffalo Bayou Park Cistern. \nOffered in collaboration with UNIONisCREATION™\, this meditation and sound experience invites guests into a space of resonance\, restoration\, and inner alignment. Through gentle vibrations of singing bowls\, wind chimes\, and a gong\, along with guided awareness\, participants are supported in reconnecting body and mind. \nThis series is more than meditation – it is a practice of listening\, feeling\, and returning to center within one of Houston’s most iconic\, immersive spaces. Each session unfolds as a shared moment of reflection\, connection\, and sound-guided stillness. \nGuests should bring their own cushions or mats. No food or drinks are allowed inside the Cistern. \nCost: $20 \nPURCHASE TICKETS
URL:https://www.buffalobayou.org/event/2026-sound-healing-meditation-263-5/
LOCATION:BUFFALO BAYOU PARK CISTERN\, 105 Sabine Street\, Houston\, TX\, 77007\, United States
CATEGORIES:Cistern
ATTACH;FMTTYPE=image/jpeg:https://www.buffalobayou.org/wp-content/uploads/2023/04/sound-bath-high-res-crop-scaled-1.jpg
END:VEVENT
BEGIN:VEVENT
DTSTART;TZID=America/Chicago:20260304T180000
DTEND;TZID=America/Chicago:20260304T184500
DTSTAMP:20260421T162129
CREATED:20260108T180002Z
LAST-MODIFIED:20260209T220155Z
UID:10004052-1772647200-1772649900@www.buffalobayou.org
SUMMARY:Sound Healing Meditation
DESCRIPTION:Step into a deeper stillness inside the spacious and tranquil Buffalo Bayou Park Cistern. \nOffered in collaboration with UNIONisCREATION™\, this meditation and sound experience invites guests into a space of resonance\, restoration\, and inner alignment. Through gentle vibrations of singing bowls\, wind chimes\, and a gong\, along with guided awareness\, participants are supported in reconnecting body and mind. \nThis series is more than meditation – it is a practice of listening\, feeling\, and returning to center within one of Houston’s most iconic\, immersive spaces. Each session unfolds as a shared moment of reflection\, connection\, and sound-guided stillness. \nGuests should bring their own cushions or mats. No food or drinks are allowed inside the Cistern. \nCost: $20 \nPURCHASE TICKETS
URL:https://www.buffalobayou.org/event/2026-sound-healing-meditation-263-6/
LOCATION:BUFFALO BAYOU PARK CISTERN\, 105 Sabine Street\, Houston\, TX\, 77007\, United States
CATEGORIES:Cistern
ATTACH;FMTTYPE=image/jpeg:https://www.buffalobayou.org/wp-content/uploads/2023/04/sound-bath-high-res-crop-scaled-1.jpg
END:VEVENT
BEGIN:VEVENT
DTSTART;TZID=America/Chicago:20260308T100000
DTEND;TZID=America/Chicago:20260308T104500
DTSTAMP:20260421T162129
CREATED:20260108T180226Z
LAST-MODIFIED:20260209T220221Z
UID:10004054-1772964000-1772966700@www.buffalobayou.org
SUMMARY:Sound Healing Meditation
DESCRIPTION:Step into a deeper stillness inside the spacious and tranquil Buffalo Bayou Park Cistern. \nOffered in collaboration with UNIONisCREATION™\, this meditation and sound experience invites guests into a space of resonance\, restoration\, and inner alignment. Through gentle vibrations of singing bowls\, wind chimes\, and a gong\, along with guided awareness\, participants are supported in reconnecting body and mind. \nThis series is more than meditation – it is a practice of listening\, feeling\, and returning to center within one of Houston’s most iconic\, immersive spaces. Each session unfolds as a shared moment of reflection\, connection\, and sound-guided stillness. \nGuests should bring their own cushions or mats. No food or drinks are allowed inside the Cistern. \nCost: $20 \nPURCHASE TICKETS
URL:https://www.buffalobayou.org/event/2026-sound-healing-meditation-263-8/
LOCATION:BUFFALO BAYOU PARK CISTERN\, 105 Sabine Street\, Houston\, TX\, 77007\, United States
CATEGORIES:Cistern
ATTACH;FMTTYPE=image/jpeg:https://www.buffalobayou.org/wp-content/uploads/2023/04/sound-bath-high-res-crop-scaled-1.jpg
END:VEVENT
BEGIN:VEVENT
DTSTART;TZID=America/Chicago:20260311T180000
DTEND;TZID=America/Chicago:20260311T184500
DTSTAMP:20260421T162129
CREATED:20260108T180507Z
LAST-MODIFIED:20260209T220239Z
UID:10004055-1773252000-1773254700@www.buffalobayou.org
SUMMARY:Sound Healing Meditation
DESCRIPTION:Find your center and practice meditation in the spacious and tranquil Buffalo Bayou Park Cistern. Offered in collaboration with Union is Creation\, this meditation series will feature the use of singing bowls and wind chimes to encourage mindfulness and connectivity. \nGuests should bring their own cushions or mats. No food or drinks are allowed inside the Cistern. \nCost: $20 \nPURCHASE TICKETS
URL:https://www.buffalobayou.org/event/2026-sound-healing-meditation-263-9/
LOCATION:BUFFALO BAYOU PARK CISTERN\, 105 Sabine Street\, Houston\, TX\, 77007\, United States
CATEGORIES:Cistern
ATTACH;FMTTYPE=image/jpeg:https://www.buffalobayou.org/wp-content/uploads/2023/04/sound-bath-high-res-crop-scaled-1.jpg
END:VEVENT
BEGIN:VEVENT
DTSTART;TZID=America/Chicago:20260315T100000
DTEND;TZID=America/Chicago:20260315T104500
DTSTAMP:20260421T162129
CREATED:20260108T180613Z
LAST-MODIFIED:20260209T220319Z
UID:10004056-1773568800-1773571500@www.buffalobayou.org
SUMMARY:Sound Healing Meditation
DESCRIPTION:Step into a deeper stillness inside the spacious and tranquil Buffalo Bayou Park Cistern. \nOffered in collaboration with UNIONisCREATION™\, this meditation and sound experience invites guests into a space of resonance\, restoration\, and inner alignment. Through gentle vibrations of singing bowls\, wind chimes\, and a gong\, along with guided awareness\, participants are supported in reconnecting body and mind. \nThis series is more than meditation – it is a practice of listening\, feeling\, and returning to center within one of Houston’s most iconic\, immersive spaces. Each session unfolds as a shared moment of reflection\, connection\, and sound-guided stillness. \nGuests should bring their own cushions or mats. No food or drinks are allowed inside the Cistern. \nCost: $20 \nPURCHASE TICKETS
URL:https://www.buffalobayou.org/event/2026-sound-healing-meditation-263-10/
LOCATION:BUFFALO BAYOU PARK CISTERN\, 105 Sabine Street\, Houston\, TX\, 77007\, United States
CATEGORIES:Cistern
ATTACH;FMTTYPE=image/jpeg:https://www.buffalobayou.org/wp-content/uploads/2023/04/sound-bath-high-res-crop-scaled-1.jpg
END:VEVENT
BEGIN:VEVENT
DTSTART;TZID=America/Chicago:20260318T180000
DTEND;TZID=America/Chicago:20260318T184500
DTSTAMP:20260421T162129
CREATED:20260108T180746Z
LAST-MODIFIED:20260209T220445Z
UID:10004057-1773856800-1773859500@www.buffalobayou.org
SUMMARY:Sound Healing Meditation
DESCRIPTION:Step into a deeper stillness inside the spacious and tranquil Buffalo Bayou Park Cistern. \nOffered in collaboration with UNIONisCREATION™\, this meditation and sound experience invites guests into a space of resonance\, restoration\, and inner alignment. Through gentle vibrations of singing bowls\, wind chimes\, and a gong\, along with guided awareness\, participants are supported in reconnecting body and mind. \nThis series is more than meditation – it is a practice of listening\, feeling\, and returning to center within one of Houston’s most iconic\, immersive spaces. Each session unfolds as a shared moment of reflection\, connection\, and sound-guided stillness. \nGuests should bring their own cushions or mats. No food or drinks are allowed inside the Cistern. \nCost: $20 \nPURCHASE TICKETS
URL:https://www.buffalobayou.org/event/2026-sound-healing-meditation-263-11/
LOCATION:BUFFALO BAYOU PARK CISTERN\, 105 Sabine Street\, Houston\, TX\, 77007\, United States
CATEGORIES:Cistern
ATTACH;FMTTYPE=image/jpeg:https://www.buffalobayou.org/wp-content/uploads/2023/04/sound-bath-high-res-crop-scaled-1.jpg
END:VEVENT
BEGIN:VEVENT
DTSTART;TZID=America/Chicago:20260325T180000
DTEND;TZID=America/Chicago:20260325T184500
DTSTAMP:20260421T162129
CREATED:20260108T180949Z
LAST-MODIFIED:20260209T220505Z
UID:10004058-1774461600-1774464300@www.buffalobayou.org
SUMMARY:Sound Healing Meditation
DESCRIPTION:Step into a deeper stillness inside the spacious and tranquil Buffalo Bayou Park Cistern. \nOffered in collaboration with UNIONisCREATION™\, this meditation and sound experience invites guests into a space of resonance\, restoration\, and inner alignment. Through gentle vibrations of singing bowls\, wind chimes\, and a gong\, along with guided awareness\, participants are supported in reconnecting body and mind. \nThis series is more than meditation – it is a practice of listening\, feeling\, and returning to center within one of Houston’s most iconic\, immersive spaces. Each session unfolds as a shared moment of reflection\, connection\, and sound-guided stillness. \nGuests should bring their own cushions or mats. No food or drinks are allowed inside the Cistern. \nCost: $20 \nPURCHASE TICKETS
URL:https://www.buffalobayou.org/event/2026-sound-healing-meditation-263-7/
LOCATION:BUFFALO BAYOU PARK CISTERN\, 105 Sabine Street\, Houston\, TX\, 77007\, United States
CATEGORIES:Cistern
ATTACH;FMTTYPE=image/jpeg:https://www.buffalobayou.org/wp-content/uploads/2023/04/sound-bath-high-res-crop-scaled-1.jpg
END:VEVENT
BEGIN:VEVENT
DTSTART;TZID=America/Chicago:20260328T100000
DTEND;TZID=America/Chicago:20260328T104500
DTSTAMP:20260421T162129
CREATED:20260108T181305Z
LAST-MODIFIED:20260209T220529Z
UID:10004059-1774692000-1774694700@www.buffalobayou.org
SUMMARY:Sound Healing Meditation
DESCRIPTION:Step into a deeper stillness inside the spacious and tranquil Buffalo Bayou Park Cistern. \nOffered in collaboration with UNIONisCREATION™\, this meditation and sound experience invites guests into a space of resonance\, restoration\, and inner alignment. Through gentle vibrations of singing bowls\, wind chimes\, and a gong\, along with guided awareness\, participants are supported in reconnecting body and mind. \nThis series is more than meditation – it is a practice of listening\, feeling\, and returning to center within one of Houston’s most iconic\, immersive spaces. Each session unfolds as a shared moment of reflection\, connection\, and sound-guided stillness. \nGuests should bring their own cushions or mats. No food or drinks are allowed inside the Cistern. \nCost: $20 \nPURCHASE TICKETS
URL:https://www.buffalobayou.org/event/2026-sound-healing-meditation-276/
LOCATION:BUFFALO BAYOU PARK CISTERN\, 105 Sabine Street\, Houston\, TX\, 77007\, United States
CATEGORIES:Cistern
ATTACH;FMTTYPE=image/jpeg:https://www.buffalobayou.org/wp-content/uploads/2023/04/sound-bath-high-res-crop-scaled-1.jpg
END:VEVENT
BEGIN:VEVENT
DTSTART;TZID=America/Chicago:20260329T100000
DTEND;TZID=America/Chicago:20260329T104500
DTSTAMP:20260421T162129
CREATED:20260108T181643Z
LAST-MODIFIED:20260209T220551Z
UID:10004060-1774778400-1774781100@www.buffalobayou.org
SUMMARY:Sound Healing Meditation
DESCRIPTION:Step into a deeper stillness inside the spacious and tranquil Buffalo Bayou Park Cistern. \nOffered in collaboration with UNIONisCREATION™\, this meditation and sound experience invites guests into a space of resonance\, restoration\, and inner alignment. Through gentle vibrations of singing bowls\, wind chimes\, and a gong\, along with guided awareness\, participants are supported in reconnecting body and mind. \nThis series is more than meditation – it is a practice of listening\, feeling\, and returning to center within one of Houston’s most iconic\, immersive spaces. Each session unfolds as a shared moment of reflection\, connection\, and sound-guided stillness. \nGuests should bring their own cushions or mats. No food or drinks are allowed inside the Cistern. \nCost: $20 \nPURCHASE TICKETS
URL:https://www.buffalobayou.org/event/2026-sound-healing-meditation-263-12/
LOCATION:BUFFALO BAYOU PARK CISTERN\, 105 Sabine Street\, Houston\, TX\, 77007\, United States
CATEGORIES:Cistern
ATTACH;FMTTYPE=image/jpeg:https://www.buffalobayou.org/wp-content/uploads/2023/04/sound-bath-high-res-crop-scaled-1.jpg
END:VEVENT
END:VCALENDAR