BEGIN:VCALENDAR
VERSION:2.0
PRODID:-//Buffalo Bayou Partnership - ECPv6.15.20//NONSGML v1.0//EN
CALSCALE:GREGORIAN
METHOD:PUBLISH
X-ORIGINAL-URL:https://www.buffalobayou.org
X-WR-CALDESC:Events for Buffalo Bayou Partnership
REFRESH-INTERVAL;VALUE=DURATION:PT1H
X-Robots-Tag:noindex
X-PUBLISHED-TTL:PT1H
BEGIN:VTIMEZONE
TZID:America/Chicago
BEGIN:DAYLIGHT
TZOFFSETFROM:-0600
TZOFFSETTO:-0500
TZNAME:CDT
DTSTART:20250309T080000
END:DAYLIGHT
BEGIN:STANDARD
TZOFFSETFROM:-0500
TZOFFSETTO:-0600
TZNAME:CST
DTSTART:20251102T070000
END:STANDARD
BEGIN:DAYLIGHT
TZOFFSETFROM:-0600
TZOFFSETTO:-0500
TZNAME:CDT
DTSTART:20260308T080000
END:DAYLIGHT
BEGIN:STANDARD
TZOFFSETFROM:-0500
TZOFFSETTO:-0600
TZNAME:CST
DTSTART:20261101T070000
END:STANDARD
BEGIN:DAYLIGHT
TZOFFSETFROM:-0600
TZOFFSETTO:-0500
TZNAME:CDT
DTSTART:20270314T080000
END:DAYLIGHT
BEGIN:STANDARD
TZOFFSETFROM:-0500
TZOFFSETTO:-0600
TZNAME:CST
DTSTART:20271107T070000
END:STANDARD
END:VTIMEZONE
BEGIN:VEVENT
DTSTART;TZID=America/Chicago:20260103T100000
DTEND;TZID=America/Chicago:20260103T104500
DTSTAMP:20260422T041601
CREATED:20251205T174031Z
LAST-MODIFIED:20251215T193445Z
UID:10004030-1767434400-1767437100@www.buffalobayou.org
SUMMARY:Sound Healing Meditation
DESCRIPTION:Find your center and practice meditation in the spacious and tranquil Buffalo Bayou Park Cistern. Offered in collaboration with Union is Creation\, this meditation series will feature the use of singing bowls and wind chimes to encourage mindfulness and connectivity. \nGuests should bring their own cushions or mats. No food or drinks are allowed inside the Cistern. \nCost: $20 \nPURCHASE TICKETS
URL:https://www.buffalobayou.org/event/2026-sound-healing-meditation-263/
LOCATION:BUFFALO BAYOU PARK CISTERN\, 105 Sabine Street\, Houston\, TX\, 77007\, United States
CATEGORIES:Cistern
ATTACH;FMTTYPE=image/jpeg:https://www.buffalobayou.org/wp-content/uploads/2023/04/sound-bath-high-res-crop-scaled-1.jpg
END:VEVENT
BEGIN:VEVENT
DTSTART;TZID=America/Chicago:20260104T100000
DTEND;TZID=America/Chicago:20260104T104500
DTSTAMP:20260422T041601
CREATED:20251205T174129Z
LAST-MODIFIED:20251215T193438Z
UID:10004031-1767520800-1767523500@www.buffalobayou.org
SUMMARY:Sound Healing Meditation
DESCRIPTION:Find your center and practice meditation in the spacious and tranquil Buffalo Bayou Park Cistern. Offered in collaboration with Union is Creation\, this meditation series will feature the use of singing bowls and wind chimes to encourage mindfulness and connectivity. \nGuests should bring their own cushions or mats. No food or drinks are allowed inside the Cistern. \nCost: $20 \nPURCHASE TICKETS
URL:https://www.buffalobayou.org/event/2026-sound-healing-meditation-263-2/
LOCATION:BUFFALO BAYOU PARK CISTERN\, 105 Sabine Street\, Houston\, TX\, 77007\, United States
CATEGORIES:Cistern
ATTACH;FMTTYPE=image/jpeg:https://www.buffalobayou.org/wp-content/uploads/2023/04/sound-bath-high-res-crop-scaled-1.jpg
END:VEVENT
BEGIN:VEVENT
DTSTART;TZID=America/Chicago:20260106T190000
DTEND;TZID=America/Chicago:20260106T210000
DTSTAMP:20260422T041601
CREATED:20251002T220521Z
LAST-MODIFIED:20251114T165700Z
UID:10004025-1767726000-1767733200@www.buffalobayou.org
SUMMARY:Ring in the Peace: Ars Lyrica Performances in the Cistern
DESCRIPTION:Ars Lyrica presents Ring in the Peace\, a 20-minute multi-cultural musical journey from the ninth century onward curated by Mexican-born mezzo-soprano Cecilia Duarte and Spanish-born percussionist Jesús Pacheco. Ring in the Peace offers listeners a new\, memorable musical experience that fosters reflection and a sense of unity with one’s communities\, both locally and across the world. \nPerformance times: 7 p.m.\, 7:45 p.m.\, and 8:30 p.m. \n\n2025/2026 Dates: \n\nMonday\, December 8\nMonday\, December 15\nTuesday\, December 16\nThursday\, December 18\nFriday\, December 19\nMonday\, December 22\nMonday\, December 29\nTuesday\, January 6\nThursday\, January 8\nFriday\, January 9\n\nTickets: $25/person (ages 9 and up) \nPURCHASE TICKETS
URL:https://www.buffalobayou.org/event/2025-ring-in-the-peace-ars-lyrica-performances-in-the-cistern-6/
LOCATION:BUFFALO BAYOU PARK CISTERN\, 105 Sabine Street\, Houston\, TX\, 77007\, United States
CATEGORIES:Cistern
ATTACH;FMTTYPE=image/jpeg:https://www.buffalobayou.org/wp-content/uploads/2023/04/IMG_0441-scaled-1.jpg
END:VEVENT
BEGIN:VEVENT
DTSTART;TZID=America/Chicago:20260107T180000
DTEND;TZID=America/Chicago:20260107T184500
DTSTAMP:20260422T041601
CREATED:20251205T175528Z
LAST-MODIFIED:20251215T193433Z
UID:10004037-1767808800-1767811500@www.buffalobayou.org
SUMMARY:Light and Sound Immersion Meditation in the Cistern
DESCRIPTION:Light & Sound Immersion in the Cistern is a restorative evening sound healing meditation set within the Buffalo Bayou Park Cistern’s reverberant chambers. \nSaumil Manek of Union is Creation produces resonant tones and harmonics while shifting light patterns by Kelly O’Brien of Fenris create a serene\, dreamlike atmosphere. This unique experience invites deep relaxation\, inner stillness\, and a heightened connection to the senses. \nGuests should bring their own cushions or mats. For sensitive hearing\, guests may enjoy the experience with earplugs. No food or drinks are allowed inside the Cistern. \nCost: $25 \nPURCHASE TICKETS
URL:https://www.buffalobayou.org/event/2026-light-and-sound-immersion-meditation-in-the-cistern-3-3/
LOCATION:BUFFALO BAYOU PARK CISTERN\, 105 Sabine Street\, Houston\, TX\, 77007\, United States
CATEGORIES:Cistern,Wellness
ATTACH;FMTTYPE=image/jpeg:https://www.buffalobayou.org/wp-content/uploads/2023/04/IMG_0443-scaled-1.jpg
END:VEVENT
BEGIN:VEVENT
DTSTART;TZID=America/Chicago:20260108T190000
DTEND;TZID=America/Chicago:20260108T210000
DTSTAMP:20260422T041601
CREATED:20251002T220539Z
LAST-MODIFIED:20251114T165648Z
UID:10004026-1767898800-1767906000@www.buffalobayou.org
SUMMARY:Ring in the Peace: Ars Lyrica Performances in the Cistern
DESCRIPTION:Ars Lyrica presents Ring in the Peace\, a 20-minute multi-cultural musical journey from the ninth century onward curated by Mexican-born mezzo-soprano Cecilia Duarte and Spanish-born percussionist Jesús Pacheco. Ring in the Peace offers listeners a new\, memorable musical experience that fosters reflection and a sense of unity with one’s communities\, both locally and across the world. \nPerformance times: 7 p.m.\, 7:45 p.m.\, and 8:30 p.m. \n\n2025/2026 Dates: \n\nMonday\, December 8\nMonday\, December 15\nTuesday\, December 16\nThursday\, December 18\nFriday\, December 19\nMonday\, December 22\nMonday\, December 29\nTuesday\, January 6\nThursday\, January 8\nFriday\, January 9\n\nTickets: $25/person (ages 9 and up) \nPURCHASE TICKETS
URL:https://www.buffalobayou.org/event/2025-ring-in-the-peace-ars-lyrica-performances-in-the-cistern-7/
LOCATION:BUFFALO BAYOU PARK CISTERN\, 105 Sabine Street\, Houston\, TX\, 77007\, United States
CATEGORIES:Cistern
ATTACH;FMTTYPE=image/jpeg:https://www.buffalobayou.org/wp-content/uploads/2023/04/IMG_0441-scaled-1.jpg
END:VEVENT
BEGIN:VEVENT
DTSTART;TZID=America/Chicago:20260109T190000
DTEND;TZID=America/Chicago:20260109T210000
DTSTAMP:20260422T041601
CREATED:20251002T220558Z
LAST-MODIFIED:20251114T165630Z
UID:10004027-1767985200-1767992400@www.buffalobayou.org
SUMMARY:Ring in the Peace: Ars Lyrica Performances in the Cistern
DESCRIPTION:Ars Lyrica presents Ring in the Peace\, a 20-minute multi-cultural musical journey from the ninth century onward curated by Mexican-born mezzo-soprano Cecilia Duarte and Spanish-born percussionist Jesús Pacheco. Ring in the Peace offers listeners a new\, memorable musical experience that fosters reflection and a sense of unity with one’s communities\, both locally and across the world. \nPerformance times: 7 p.m.\, 7:45 p.m.\, and 8:30 p.m. \n\n2025/2026 Dates: \n\nMonday\, December 8\nMonday\, December 15\nTuesday\, December 16\nThursday\, December 18\nFriday\, December 19\nMonday\, December 22\nMonday\, December 29\nTuesday\, January 6\nThursday\, January 8\nFriday\, January 9\n\nTickets: $25/person (ages 9 and up) \nPURCHASE TICKETS
URL:https://www.buffalobayou.org/event/2025-ring-in-the-peace-ars-lyrica-performances-in-the-cistern-8/
LOCATION:BUFFALO BAYOU PARK CISTERN\, 105 Sabine Street\, Houston\, TX\, 77007\, United States
CATEGORIES:Cistern
ATTACH;FMTTYPE=image/jpeg:https://www.buffalobayou.org/wp-content/uploads/2023/04/IMG_0441-scaled-1.jpg
END:VEVENT
BEGIN:VEVENT
DTSTART;TZID=America/Chicago:20260110T100000
DTEND;TZID=America/Chicago:20260110T104500
DTSTAMP:20260422T041601
CREATED:20251205T174231Z
LAST-MODIFIED:20251215T193427Z
UID:10004032-1768039200-1768041900@www.buffalobayou.org
SUMMARY:Sound Healing Meditation
DESCRIPTION:Find your center and practice meditation in the spacious and tranquil Buffalo Bayou Park Cistern. Offered in collaboration with Union is Creation\, this meditation series will feature the use of singing bowls and wind chimes to encourage mindfulness and connectivity. \nGuests should bring their own cushions or mats. No food or drinks are allowed inside the Cistern. \nCost: $20 \nPURCHASE TICKETS
URL:https://www.buffalobayou.org/event/2026-sound-healing-meditation-263-3/
LOCATION:BUFFALO BAYOU PARK CISTERN\, 105 Sabine Street\, Houston\, TX\, 77007\, United States
CATEGORIES:Cistern
ATTACH;FMTTYPE=image/jpeg:https://www.buffalobayou.org/wp-content/uploads/2023/04/sound-bath-high-res-crop-scaled-1.jpg
END:VEVENT
BEGIN:VEVENT
DTSTART;TZID=America/Chicago:20260118T100000
DTEND;TZID=America/Chicago:20260118T104500
DTSTAMP:20260422T041601
CREATED:20251205T174425Z
LAST-MODIFIED:20251215T193413Z
UID:10004033-1768730400-1768733100@www.buffalobayou.org
SUMMARY:Sound Healing Meditation
DESCRIPTION:Find your center and practice meditation in the spacious and tranquil Buffalo Bayou Park Cistern. Offered in collaboration with Union is Creation\, this meditation series will feature the use of singing bowls and wind chimes to encourage mindfulness and connectivity. \nGuests should bring their own cushions or mats. No food or drinks are allowed inside the Cistern. \nCost: $20 \nPURCHASE TICKETS
URL:https://www.buffalobayou.org/event/2026-sound-healing-meditation-263-4/
LOCATION:BUFFALO BAYOU PARK CISTERN\, 105 Sabine Street\, Houston\, TX\, 77007\, United States
CATEGORIES:Cistern
ATTACH;FMTTYPE=image/jpeg:https://www.buffalobayou.org/wp-content/uploads/2023/04/sound-bath-high-res-crop-scaled-1.jpg
END:VEVENT
END:VCALENDAR