BEGIN:VCALENDAR
VERSION:2.0
PRODID:-//Buffalo Bayou Partnership - ECPv6.15.20//NONSGML v1.0//EN
CALSCALE:GREGORIAN
METHOD:PUBLISH
X-ORIGINAL-URL:https://www.buffalobayou.org
X-WR-CALDESC:Events for Buffalo Bayou Partnership
REFRESH-INTERVAL;VALUE=DURATION:PT1H
X-Robots-Tag:noindex
X-PUBLISHED-TTL:PT1H
BEGIN:VTIMEZONE
TZID:America/Chicago
BEGIN:DAYLIGHT
TZOFFSETFROM:-0600
TZOFFSETTO:-0500
TZNAME:CDT
DTSTART:20240310T080000
END:DAYLIGHT
BEGIN:STANDARD
TZOFFSETFROM:-0500
TZOFFSETTO:-0600
TZNAME:CST
DTSTART:20241103T070000
END:STANDARD
BEGIN:DAYLIGHT
TZOFFSETFROM:-0600
TZOFFSETTO:-0500
TZNAME:CDT
DTSTART:20250309T080000
END:DAYLIGHT
BEGIN:STANDARD
TZOFFSETFROM:-0500
TZOFFSETTO:-0600
TZNAME:CST
DTSTART:20251102T070000
END:STANDARD
BEGIN:DAYLIGHT
TZOFFSETFROM:-0600
TZOFFSETTO:-0500
TZNAME:CDT
DTSTART:20260308T080000
END:DAYLIGHT
BEGIN:STANDARD
TZOFFSETFROM:-0500
TZOFFSETTO:-0600
TZNAME:CST
DTSTART:20261101T070000
END:STANDARD
END:VTIMEZONE
BEGIN:VTIMEZONE
TZID:UTC
BEGIN:STANDARD
TZOFFSETFROM:+0000
TZOFFSETTO:+0000
TZNAME:UTC
DTSTART:20240101T000000
END:STANDARD
END:VTIMEZONE
BEGIN:VEVENT
DTSTART;TZID=America/Chicago:20251101T100000
DTEND;TZID=America/Chicago:20251101T104500
DTSTAMP:20260423T114215
CREATED:20250903T204154Z
LAST-MODIFIED:20250903T204154Z
UID:10003979-1761991200-1761993900@www.buffalobayou.org
SUMMARY:Sound Healing Meditation
DESCRIPTION:Find your center and practice meditation in the spacious and tranquil Buffalo Bayou Park Cistern. Offered in collaboration with Union is Creation\, this meditation series will feature the use of singing bowls and wind chimes to encourage mindfulness and connectivity. \nGuests should bring their own cushions or mats. No food or drinks are allowed inside the Cistern. \nCost: $20 \nPURCHASE TICKETS
URL:https://www.buffalobayou.org/event/sound-healing-meditation-237/
LOCATION:BUFFALO BAYOU PARK CISTERN\, 105 Sabine Street\, Houston\, TX\, 77007\, United States
CATEGORIES:Cistern
ATTACH;FMTTYPE=image/jpeg:https://www.buffalobayou.org/wp-content/uploads/2023/04/sound-bath-high-res-crop-scaled-1.jpg
END:VEVENT
BEGIN:VEVENT
DTSTART;TZID=America/Chicago:20251102T100000
DTEND;TZID=America/Chicago:20251102T104500
DTSTAMP:20260423T114215
CREATED:20250903T204235Z
LAST-MODIFIED:20250903T204235Z
UID:10003980-1762077600-1762080300@www.buffalobayou.org
SUMMARY:Sound Healing Meditation
DESCRIPTION:Find your center and practice meditation in the spacious and tranquil Buffalo Bayou Park Cistern. Offered in collaboration with Union is Creation\, this meditation series will feature the use of singing bowls and wind chimes to encourage mindfulness and connectivity. \nGuests should bring their own cushions or mats. No food or drinks are allowed inside the Cistern. \nCost: $20 \nPURCHASE TICKETS
URL:https://www.buffalobayou.org/event/sound-healing-meditation-259/
LOCATION:BUFFALO BAYOU PARK CISTERN\, 105 Sabine Street\, Houston\, TX\, 77007\, United States
CATEGORIES:Cistern
ATTACH;FMTTYPE=image/jpeg:https://www.buffalobayou.org/wp-content/uploads/2023/04/sound-bath-high-res-crop-scaled-1.jpg
END:VEVENT
BEGIN:VEVENT
DTSTART;TZID=America/Chicago:20251105T180000
DTEND;TZID=America/Chicago:20251105T184500
DTSTAMP:20260423T114215
CREATED:20250903T203536Z
LAST-MODIFIED:20250903T203536Z
UID:10003975-1762365600-1762368300@www.buffalobayou.org
SUMMARY:Light and Sound Immersion Meditation in the Cistern
DESCRIPTION:Light & Sound Immersion in the Cistern is a restorative evening sound healing meditation set within the Buffalo Bayou Park Cistern’s reverberant chambers. \nSaumil Manek of Union is Creation produces resonant tones and harmonics while shifting light patterns by Kelly O’Brien of Fenris create a serene\, dreamlike atmosphere. This unique experience invites deep relaxation\, inner stillness\, and a heightened connection to the senses. \nGuests should bring their own cushions or mats. For sensitive hearing\, guests may enjoy the experience with earplugs. No food or drinks are allowed inside the Cistern. \nCost: $25 \nPURCHASE TICKETS
URL:https://www.buffalobayou.org/event/light-and-sound-immersion-meditation-in-the-cistern-2/
LOCATION:BUFFALO BAYOU PARK CISTERN\, 105 Sabine Street\, Houston\, TX\, 77007\, United States
CATEGORIES:Cistern,Wellness
ATTACH;FMTTYPE=image/jpeg:https://www.buffalobayou.org/wp-content/uploads/2023/04/IMG_0443-scaled-1.jpg
END:VEVENT
BEGIN:VEVENT
DTSTART;TZID=UTC:20251113T183000
DTEND;TZID=UTC:20251113T200000
DTSTAMP:20260423T114216
CREATED:20250206T202048Z
LAST-MODIFIED:20251112T151337Z
UID:10003709-1763058600-1763064000@www.buffalobayou.org
SUMMARY:Underground Sounds: Kurt Stallmann
DESCRIPTION:Join us for Underground Sounds\, a unique music series in the Buffalo Bayou Park Cistern! \nThis year\, the series features national and international artists presenting compositions inspired by the vast\, unique architecture of the Cistern and arranged especially for its extraordinary natural acoustics. \n  \nAbout This Program\n \nFor millennia\, Buffalo Bayou has nurtured a vibrant tapestry of wildlife and human history in the heart of Houston. Throughout this time\, the bayou has been listening. Stallmann’s composition\, Listening Bayou\, beautifully weaves these rich auditory memories together\, leading the audience on a captivating journey through sound\, history\, nature\, and culture. The enchanting echoes of the bayou resonate within the sacred space of the Buffalo Bayou Park Cistern\, creating a unique reservoir of its timeless stories. \nPURCHASE TICKETS  \n  \nCost: $25 \nPerformance Times: \n\nNovember 13 at 6:30pm and 7:30pm\nNovember 14 at 6:30pm and 7:30pm\nNovember 15 at 5:30pm and 6:30pm SOLD OUT\nNovember 16 at 5:30pm and 6:30pm\n\n  \nAbout the Artist\nKurt Stallmann is a composer and sound artist whose work spans a diverse array of sound sources\, including acoustic instruments\, electroacoustic combinations\, environmental sounds\, and synthetic sounds. His artistic practice includes both free improvisation and highly structured forms. In addition to his collaborations with musicians\, Stallmann frequently engages with artists from various disciplines\, including choreographers\, filmmakers\, poets\, and architects. \n  \nTickets & Availability\nTicket release dates for this set of performances are listed above. For release dates for future performances\, please check the Underground Sounds page. We recommend marking the ticket release dates and times on your calendar as tickets will sell out quickly. \nWaitlist\nFor any additional guests wishing to attend a sold-out performance\, we will be taking an in-person first-come-first-served waiting list beginning exactly 30 minutes before each performance time.   \nTicket Refunds\nAll ticket purchases are final and non-refundable. Your purchase supports the work of Buffalo Bayou Partnership. \n  \nGenerous support for this program provided by \n \n  \nBuffalo Bayou Partnership is
URL:https://www.buffalobayou.org/event/underground-sounds-kurt-stallman/
LOCATION:BUFFALO BAYOU PARK CISTERN\, 105 Sabine Street\, Houston\, TX\, 77007\, United States
CATEGORIES:Buffalo Bayou Art,Cistern
ATTACH;FMTTYPE=image/jpeg:https://www.buffalobayou.org/wp-content/uploads/2025/01/headshot.jpg
END:VEVENT
BEGIN:VEVENT
DTSTART;TZID=UTC:20251114T183000
DTEND;TZID=UTC:20251114T200000
DTSTAMP:20260423T114216
CREATED:20250206T205942Z
LAST-MODIFIED:20251112T151350Z
UID:10003733-1763145000-1763150400@www.buffalobayou.org
SUMMARY:Underground Sounds: Kurt Stallmann
DESCRIPTION:Join us for Underground Sounds\, a unique music series in the Buffalo Bayou Park Cistern! \nThis year\, the series features national and international artists presenting compositions inspired by the vast\, unique architecture of the Cistern and arranged especially for its extraordinary natural acoustics. \n  \nAbout This Program\nFor millennia\, Buffalo Bayou has nurtured a vibrant tapestry of wildlife and human history in the heart of Houston. Throughout this time\, the bayou has been listening. Stallmann’s composition\, Listening Bayou\, beautifully weaves these rich auditory memories together\, leading the audience on a captivating journey through sound\, history\, nature\, and culture. The enchanting echoes of the bayou resonate within the sacred space of the Buffalo Bayou Park Cistern\, creating a unique reservoir of its timeless stories. \nPURCHASE TICKETS  \n  \nCost: $25 \nPerformance Times: \n\nNovember 13 at 6:30pm and 7:30pm\nNovember 14 at 6:30pm and 7:30pm\nNovember 15 at 5:30pm and 6:30pm SOLD OUT\nNovember 16 at 5:30pm and 6:30pm\n\n  \nAbout the Artist\nKurt Stallmann is a composer and sound artist whose work spans a diverse array of sound sources\, including acoustic instruments\, electroacoustic combinations\, environmental sounds\, and synthetic sounds. His artistic practice includes both free improvisation and highly structured forms. In addition to his collaborations with musicians\, Stallmann frequently engages with artists from various disciplines\, including choreographers\, filmmakers\, poets\, and architects. \n  \nTickets & Availability\nTicket release dates for this set of performances are listed above. For release dates for future performances\, please check the Underground Sounds page. We recommend marking the ticket release dates and times on your calendar as tickets will sell out quickly. \nWaitlist\nFor any additional guests wishing to attend a sold-out performance\, we will be taking an in-person first-come-first-served waiting list beginning exactly 30 minutes before each performance time.   \nTicket Refunds\nAll ticket purchases are final and non-refundable. Your purchase supports the work of Buffalo Bayou Partnership. \n  \nGenerous support for this program provided by \n \n  \nBuffalo Bayou Partnership is
URL:https://www.buffalobayou.org/event/underground-sounds-kurt-stallman-2/
LOCATION:BUFFALO BAYOU PARK CISTERN\, 105 Sabine Street\, Houston\, TX\, 77007\, United States
CATEGORIES:Buffalo Bayou Art,Cistern
ATTACH;FMTTYPE=image/jpeg:https://www.buffalobayou.org/wp-content/uploads/2025/01/headshot.jpg
END:VEVENT
BEGIN:VEVENT
DTSTART;TZID=UTC:20251115T173000
DTEND;TZID=UTC:20251115T190000
DTSTAMP:20260423T114216
CREATED:20250206T210011Z
LAST-MODIFIED:20251112T151254Z
UID:10003734-1763227800-1763233200@www.buffalobayou.org
SUMMARY:Underground Sounds: Kurt Stallmann
DESCRIPTION:Join us for Underground Sounds\, a unique music series in the Buffalo Bayou Park Cistern! \nThis year\, the series features national and international artists presenting compositions inspired by the vast\, unique architecture of the Cistern and arranged especially for its extraordinary natural acoustics. \n  \nAbout This Program\nFor millennia\, Buffalo Bayou has nurtured a vibrant tapestry of wildlife and human history in the heart of Houston. Throughout this time\, the bayou has been listening. Stallmann’s composition\, Listening Bayou\, beautifully weaves these rich auditory memories together\, leading the audience on a captivating journey through sound\, history\, nature\, and culture. The enchanting echoes of the bayou resonate within the sacred space of the Buffalo Bayou Park Cistern\, creating a unique reservoir of its timeless stories. \nPURCHASE TICKETS  \n  \nCost: $25 \nPerformance Times: \n\nNovember 13 at 6:30pm and 7:30pm\nNovember 14 at 6:30pm and 7:30pm\nNovember 15 at 5:30pm and 6:30pm SOLD OUT\nNovember 16 at 5:30pm and 6:30pm\n\n  \nAbout the Artist\nKurt Stallmann is a composer and sound artist whose work spans a diverse array of sound sources\, including acoustic instruments\, electroacoustic combinations\, environmental sounds\, and synthetic sounds. His artistic practice includes both free improvisation and highly structured forms. In addition to his collaborations with musicians\, Stallmann frequently engages with artists from various disciplines\, including choreographers\, filmmakers\, poets\, and architects. \n  \nTickets & Availability\nTicket release dates for this set of performances are listed above. For release dates for future performances\, please check the Underground Sounds page. We recommend marking the ticket release dates and times on your calendar as tickets will sell out quickly. \nWaitlist\nFor any additional guests wishing to attend a sold-out performance\, we will be taking an in-person first-come-first-served waiting list beginning exactly 30 minutes before each performance time.   \nTicket Refunds\nAll ticket purchases are final and non-refundable. Your purchase supports the work of Buffalo Bayou Partnership. \n  \nGenerous support for this program provided by \n \n  \nBuffalo Bayou Partnership is
URL:https://www.buffalobayou.org/event/underground-sounds-kurt-stallman-3/
LOCATION:BUFFALO BAYOU PARK CISTERN\, 105 Sabine Street\, Houston\, TX\, 77007\, United States
CATEGORIES:Buffalo Bayou Art,Cistern
ATTACH;FMTTYPE=image/jpeg:https://www.buffalobayou.org/wp-content/uploads/2025/01/headshot.jpg
END:VEVENT
BEGIN:VEVENT
DTSTART;TZID=UTC:20251116T173000
DTEND;TZID=UTC:20251116T190000
DTSTAMP:20260423T114216
CREATED:20250206T210032Z
LAST-MODIFIED:20251112T151402Z
UID:10003735-1763314200-1763319600@www.buffalobayou.org
SUMMARY:Underground Sounds: Kurt Stallmann
DESCRIPTION:Join us for Underground Sounds\, a unique music series in the Buffalo Bayou Park Cistern! \nThis year\, the series features national and international artists presenting compositions inspired by the vast\, unique architecture of the Cistern and arranged especially for its extraordinary natural acoustics. \n  \nAbout This Program\nFor millennia\, Buffalo Bayou has nurtured a vibrant tapestry of wildlife and human history in the heart of Houston. Throughout this time\, the bayou has been listening. Stallmann’s composition\, Listening Bayou\, beautifully weaves these rich auditory memories together\, leading the audience on a captivating journey through sound\, history\, nature\, and culture. The enchanting echoes of the bayou resonate within the sacred space of the Buffalo Bayou Park Cistern\, creating a unique reservoir of its timeless stories. \nPURCHASE TICKETS  \n  \nCost: $25 \nPerformance Times: \n\nNovember 13 at 6:30pm and 7:30pm\nNovember 14 at 6:30pm and 7:30pm\nNovember 15 at 5:30pm and 6:30pm SOLD OUT\nNovember 16 at 5:30pm and 6:30pm\n\n  \nAbout the Artist\nKurt Stallmann is a composer and sound artist whose work spans a diverse array of sound sources\, including acoustic instruments\, electroacoustic combinations\, environmental sounds\, and synthetic sounds. His artistic practice includes both free improvisation and highly structured forms. In addition to his collaborations with musicians\, Stallmann frequently engages with artists from various disciplines\, including choreographers\, filmmakers\, poets\, and architects. \n  \nTickets & Availability\nTicket release dates for this set of performances are listed above. For release dates for future performances\, please check the Underground Sounds page. We recommend marking the ticket release dates and times on your calendar as tickets will sell out quickly. \nWaitlist\nFor any additional guests wishing to attend a sold-out performance\, we will be taking an in-person first-come-first-served waiting list beginning exactly 30 minutes before each performance time.   \nTicket Refunds\nAll ticket purchases are final and non-refundable. Your purchase supports the work of Buffalo Bayou Partnership. \n  \nGenerous support for this program provided by \n \n  \nBuffalo Bayou Partnership is
URL:https://www.buffalobayou.org/event/underground-sounds-kurt-stallman-4/
LOCATION:BUFFALO BAYOU PARK CISTERN\, 105 Sabine Street\, Houston\, TX\, 77007\, United States
CATEGORIES:Buffalo Bayou Art,Cistern
ATTACH;FMTTYPE=image/jpeg:https://www.buffalobayou.org/wp-content/uploads/2025/01/headshot.jpg
END:VEVENT
BEGIN:VEVENT
DTSTART;TZID=America/Chicago:20251119T180000
DTEND;TZID=America/Chicago:20251119T184500
DTSTAMP:20260423T114216
CREATED:20250825T211413Z
LAST-MODIFIED:20250825T211413Z
UID:10003968-1763575200-1763577900@www.buffalobayou.org
SUMMARY:Light and Sound Immersion Meditation in the Cistern
DESCRIPTION:Light & Sound Immersion in the Cistern is a restorative evening sound healing meditation set within the Buffalo Bayou Park Cistern’s reverberant chambers.  \nSaumil Manek of Union is Creation produces resonant tones and harmonics while shifting light patterns by Kelly O’Brien of Fenris create a serene\, dreamlike atmosphere. This unique experience invites deep relaxation\, inner stillness\, and a heightened connection to the senses. \nGuests should bring their own cushions or mats. For sensitive hearing\, guests may enjoy the experience with earplugs. No food or drinks are allowed inside the Cistern. \nCost: $25 \nPURCHASE TICKETS
URL:https://www.buffalobayou.org/event/2025-light-and-sound-immersion-meditation-in-the-cistern-2-6/
LOCATION:BUFFALO BAYOU PARK CISTERN\, 105 Sabine Street\, Houston\, TX\, 77007\, United States
CATEGORIES:Cistern,Wellness
ATTACH;FMTTYPE=image/jpeg:https://www.buffalobayou.org/wp-content/uploads/2023/04/IMG_0443-scaled-1.jpg
END:VEVENT
BEGIN:VEVENT
DTSTART;TZID=America/Chicago:20251123T100000
DTEND;TZID=America/Chicago:20251123T104500
DTSTAMP:20260423T114216
CREATED:20250903T204349Z
LAST-MODIFIED:20250903T204349Z
UID:10003982-1763892000-1763894700@www.buffalobayou.org
SUMMARY:Sound Healing Meditation
DESCRIPTION:Find your center and practice meditation in the spacious and tranquil Buffalo Bayou Park Cistern. Offered in collaboration with Union is Creation\, this meditation series will feature the use of singing bowls and wind chimes to encourage mindfulness and connectivity. \nGuests should bring their own cushions or mats. No food or drinks are allowed inside the Cistern. \nCost: $20 \nPURCHASE TICKETS
URL:https://www.buffalobayou.org/event/sound-healing-meditation-264/
LOCATION:BUFFALO BAYOU PARK CISTERN\, 105 Sabine Street\, Houston\, TX\, 77007\, United States
CATEGORIES:Cistern
ATTACH;FMTTYPE=image/jpeg:https://www.buffalobayou.org/wp-content/uploads/2023/04/sound-bath-high-res-crop-scaled-1.jpg
END:VEVENT
BEGIN:VEVENT
DTSTART;TZID=America/Chicago:20251126T180000
DTEND;TZID=America/Chicago:20251126T184500
DTSTAMP:20260423T114216
CREATED:20250825T211511Z
LAST-MODIFIED:20250825T211511Z
UID:10003969-1764180000-1764182700@www.buffalobayou.org
SUMMARY:Light and Sound Immersion Meditation in the Cistern
DESCRIPTION:Light & Sound Immersion in the Cistern is a restorative evening sound healing meditation set within the Buffalo Bayou Park Cistern’s reverberant chambers.  \nSaumil Manek of Union is Creation produces resonant tones and harmonics while shifting light patterns by Kelly O’Brien of Fenris create a serene\, dreamlike atmosphere. This unique experience invites deep relaxation\, inner stillness\, and a heightened connection to the senses. \nGuests should bring their own cushions or mats. For sensitive hearing\, guests may enjoy the experience with earplugs. No food or drinks are allowed inside the Cistern. \nCost: $25 \nPURCHASE TICKETS
URL:https://www.buffalobayou.org/event/2025-light-and-sound-immersion-meditation-in-the-cistern-2-7/
LOCATION:BUFFALO BAYOU PARK CISTERN\, 105 Sabine Street\, Houston\, TX\, 77007\, United States
CATEGORIES:Cistern,Wellness
ATTACH;FMTTYPE=image/jpeg:https://www.buffalobayou.org/wp-content/uploads/2023/04/IMG_0443-scaled-1.jpg
END:VEVENT
BEGIN:VEVENT
DTSTART;TZID=America/Chicago:20251129T100000
DTEND;TZID=America/Chicago:20251129T104500
DTSTAMP:20260423T114216
CREATED:20250903T204408Z
LAST-MODIFIED:20250903T204408Z
UID:10003983-1764410400-1764413100@www.buffalobayou.org
SUMMARY:Sound Healing Meditation
DESCRIPTION:Find your center and practice meditation in the spacious and tranquil Buffalo Bayou Park Cistern. Offered in collaboration with Union is Creation\, this meditation series will feature the use of singing bowls and wind chimes to encourage mindfulness and connectivity. \nGuests should bring their own cushions or mats. No food or drinks are allowed inside the Cistern. \nCost: $20 \nPURCHASE TICKETS
URL:https://www.buffalobayou.org/event/sound-healing-meditation-267/
LOCATION:BUFFALO BAYOU PARK CISTERN\, 105 Sabine Street\, Houston\, TX\, 77007\, United States
CATEGORIES:Cistern
ATTACH;FMTTYPE=image/jpeg:https://www.buffalobayou.org/wp-content/uploads/2023/04/sound-bath-high-res-crop-scaled-1.jpg
END:VEVENT
BEGIN:VEVENT
DTSTART;TZID=America/Chicago:20251130T100000
DTEND;TZID=America/Chicago:20251130T104500
DTSTAMP:20260423T114216
CREATED:20250903T204421Z
LAST-MODIFIED:20250903T204421Z
UID:10003984-1764496800-1764499500@www.buffalobayou.org
SUMMARY:Sound Healing Meditation
DESCRIPTION:Find your center and practice meditation in the spacious and tranquil Buffalo Bayou Park Cistern. Offered in collaboration with Union is Creation\, this meditation series will feature the use of singing bowls and wind chimes to encourage mindfulness and connectivity. \nGuests should bring their own cushions or mats. No food or drinks are allowed inside the Cistern. \nCost: $20 \nPURCHASE TICKETS
URL:https://www.buffalobayou.org/event/sound-healing-meditation-268/
LOCATION:BUFFALO BAYOU PARK CISTERN\, 105 Sabine Street\, Houston\, TX\, 77007\, United States
CATEGORIES:Cistern
ATTACH;FMTTYPE=image/jpeg:https://www.buffalobayou.org/wp-content/uploads/2023/04/sound-bath-high-res-crop-scaled-1.jpg
END:VEVENT
END:VCALENDAR