BEGIN:VCALENDAR
VERSION:2.0
PRODID:-//Buffalo Bayou Partnership - ECPv6.15.20//NONSGML v1.0//EN
CALSCALE:GREGORIAN
METHOD:PUBLISH
X-ORIGINAL-URL:https://www.buffalobayou.org
X-WR-CALDESC:Events for Buffalo Bayou Partnership
REFRESH-INTERVAL;VALUE=DURATION:PT1H
X-Robots-Tag:noindex
X-PUBLISHED-TTL:PT1H
BEGIN:VTIMEZONE
TZID:America/Chicago
BEGIN:DAYLIGHT
TZOFFSETFROM:-0600
TZOFFSETTO:-0500
TZNAME:CDT
DTSTART:20240310T080000
END:DAYLIGHT
BEGIN:STANDARD
TZOFFSETFROM:-0500
TZOFFSETTO:-0600
TZNAME:CST
DTSTART:20241103T070000
END:STANDARD
BEGIN:DAYLIGHT
TZOFFSETFROM:-0600
TZOFFSETTO:-0500
TZNAME:CDT
DTSTART:20250309T080000
END:DAYLIGHT
BEGIN:STANDARD
TZOFFSETFROM:-0500
TZOFFSETTO:-0600
TZNAME:CST
DTSTART:20251102T070000
END:STANDARD
BEGIN:DAYLIGHT
TZOFFSETFROM:-0600
TZOFFSETTO:-0500
TZNAME:CDT
DTSTART:20260308T080000
END:DAYLIGHT
BEGIN:STANDARD
TZOFFSETFROM:-0500
TZOFFSETTO:-0600
TZNAME:CST
DTSTART:20261101T070000
END:STANDARD
END:VTIMEZONE
BEGIN:VEVENT
DTSTART;TZID=America/Chicago:20250802T100000
DTEND;TZID=America/Chicago:20250802T104500
DTSTAMP:20260424T225011
CREATED:20250611T184628Z
LAST-MODIFIED:20250611T184628Z
UID:10003880-1754128800-1754131500@www.buffalobayou.org
SUMMARY:Sound Healing Meditation
DESCRIPTION:Find your center and practice meditation in the spacious and tranquil Buffalo Bayou Park Cistern. Offered in collaboration with Union is Creation\, this meditation series will feature the use of singing bowls and wind chimes to encourage mindfulness and connectivity. \nGuests should bring their own cushions or mats. No food or drinks are allowed inside the Cistern. \nCost: $20 \nPURCHASE TICKETS
URL:https://www.buffalobayou.org/event/sound-healing-meditation/
LOCATION:BUFFALO BAYOU PARK CISTERN\, 105 Sabine Street\, Houston\, TX\, 77007\, United States
CATEGORIES:Cistern
ATTACH;FMTTYPE=image/jpeg:https://www.buffalobayou.org/wp-content/uploads/2023/04/sound-bath-high-res-crop-scaled-1.jpg
END:VEVENT
BEGIN:VEVENT
DTSTART;TZID=America/Chicago:20250803T100000
DTEND;TZID=America/Chicago:20250803T104500
DTSTAMP:20260424T225011
CREATED:20250611T184715Z
LAST-MODIFIED:20250611T184715Z
UID:10003881-1754215200-1754217900@www.buffalobayou.org
SUMMARY:Sound Healing Meditation
DESCRIPTION:Find your center and practice meditation in the spacious and tranquil Buffalo Bayou Park Cistern. Offered in collaboration with Union is Creation\, this meditation series will feature the use of singing bowls and wind chimes to encourage mindfulness and connectivity. \nGuests should bring their own cushions or mats. No food or drinks are allowed inside the Cistern. \nCost: $20 \nPURCHASE TICKETS
URL:https://www.buffalobayou.org/event/sound-healing-meditation-243/
LOCATION:BUFFALO BAYOU PARK CISTERN\, 105 Sabine Street\, Houston\, TX\, 77007\, United States
CATEGORIES:Cistern
ATTACH;FMTTYPE=image/jpeg:https://www.buffalobayou.org/wp-content/uploads/2023/04/sound-bath-high-res-crop-scaled-1.jpg
END:VEVENT
BEGIN:VEVENT
DTSTART;TZID=America/Chicago:20250806T180000
DTEND;TZID=America/Chicago:20250806T184500
DTSTAMP:20260424T225011
CREATED:20250611T184737Z
LAST-MODIFIED:20250611T184737Z
UID:10003882-1754503200-1754505900@www.buffalobayou.org
SUMMARY:Sound Healing Meditation
DESCRIPTION:Find your center and practice meditation in the spacious and tranquil Buffalo Bayou Park Cistern. Offered in collaboration with Union is Creation\, this meditation series will feature the use of singing bowls and wind chimes to encourage mindfulness and connectivity. \nGuests should bring their own cushions or mats. No food or drinks are allowed inside the Cistern. \nCost: $20 \nPURCHASE TICKETS
URL:https://www.buffalobayou.org/event/sound-healing-meditation-244/
LOCATION:BUFFALO BAYOU PARK CISTERN\, 105 Sabine Street\, Houston\, TX\, 77007\, United States
CATEGORIES:Cistern
ATTACH;FMTTYPE=image/jpeg:https://www.buffalobayou.org/wp-content/uploads/2023/04/sound-bath-high-res-crop-scaled-1.jpg
END:VEVENT
BEGIN:VEVENT
DTSTART;TZID=America/Chicago:20250809T100000
DTEND;TZID=America/Chicago:20250809T104500
DTSTAMP:20260424T225011
CREATED:20250611T184810Z
LAST-MODIFIED:20250611T184810Z
UID:10003883-1754733600-1754736300@www.buffalobayou.org
SUMMARY:Sound Healing Meditation
DESCRIPTION:Find your center and practice meditation in the spacious and tranquil Buffalo Bayou Park Cistern. Offered in collaboration with Union is Creation\, this meditation series will feature the use of singing bowls and wind chimes to encourage mindfulness and connectivity. \nGuests should bring their own cushions or mats. No food or drinks are allowed inside the Cistern. \nCost: $20 \nPURCHASE TICKETS
URL:https://www.buffalobayou.org/event/sound-healing-meditation-245/
LOCATION:BUFFALO BAYOU PARK CISTERN\, 105 Sabine Street\, Houston\, TX\, 77007\, United States
CATEGORIES:Cistern
ATTACH;FMTTYPE=image/jpeg:https://www.buffalobayou.org/wp-content/uploads/2023/04/sound-bath-high-res-crop-scaled-1.jpg
END:VEVENT
BEGIN:VEVENT
DTSTART;TZID=America/Chicago:20250810T100000
DTEND;TZID=America/Chicago:20250810T104500
DTSTAMP:20260424T225011
CREATED:20250611T184857Z
LAST-MODIFIED:20250611T184857Z
UID:10003884-1754820000-1754822700@www.buffalobayou.org
SUMMARY:Sound Healing Meditation
DESCRIPTION:Find your center and practice meditation in the spacious and tranquil Buffalo Bayou Park Cistern. Offered in collaboration with Union is Creation\, this meditation series will feature the use of singing bowls and wind chimes to encourage mindfulness and connectivity. \nGuests should bring their own cushions or mats. No food or drinks are allowed inside the Cistern. \nCost: $20 \nPURCHASE TICKETS
URL:https://www.buffalobayou.org/event/sound-healing-meditation-246/
LOCATION:BUFFALO BAYOU PARK CISTERN\, 105 Sabine Street\, Houston\, TX\, 77007\, United States
CATEGORIES:Cistern
ATTACH;FMTTYPE=image/jpeg:https://www.buffalobayou.org/wp-content/uploads/2023/04/sound-bath-high-res-crop-scaled-1.jpg
END:VEVENT
BEGIN:VEVENT
DTSTART;TZID=America/Chicago:20250813T180000
DTEND;TZID=America/Chicago:20250813T184500
DTSTAMP:20260424T225011
CREATED:20250611T184932Z
LAST-MODIFIED:20250611T184932Z
UID:10003885-1755108000-1755110700@www.buffalobayou.org
SUMMARY:Sound Healing Meditation
DESCRIPTION:Find your center and practice meditation in the spacious and tranquil Buffalo Bayou Park Cistern. Offered in collaboration with Union is Creation\, this meditation series will feature the use of singing bowls and wind chimes to encourage mindfulness and connectivity. \nGuests should bring their own cushions or mats. No food or drinks are allowed inside the Cistern. \nCost: $20 \nPURCHASE TICKETS
URL:https://www.buffalobayou.org/event/sound-healing-meditation-247/
LOCATION:BUFFALO BAYOU PARK CISTERN\, 105 Sabine Street\, Houston\, TX\, 77007\, United States
CATEGORIES:Cistern
ATTACH;FMTTYPE=image/jpeg:https://www.buffalobayou.org/wp-content/uploads/2023/04/sound-bath-high-res-crop-scaled-1.jpg
END:VEVENT
BEGIN:VEVENT
DTSTART;TZID=America/Chicago:20250816T100000
DTEND;TZID=America/Chicago:20250816T104500
DTSTAMP:20260424T225011
CREATED:20250611T185005Z
LAST-MODIFIED:20250611T185005Z
UID:10003886-1755338400-1755341100@www.buffalobayou.org
SUMMARY:Sound Healing Meditation
DESCRIPTION:Find your center and practice meditation in the spacious and tranquil Buffalo Bayou Park Cistern. Offered in collaboration with Union is Creation\, this meditation series will feature the use of singing bowls and wind chimes to encourage mindfulness and connectivity. \nGuests should bring their own cushions or mats. No food or drinks are allowed inside the Cistern. \nCost: $20 \nPURCHASE TICKETS
URL:https://www.buffalobayou.org/event/sound-healing-meditation-248/
LOCATION:BUFFALO BAYOU PARK CISTERN\, 105 Sabine Street\, Houston\, TX\, 77007\, United States
CATEGORIES:Cistern
ATTACH;FMTTYPE=image/jpeg:https://www.buffalobayou.org/wp-content/uploads/2023/04/sound-bath-high-res-crop-scaled-1.jpg
END:VEVENT
BEGIN:VEVENT
DTSTART;TZID=America/Chicago:20250817T100000
DTEND;TZID=America/Chicago:20250817T104500
DTSTAMP:20260424T225011
CREATED:20250611T185035Z
LAST-MODIFIED:20250611T185035Z
UID:10003887-1755424800-1755427500@www.buffalobayou.org
SUMMARY:Sound Healing Meditation
DESCRIPTION:Find your center and practice meditation in the spacious and tranquil Buffalo Bayou Park Cistern. Offered in collaboration with Union is Creation\, this meditation series will feature the use of singing bowls and wind chimes to encourage mindfulness and connectivity. \nGuests should bring their own cushions or mats. No food or drinks are allowed inside the Cistern. \nCost: $20 \nPURCHASE TICKETS
URL:https://www.buffalobayou.org/event/sound-healing-meditation-249/
LOCATION:BUFFALO BAYOU PARK CISTERN\, 105 Sabine Street\, Houston\, TX\, 77007\, United States
CATEGORIES:Cistern
ATTACH;FMTTYPE=image/jpeg:https://www.buffalobayou.org/wp-content/uploads/2023/04/sound-bath-high-res-crop-scaled-1.jpg
END:VEVENT
BEGIN:VEVENT
DTSTART;TZID=America/Chicago:20250820T180000
DTEND;TZID=America/Chicago:20250820T184500
DTSTAMP:20260424T225011
CREATED:20250611T185106Z
LAST-MODIFIED:20250611T185106Z
UID:10003888-1755712800-1755715500@www.buffalobayou.org
SUMMARY:Sound Healing Meditation
DESCRIPTION:Find your center and practice meditation in the spacious and tranquil Buffalo Bayou Park Cistern. Offered in collaboration with Union is Creation\, this meditation series will feature the use of singing bowls and wind chimes to encourage mindfulness and connectivity. \nGuests should bring their own cushions or mats. No food or drinks are allowed inside the Cistern. \nCost: $20 \nPURCHASE TICKETS
URL:https://www.buffalobayou.org/event/sound-healing-meditation-250/
LOCATION:BUFFALO BAYOU PARK CISTERN\, 105 Sabine Street\, Houston\, TX\, 77007\, United States
CATEGORIES:Cistern
ATTACH;FMTTYPE=image/jpeg:https://www.buffalobayou.org/wp-content/uploads/2023/04/sound-bath-high-res-crop-scaled-1.jpg
END:VEVENT
BEGIN:VEVENT
DTSTART;TZID=America/Chicago:20250824T100000
DTEND;TZID=America/Chicago:20250824T104500
DTSTAMP:20260424T225011
CREATED:20250611T185421Z
LAST-MODIFIED:20250611T185421Z
UID:10003890-1756029600-1756032300@www.buffalobayou.org
SUMMARY:Sound Healing Meditation
DESCRIPTION:Find your center and practice meditation in the spacious and tranquil Buffalo Bayou Park Cistern. Offered in collaboration with Union is Creation\, this meditation series will feature the use of singing bowls and wind chimes to encourage mindfulness and connectivity. \nGuests should bring their own cushions or mats. No food or drinks are allowed inside the Cistern. \nCost: $20 \nPURCHASE TICKETS
URL:https://www.buffalobayou.org/event/sound-healing-meditation-252/
LOCATION:BUFFALO BAYOU PARK CISTERN\, 105 Sabine Street\, Houston\, TX\, 77007\, United States
CATEGORIES:Cistern
ATTACH;FMTTYPE=image/jpeg:https://www.buffalobayou.org/wp-content/uploads/2023/04/sound-bath-high-res-crop-scaled-1.jpg
END:VEVENT
BEGIN:VEVENT
DTSTART;TZID=America/Chicago:20250827T180000
DTEND;TZID=America/Chicago:20250827T184500
DTSTAMP:20260424T225011
CREATED:20250611T185300Z
LAST-MODIFIED:20250611T185300Z
UID:10003889-1756317600-1756320300@www.buffalobayou.org
SUMMARY:Sound Healing Meditation
DESCRIPTION:Find your center and practice meditation in the spacious and tranquil Buffalo Bayou Park Cistern. Offered in collaboration with Union is Creation\, this meditation series will feature the use of singing bowls and wind chimes to encourage mindfulness and connectivity. \nGuests should bring their own cushions or mats. No food or drinks are allowed inside the Cistern. \nCost: $20 \nPURCHASE TICKETS
URL:https://www.buffalobayou.org/event/sound-healing-meditation-251/
LOCATION:BUFFALO BAYOU PARK CISTERN\, 105 Sabine Street\, Houston\, TX\, 77007\, United States
CATEGORIES:Cistern
ATTACH;FMTTYPE=image/jpeg:https://www.buffalobayou.org/wp-content/uploads/2023/04/sound-bath-high-res-crop-scaled-1.jpg
END:VEVENT
BEGIN:VEVENT
DTSTART;TZID=America/Chicago:20250831T100000
DTEND;TZID=America/Chicago:20250831T104500
DTSTAMP:20260424T225011
CREATED:20250611T185455Z
LAST-MODIFIED:20250611T185455Z
UID:10003892-1756634400-1756637100@www.buffalobayou.org
SUMMARY:Sound Healing Meditation
DESCRIPTION:Find your center and practice meditation in the spacious and tranquil Buffalo Bayou Park Cistern. Offered in collaboration with Union is Creation\, this meditation series will feature the use of singing bowls and wind chimes to encourage mindfulness and connectivity. \nGuests should bring their own cushions or mats. No food or drinks are allowed inside the Cistern. \nCost: $20 \nPURCHASE TICKETS
URL:https://www.buffalobayou.org/event/sound-healing-meditation-254/
LOCATION:BUFFALO BAYOU PARK CISTERN\, 105 Sabine Street\, Houston\, TX\, 77007\, United States
CATEGORIES:Cistern
ATTACH;FMTTYPE=image/jpeg:https://www.buffalobayou.org/wp-content/uploads/2023/04/sound-bath-high-res-crop-scaled-1.jpg
END:VEVENT
END:VCALENDAR