BEGIN:VCALENDAR
VERSION:2.0
PRODID:-//Buffalo Bayou Partnership - ECPv6.15.20//NONSGML v1.0//EN
CALSCALE:GREGORIAN
METHOD:PUBLISH
X-ORIGINAL-URL:https://www.buffalobayou.org
X-WR-CALDESC:Events for Buffalo Bayou Partnership
REFRESH-INTERVAL;VALUE=DURATION:PT1H
X-Robots-Tag:noindex
X-PUBLISHED-TTL:PT1H
BEGIN:VTIMEZONE
TZID:America/Chicago
BEGIN:DAYLIGHT
TZOFFSETFROM:-0600
TZOFFSETTO:-0500
TZNAME:CDT
DTSTART:20240310T080000
END:DAYLIGHT
BEGIN:STANDARD
TZOFFSETFROM:-0500
TZOFFSETTO:-0600
TZNAME:CST
DTSTART:20241103T070000
END:STANDARD
BEGIN:DAYLIGHT
TZOFFSETFROM:-0600
TZOFFSETTO:-0500
TZNAME:CDT
DTSTART:20250309T080000
END:DAYLIGHT
BEGIN:STANDARD
TZOFFSETFROM:-0500
TZOFFSETTO:-0600
TZNAME:CST
DTSTART:20251102T070000
END:STANDARD
BEGIN:DAYLIGHT
TZOFFSETFROM:-0600
TZOFFSETTO:-0500
TZNAME:CDT
DTSTART:20260308T080000
END:DAYLIGHT
BEGIN:STANDARD
TZOFFSETFROM:-0500
TZOFFSETTO:-0600
TZNAME:CST
DTSTART:20261101T070000
END:STANDARD
END:VTIMEZONE
BEGIN:VEVENT
DTSTART;TZID=America/Chicago:20250709T180000
DTEND;TZID=America/Chicago:20250709T184500
DTSTAMP:20260424T225007
CREATED:20250507T193851Z
LAST-MODIFIED:20250507T193851Z
UID:10003852-1752084000-1752086700@www.buffalobayou.org
SUMMARY:Sound Healing Meditation
DESCRIPTION:Find your center and practice meditation in the spacious and tranquil Buffalo Bayou Park Cistern. Offered in collaboration with Union is Creation\, this meditation series will feature the use of singing bowls and wind chimes to encourage mindfulness and connectivity. \nGuests should bring their own cushions or mats. No food or drinks are allowed inside the Cistern. \nCost: $20 \nPURCHASE TICKETS
URL:https://www.buffalobayou.org/event/sound-healing-meditation-232/
LOCATION:BUFFALO BAYOU PARK CISTERN\, 105 Sabine Street\, Houston\, TX\, 77007\, United States
CATEGORIES:Cistern
ATTACH;FMTTYPE=image/jpeg:https://www.buffalobayou.org/wp-content/uploads/2023/04/sound-bath-high-res-crop-scaled-1.jpg
END:VEVENT
BEGIN:VEVENT
DTSTART;TZID=America/Chicago:20250712T100000
DTEND;TZID=America/Chicago:20250712T104500
DTSTAMP:20260424T225007
CREATED:20250507T193907Z
LAST-MODIFIED:20250507T193907Z
UID:10003853-1752314400-1752317100@www.buffalobayou.org
SUMMARY:Sound Healing Meditation
DESCRIPTION:Find your center and practice meditation in the spacious and tranquil Buffalo Bayou Park Cistern. Offered in collaboration with Union is Creation\, this meditation series will feature the use of singing bowls and wind chimes to encourage mindfulness and connectivity. \nGuests should bring their own cushions or mats. No food or drinks are allowed inside the Cistern. \nCost: $20 \nPURCHASE TICKETS
URL:https://www.buffalobayou.org/event/sound-healing-meditation-233/
LOCATION:BUFFALO BAYOU PARK CISTERN\, 105 Sabine Street\, Houston\, TX\, 77007\, United States
CATEGORIES:Cistern
ATTACH;FMTTYPE=image/jpeg:https://www.buffalobayou.org/wp-content/uploads/2023/04/sound-bath-high-res-crop-scaled-1.jpg
END:VEVENT
BEGIN:VEVENT
DTSTART;TZID=America/Chicago:20250712T130000
DTEND;TZID=America/Chicago:20250712T133000
DTSTAMP:20260424T225007
CREATED:20250507T194450Z
LAST-MODIFIED:20250507T194450Z
UID:10003862-1752325200-1752327000@www.buffalobayou.org
SUMMARY:La Experiencia de la Cisterna en Español y English Bilingual
DESCRIPTION:Great for first time and repeat visitors alike\, the Experiential Tour includes an introduction followed by an opportunity to explore the Cistern independently. \nExcelente para los visitantes nuevos como para los que repiten\, el recorrido experiencial incluye una introducción seguida de la oportunidad de explorar la Cisterna a su propio ritmo. \nTenga en cuenta: No se permiten niños menores de 9 años. \nCost \n\nIndividual (9+ yrs old): $15\nMilitary\, Seniors\, Students: $12\n\n  \nPURCHASE TICKETS
URL:https://www.buffalobayou.org/event/la-experiencia-de-la-cisterna-en-espanol-y-english-bilingual-2/
LOCATION:BUFFALO BAYOU PARK CISTERN\, 105 Sabine Street\, Houston\, TX\, 77007\, United States
CATEGORIES:Cistern
ATTACH;FMTTYPE=image/jpeg:https://www.buffalobayou.org/wp-content/uploads/2025/02/BBPCistern_03_Katya-Horner-16x9-1-scaled.jpg
END:VEVENT
BEGIN:VEVENT
DTSTART;TZID=America/Chicago:20250713T100000
DTEND;TZID=America/Chicago:20250713T104500
DTSTAMP:20260424T225007
CREATED:20250507T193918Z
LAST-MODIFIED:20250507T193918Z
UID:10003854-1752400800-1752403500@www.buffalobayou.org
SUMMARY:Sound Healing Meditation
DESCRIPTION:Find your center and practice meditation in the spacious and tranquil Buffalo Bayou Park Cistern. Offered in collaboration with Union is Creation\, this meditation series will feature the use of singing bowls and wind chimes to encourage mindfulness and connectivity. \nGuests should bring their own cushions or mats. No food or drinks are allowed inside the Cistern. \nCost: $20 \nPURCHASE TICKETS
URL:https://www.buffalobayou.org/event/sound-healing-meditation-234/
LOCATION:BUFFALO BAYOU PARK CISTERN\, 105 Sabine Street\, Houston\, TX\, 77007\, United States
CATEGORIES:Cistern
ATTACH;FMTTYPE=image/jpeg:https://www.buffalobayou.org/wp-content/uploads/2023/04/sound-bath-high-res-crop-scaled-1.jpg
END:VEVENT
BEGIN:VEVENT
DTSTART;TZID=America/Chicago:20250716T180000
DTEND;TZID=America/Chicago:20250716T184500
DTSTAMP:20260424T225008
CREATED:20250507T193942Z
LAST-MODIFIED:20250507T193942Z
UID:10003855-1752688800-1752691500@www.buffalobayou.org
SUMMARY:Sound Healing Meditation
DESCRIPTION:Find your center and practice meditation in the spacious and tranquil Buffalo Bayou Park Cistern. Offered in collaboration with Union is Creation\, this meditation series will feature the use of singing bowls and wind chimes to encourage mindfulness and connectivity. \nGuests should bring their own cushions or mats. No food or drinks are allowed inside the Cistern. \nCost: $20 \nPURCHASE TICKETS
URL:https://www.buffalobayou.org/event/sound-healing-meditation-235/
LOCATION:BUFFALO BAYOU PARK CISTERN\, 105 Sabine Street\, Houston\, TX\, 77007\, United States
CATEGORIES:Cistern
ATTACH;FMTTYPE=image/jpeg:https://www.buffalobayou.org/wp-content/uploads/2023/04/sound-bath-high-res-crop-scaled-1.jpg
END:VEVENT
BEGIN:VEVENT
DTSTART;TZID=America/Chicago:20250719T100000
DTEND;TZID=America/Chicago:20250719T104500
DTSTAMP:20260424T225008
CREATED:20250507T194002Z
LAST-MODIFIED:20250507T194002Z
UID:10003856-1752919200-1752921900@www.buffalobayou.org
SUMMARY:Sound Healing Meditation
DESCRIPTION:Find your center and practice meditation in the spacious and tranquil Buffalo Bayou Park Cistern. Offered in collaboration with Union is Creation\, this meditation series will feature the use of singing bowls and wind chimes to encourage mindfulness and connectivity. \nGuests should bring their own cushions or mats. No food or drinks are allowed inside the Cistern. \nCost: $20 \nPURCHASE TICKETS
URL:https://www.buffalobayou.org/event/sound-healing-meditation-236/
LOCATION:BUFFALO BAYOU PARK CISTERN\, 105 Sabine Street\, Houston\, TX\, 77007\, United States
CATEGORIES:Cistern
ATTACH;FMTTYPE=image/jpeg:https://www.buffalobayou.org/wp-content/uploads/2023/04/sound-bath-high-res-crop-scaled-1.jpg
END:VEVENT
BEGIN:VEVENT
DTSTART;TZID=America/Chicago:20250719T130000
DTEND;TZID=America/Chicago:20250719T133000
DTSTAMP:20260424T225008
CREATED:20250507T194501Z
LAST-MODIFIED:20250507T194501Z
UID:10003863-1752930000-1752931800@www.buffalobayou.org
SUMMARY:La Experiencia de la Cisterna en Español y English Bilingual
DESCRIPTION:Great for first time and repeat visitors alike\, the Experiential Tour includes an introduction followed by an opportunity to explore the Cistern independently. \nExcelente para los visitantes nuevos como para los que repiten\, el recorrido experiencial incluye una introducción seguida de la oportunidad de explorar la Cisterna a su propio ritmo. \nTenga en cuenta: No se permiten niños menores de 9 años. \nCost \n\nIndividual (9+ yrs old): $15\nMilitary\, Seniors\, Students: $12\n\n  \nPURCHASE TICKETS
URL:https://www.buffalobayou.org/event/la-experiencia-de-la-cisterna-en-espanol-y-english-bilingual-3/
LOCATION:BUFFALO BAYOU PARK CISTERN\, 105 Sabine Street\, Houston\, TX\, 77007\, United States
CATEGORIES:Cistern
ATTACH;FMTTYPE=image/jpeg:https://www.buffalobayou.org/wp-content/uploads/2025/02/BBPCistern_03_Katya-Horner-16x9-1-scaled.jpg
END:VEVENT
BEGIN:VEVENT
DTSTART;TZID=America/Chicago:20250720T100000
DTEND;TZID=America/Chicago:20250720T104500
DTSTAMP:20260424T225008
CREATED:20250714T143158Z
LAST-MODIFIED:20250714T143158Z
UID:10003934-1753005600-1753008300@www.buffalobayou.org
SUMMARY:Sound Healing Meditation
DESCRIPTION:Find your center and practice meditation in the spacious and tranquil Buffalo Bayou Park Cistern. Offered in collaboration with Union is Creation\, this meditation series will feature the use of singing bowls and wind chimes to encourage mindfulness and connectivity. \nGuests should bring their own cushions or mats. No food or drinks are allowed inside the Cistern. \nCost: $20 \nPURCHASE TICKETS
URL:https://www.buffalobayou.org/event/sound-healing-meditation-238/
LOCATION:BUFFALO BAYOU PARK CISTERN\, 105 Sabine Street\, Houston\, TX\, 77007\, United States
CATEGORIES:Cistern
ATTACH;FMTTYPE=image/jpeg:https://www.buffalobayou.org/wp-content/uploads/2023/04/sound-bath-high-res-crop-scaled-1.jpg
END:VEVENT
BEGIN:VEVENT
DTSTART;TZID=America/Chicago:20250726T100000
DTEND;TZID=America/Chicago:20250726T104500
DTSTAMP:20260424T225008
CREATED:20250507T194127Z
LAST-MODIFIED:20250507T194127Z
UID:10003859-1753524000-1753526700@www.buffalobayou.org
SUMMARY:Sound Healing Meditation
DESCRIPTION:Find your center and practice meditation in the spacious and tranquil Buffalo Bayou Park Cistern. Offered in collaboration with Union is Creation\, this meditation series will feature the use of singing bowls and wind chimes to encourage mindfulness and connectivity. \nGuests should bring their own cushions or mats. No food or drinks are allowed inside the Cistern. \nCost: $20 \nPURCHASE TICKETS
URL:https://www.buffalobayou.org/event/sound-healing-meditation-239/
LOCATION:BUFFALO BAYOU PARK CISTERN\, 105 Sabine Street\, Houston\, TX\, 77007\, United States
CATEGORIES:Cistern
ATTACH;FMTTYPE=image/jpeg:https://www.buffalobayou.org/wp-content/uploads/2023/04/sound-bath-high-res-crop-scaled-1.jpg
END:VEVENT
BEGIN:VEVENT
DTSTART;TZID=America/Chicago:20250727T100000
DTEND;TZID=America/Chicago:20250727T104500
DTSTAMP:20260424T225008
CREATED:20250507T194140Z
LAST-MODIFIED:20250507T194140Z
UID:10003860-1753610400-1753613100@www.buffalobayou.org
SUMMARY:Sound Healing Meditation
DESCRIPTION:Find your center and practice meditation in the spacious and tranquil Buffalo Bayou Park Cistern. Offered in collaboration with Union is Creation\, this meditation series will feature the use of singing bowls and wind chimes to encourage mindfulness and connectivity. \nGuests should bring their own cushions or mats. No food or drinks are allowed inside the Cistern. \nCost: $20 \nPURCHASE TICKETS
URL:https://www.buffalobayou.org/event/sound-healing-meditation-240/
LOCATION:BUFFALO BAYOU PARK CISTERN\, 105 Sabine Street\, Houston\, TX\, 77007\, United States
CATEGORIES:Cistern
ATTACH;FMTTYPE=image/jpeg:https://www.buffalobayou.org/wp-content/uploads/2023/04/sound-bath-high-res-crop-scaled-1.jpg
END:VEVENT
BEGIN:VEVENT
DTSTART;TZID=America/Chicago:20250730T180000
DTEND;TZID=America/Chicago:20250730T184500
DTSTAMP:20260424T225008
CREATED:20250507T194202Z
LAST-MODIFIED:20250507T194202Z
UID:10003861-1753898400-1753901100@www.buffalobayou.org
SUMMARY:Sound Healing Meditation
DESCRIPTION:Find your center and practice meditation in the spacious and tranquil Buffalo Bayou Park Cistern. Offered in collaboration with Union is Creation\, this meditation series will feature the use of singing bowls and wind chimes to encourage mindfulness and connectivity. \nGuests should bring their own cushions or mats. No food or drinks are allowed inside the Cistern. \nCost: $20 \nPURCHASE TICKETS
URL:https://www.buffalobayou.org/event/sound-healing-meditation-241/
LOCATION:BUFFALO BAYOU PARK CISTERN\, 105 Sabine Street\, Houston\, TX\, 77007\, United States
CATEGORIES:Cistern
ATTACH;FMTTYPE=image/jpeg:https://www.buffalobayou.org/wp-content/uploads/2023/04/sound-bath-high-res-crop-scaled-1.jpg
END:VEVENT
END:VCALENDAR