BEGIN:VCALENDAR
VERSION:2.0
PRODID:-//Buffalo Bayou Partnership - ECPv6.15.20//NONSGML v1.0//EN
CALSCALE:GREGORIAN
METHOD:PUBLISH
X-ORIGINAL-URL:https://www.buffalobayou.org
X-WR-CALDESC:Events for Buffalo Bayou Partnership
REFRESH-INTERVAL;VALUE=DURATION:PT1H
X-Robots-Tag:noindex
X-PUBLISHED-TTL:PT1H
BEGIN:VTIMEZONE
TZID:UTC
BEGIN:STANDARD
TZOFFSETFROM:+0000
TZOFFSETTO:+0000
TZNAME:UTC
DTSTART:20220101T000000
END:STANDARD
END:VTIMEZONE
BEGIN:VEVENT
DTSTART;TZID=UTC:20230914T193000
DTEND;TZID=UTC:20230914T201500
DTSTAMP:20260420T082807
CREATED:20230801T000358Z
LAST-MODIFIED:20230811T213722Z
UID:10003276-1694719800-1694722500@www.buffalobayou.org
SUMMARY:Underground Sounds: Nameless Sound
DESCRIPTION:UPDATE: All Nameless Sound performances are now SOLD OUT!  For any additional guests wishing to attend\, we will be taking an in-person\, first-come-first-served waiting list beginning exactly 30 minutes prior to each performance time. \nThe next “Underground Sounds” is with DACAMERA October 5-8. Tickets are available starting Friday\, September 8 at 9am. \n*** \nJoin us for Underground Sounds\, a unique music series in the Buffalo Bayou Park Cistern! \nThis fall\, four Houston-based music organizations will perform specially composed or arranged works that highlight the remarkable natural acoustics of the Buffalo Bayou Park Cistern. \nAbout this program: Nameless Sound will present six unique concerts\, each with a different trio of creative musicians collaborating for the first time to explore the special sonic qualities of the Cistern. Each will be a singular experience\, never-to-be repeated\, that will take audiences on a sonic journey of real-time musical composition. \nCost: $25 \nPerformance times: \n\nSeptember 14 at 7:30pm\nSeptember 15 at 7:30pm\nSeptember 16 at 4pm\nSeptember 16 at 7:30pm\nSeptember 17 at 4pm\nSeptember 17 at 7:30pm\n\nPerformers: \n\nSeptember 14: Ethan Adkison\, James Murphy\, Brandon Willis\nSeptember 15: Ethan Adkison\, Justin Jones\, Rebecca Novak\nSeptember 16 at 4pm: Danny Kamins\, Rebecca Novak\, Kory Reeder\nSeptember 16 at 7:30pm: Lisa Cameron\, Christina Carter\, James Murphy\nSeptember 17 at 4pm: Lisa Cameron\, Danny Kamins\, Brandon Willis\nSeptember 17 at 7:30pm: Christina Carter\, Justin Jones\, Kory Reeder\n\n  \nNameless Sound’s mission is to present the best of international contemporary music and to support the exploration of new methods in arts education. Its concert series has become known for a diverse range of international artists who represent the most important and influential names in music\, as well as the emerging cutting-edge. The series features commissions and world-premieres\, as well as special projects that entail collaborations between visiting artists and local musicians. \n 
URL:https://www.buffalobayou.org/event/underground-sounds-nameless-sound-sept-14/
LOCATION:BUFFALO BAYOU PARK CISTERN\, 105 Sabine Street\, Houston\, TX\, 77007\, United States
CATEGORIES:Buffalo Bayou Art,Cistern
ATTACH;FMTTYPE=image/jpeg:https://www.buffalobayou.org/wp-content/uploads/2023/08/Hester_20220211_1580crop-scaled.jpg
END:VEVENT
BEGIN:VEVENT
DTSTART;TZID=UTC:20230915T193000
DTEND;TZID=UTC:20230915T201500
DTSTAMP:20260420T082807
CREATED:20230803T193830Z
LAST-MODIFIED:20230811T213527Z
UID:10003280-1694806200-1694808900@www.buffalobayou.org
SUMMARY:Underground Sounds: Nameless Sound
DESCRIPTION:UPDATE: All Nameless Sound performances are now SOLD OUT!  For any additional guests wishing to attend\, we will be taking an in-person\, first-come-first-served waiting list beginning exactly 30 minutes prior to each performance time. \nThe next “Underground Sounds” is with DACAMERA October 5-8. Tickets are available starting Friday\, September 8 at 9am. \n*** \nJoin us for Underground Sounds\, a unique music series in the Buffalo Bayou Park Cistern! \nThis fall\, four Houston-based music organizations will perform specially composed or arranged works that highlight the remarkable natural acoustics of the Buffalo Bayou Park Cistern. \nAbout this program: Nameless Sound will present six unique concerts\, each with a different trio of creative musicians collaborating for the first time to explore the special sonic qualities of the Cistern. Each will be a singular experience\, never-to-be repeated\, that will take audiences on a sonic journey of real-time musical composition. \nPerformance times: \n\nSeptember 14 at 7:30pm\nSeptember 15 at 7:30pm\nSeptember 16 at 4pm\nSeptember 16 at 7:30pm\nSeptember 17 at 4pm\nSeptember 17 at 7:30pm\n\nPerformers: \n\nSeptember 14: Ethan Adkison\, James Murphy\, Brandon Willis\nSeptember 15: Ethan Adkison\, Justin Jones\, Rebecca Novak\nSeptember 16 at 4pm: Danny Kamins\, Rebecca Novak\, Kory Reeder\nSeptember 16 at 7:30pm: Lisa Cameron\, Christina Carter\, James Murphy\nSeptember 17 at 4pm: Lisa Cameron\, Danny Kamins\, Brandon Willis\nSeptember 17 at 7:30pm: Christina Carter\, Justin Jones\, Kory Reeder\n\n  \nNameless Sound’s mission is to present the best of international contemporary music and to support the exploration of new methods in arts education. Its concert series has become known for a diverse range of international artists who represent the most important and influential names in music\, as well as the emerging cutting-edge. The series features commissions and world-premieres\, as well as special projects that entail collaborations between visiting artists and local musicians.
URL:https://www.buffalobayou.org/event/underground-sounds-nameless-sound-sept-15/
LOCATION:BUFFALO BAYOU PARK CISTERN\, 105 Sabine Street\, Houston\, TX\, 77007\, United States
CATEGORIES:Buffalo Bayou Art,Cistern
ATTACH;FMTTYPE=image/jpeg:https://www.buffalobayou.org/wp-content/uploads/2023/08/Hester_20220211_1580crop-scaled.jpg
END:VEVENT
BEGIN:VEVENT
DTSTART;TZID=UTC:20230916T193000
DTEND;TZID=UTC:20230916T201500
DTSTAMP:20260420T082807
CREATED:20230803T193821Z
LAST-MODIFIED:20230811T213545Z
UID:10003282-1694892600-1694895300@www.buffalobayou.org
SUMMARY:Underground Sounds: Nameless Sound
DESCRIPTION:UPDATE: All Nameless Sound performances are now SOLD OUT!  For any additional guests wishing to attend\, we will be taking an in-person\, first-come-first-served waiting list beginning exactly 30 minutes prior to each performance time. \nThe next “Underground Sounds” is with DACAMERA October 5-8. Tickets are available starting Friday\, September 8 at 9am. \n*** \nJoin us for Underground Sounds\, a unique music series in the Buffalo Bayou Park Cistern! \nThis fall\, four Houston-based music organizations will perform specially composed or arranged works that highlight the remarkable natural acoustics of the Buffalo Bayou Park Cistern. \nAbout this program: Nameless Sound will present six unique concerts\, each with a different trio of creative musicians collaborating for the first time to explore the special sonic qualities of the Cistern. Each will be a singular experience\, never-to-be repeated\, that will take audiences on a sonic journey of real-time musical composition. \n  \nCost: $25 \nPerformance times: \n\nSeptember 14 at 7:30pm\nSeptember 15 at 7:30pm\nSeptember 16 at 4pm\nSeptember 16 at 7:30pm\nSeptember 17 at 4pm\nSeptember 17 at 7:30pm\n\nPerformers: \n\nSeptember 14: Ethan Adkison\, James Murphy\, Brandon Willis\nSeptember 15: Ethan Adkison\, Justin Jones\, Rebecca Novak\nSeptember 16 at 4pm: Danny Kamins\, Rebecca Novak\, Kory Reeder\nSeptember 16 at 7:30pm: Lisa Cameron\, Christina Carter\, James Murphy\nSeptember 17 at 4pm: Lisa Cameron\, Danny Kamins\, Brandon Willis\nSeptember 17 at 7:30pm: Christina Carter\, Justin Jones\, Kory Reeder\n\n  \nNameless Sound’s mission is to present the best of international contemporary music and to support the exploration of new methods in arts education. Its concert series has become known for a diverse range of international artists who represent the most important and influential names in music\, as well as the emerging cutting-edge. The series features commissions and world-premieres\, as well as special projects that entail collaborations between visiting artists and local musicians.
URL:https://www.buffalobayou.org/event/underground-sounds-nameless-sound-sept-16-730pm/
LOCATION:BUFFALO BAYOU PARK CISTERN\, 105 Sabine Street\, Houston\, TX\, 77007\, United States
CATEGORIES:Buffalo Bayou Art,Cistern
ATTACH;FMTTYPE=image/jpeg:https://www.buffalobayou.org/wp-content/uploads/2023/08/Hester_20220211_1580crop-scaled.jpg
END:VEVENT
BEGIN:VEVENT
DTSTART;TZID=UTC:20230917T160000
DTEND;TZID=UTC:20230917T164500
DTSTAMP:20260420T082807
CREATED:20230803T193759Z
LAST-MODIFIED:20230811T213634Z
UID:10003283-1694966400-1694969100@www.buffalobayou.org
SUMMARY:Underground Sounds: Nameless Sound
DESCRIPTION:UPDATE: All Nameless Sound performances are now SOLD OUT!  For any additional guests wishing to attend\, we will be taking an in-person\, first-come-first-served waiting list beginning exactly 30 minutes prior to each performance time. \nThe next “Underground Sounds” is with DACAMERA October 5-8. Tickets are available starting Friday\, September 8 at 9am. \n*** \nJoin us for Underground Sounds\, a unique music series in the Buffalo Bayou Park Cistern! \nThis fall\, four Houston-based music organizations will perform specially composed or arranged works that highlight the remarkable natural acoustics of the Buffalo Bayou Park Cistern. \nAbout this program: Nameless Sound will present six unique concerts\, each with a different trio of creative musicians collaborating for the first time to explore the special sonic qualities of the Cistern. Each will be a singular experience\, never-to-be repeated\, that will take audiences on a sonic journey of real-time musical composition. \nCost: $25 \nPerformance times: \n\nSeptember 14 at 7:30pm\nSeptember 15 at 7:30pm\nSeptember 16 at 4pm\nSeptember 16 at 7:30pm\nSeptember 17 at 4pm\nSeptember 17 at 7:30pm\n\nPerformers: \n\nSeptember 14: Ethan Adkison\, James Murphy\, Brandon Willis\nSeptember 15: Ethan Adkison\, Justin Jones\, Rebecca Novak\nSeptember 16 at 4pm: Danny Kamins\, Rebecca Novak\, Kory Reeder\nSeptember 16 at 7:30pm: Lisa Cameron\, Christina Carter\, James Murphy\nSeptember 17 at 4pm: Lisa Cameron\, Danny Kamins\, Brandon Willis\nSeptember 17 at 7:30pm: Christina Carter\, Justin Jones\, Kory Reeder\n\nNameless Sound’s mission is to present the best of international contemporary music and to support the exploration of new methods in arts education. Its concert series has become known for a diverse range of international artists who represent the most important and influential names in music\, as well as the emerging cutting-edge. The series features commissions and world-premieres\, as well as special projects that entail collaborations between visiting artists and local musicians.
URL:https://www.buffalobayou.org/event/underground-sounds-nameless-sound-sept-17-4pm/
LOCATION:BUFFALO BAYOU PARK CISTERN\, 105 Sabine Street\, Houston\, TX\, 77007\, United States
CATEGORIES:Buffalo Bayou Art,Cistern
ATTACH;FMTTYPE=image/jpeg:https://www.buffalobayou.org/wp-content/uploads/2023/08/Hester_20220211_1580crop-scaled.jpg
END:VEVENT
BEGIN:VEVENT
DTSTART;TZID=UTC:20230917T193000
DTEND;TZID=UTC:20230917T201500
DTSTAMP:20260420T082807
CREATED:20230803T193810Z
LAST-MODIFIED:20230811T213609Z
UID:10003284-1694979000-1694981700@www.buffalobayou.org
SUMMARY:Underground Sounds: Nameless Sound
DESCRIPTION:UPDATE: All Nameless Sound performances are now SOLD OUT!  For any additional guests wishing to attend\, we will be taking an in-person\, first-come-first-served waiting list beginning exactly 30 minutes prior to each performance time. \nThe next “Underground Sounds” is with DACAMERA October 5-8. Tickets are available starting Friday\, September 8 at 9am. \n*** \nJoin us for Underground Sounds\, a unique music series in the Buffalo Bayou Park Cistern! \nThis fall\, four Houston-based music organizations will perform specially composed or arranged works that highlight the remarkable natural acoustics of the Buffalo Bayou Park Cistern. \nAbout this program: Nameless Sound will present six unique concerts\, each with a different trio of creative musicians collaborating for the first time to explore the special sonic qualities of the Cistern. Each will be a singular experience\, never-to-be repeated\, that will take audiences on a sonic journey of real-time musical composition. \nCost: $25 \nPerformance times: \n\nSeptember 14 at 7:30pm\nSeptember 15 at 7:30pm\nSeptember 16 at 4pm\nSeptember 16 at 7:30pm\nSeptember 17 at 4pm\nSeptember 17 at 7:30pm\n\nPerformers: \n\nSeptember 14: Ethan Adkison\, James Murphy\, Brandon Willis\nSeptember 15: Ethan Adkison\, Justin Jones\, Rebecca Novak\nSeptember 16 at 4pm: Danny Kamins\, Rebecca Novak\, Kory Reeder\nSeptember 16 at 7:30pm: Lisa Cameron\, Christina Carter\, James Murphy\nSeptember 17 at 4pm: Lisa Cameron\, Danny Kamins\, Brandon Willis\nSeptember 17 at 7:30pm: Christina Carter\, Justin Jones\, Kory Reeder\n\nNameless Sound’s mission is to present the best of international contemporary music and to support the exploration of new methods in arts education. Its concert series has become known for a diverse range of international artists who represent the most important and influential names in music\, as well as the emerging cutting-edge. The series features commissions and world-premieres\, as well as special projects that entail collaborations between visiting artists and local musicians.
URL:https://www.buffalobayou.org/event/underground-sounds-nameless-sound-sept-17-730pm/
LOCATION:BUFFALO BAYOU PARK CISTERN\, 105 Sabine Street\, Houston\, TX\, 77007\, United States
CATEGORIES:Buffalo Bayou Art,Cistern
ATTACH;FMTTYPE=image/jpeg:https://www.buffalobayou.org/wp-content/uploads/2023/08/Hester_20220211_1580crop-scaled.jpg
END:VEVENT
END:VCALENDAR