BEGIN:VCALENDAR
VERSION:2.0
PRODID:-//Buffalo Bayou Partnership - ECPv6.15.20//NONSGML v1.0//EN
CALSCALE:GREGORIAN
METHOD:PUBLISH
X-ORIGINAL-URL:https://www.buffalobayou.org
X-WR-CALDESC:Events for Buffalo Bayou Partnership
REFRESH-INTERVAL;VALUE=DURATION:PT1H
X-Robots-Tag:noindex
X-PUBLISHED-TTL:PT1H
BEGIN:VTIMEZONE
TZID:America/Chicago
BEGIN:DAYLIGHT
TZOFFSETFROM:-0600
TZOFFSETTO:-0500
TZNAME:CDT
DTSTART:20210314T080000
END:DAYLIGHT
BEGIN:STANDARD
TZOFFSETFROM:-0500
TZOFFSETTO:-0600
TZNAME:CST
DTSTART:20211107T070000
END:STANDARD
BEGIN:DAYLIGHT
TZOFFSETFROM:-0600
TZOFFSETTO:-0500
TZNAME:CDT
DTSTART:20220313T080000
END:DAYLIGHT
BEGIN:STANDARD
TZOFFSETFROM:-0500
TZOFFSETTO:-0600
TZNAME:CST
DTSTART:20221106T070000
END:STANDARD
BEGIN:DAYLIGHT
TZOFFSETFROM:-0600
TZOFFSETTO:-0500
TZNAME:CDT
DTSTART:20230312T080000
END:DAYLIGHT
BEGIN:STANDARD
TZOFFSETFROM:-0500
TZOFFSETTO:-0600
TZNAME:CST
DTSTART:20231105T070000
END:STANDARD
END:VTIMEZONE
BEGIN:VEVENT
DTSTART;TZID=America/Chicago:20220507T120000
DTEND;TZID=America/Chicago:20220507T123000
DTSTAMP:20260424T104107
CREATED:20220311T215414Z
LAST-MODIFIED:20220311T215414Z
UID:10002789-1651924800-1651926600@www.buffalobayou.org
SUMMARY:Underground Sounds: ROCO
DESCRIPTION:All performances are now sold out. To be added to the waitlist\, please email Trudi Smith at tsmith@buffalobayou.org. \n\nJoin us for a special music series in the Buffalo Bayou Park Cistern! \nThroughout 2022\, Buffalo Bayou Partnership (BBP) is collaborating with Houston organizations on Underground Sounds\, a series of musical performances that highlight the remarkable natural acoustics of the Buffalo Bayou Park Cistern. \nUnderground Sounds returns with performances by ROCO\, an innovative music ensemble known for customizing and modernizing classical music. For this engagement\, ROCO has commissioned Houston-based Marcus Maroney to create Interwoven\, a site-specific composition that plays upon the rare acoustics of the historic venue. \nGuests will have the opportunity to tour the Cistern plus enjoy the performance\, which will be presented at 10:00 am\, 12:00 pm\, 2:00 pm\, 4:00 pm & 6:00 pm. \nFeatured ROCO musicians will be:\nGeorge Chase\, Flugelhorn\nGavin Reed\, French Horn\nThomas Hulten\, Trombone\nJared Lantzy\, Bass Trombone \n  \nFor ticketing issues\, please email Trudi Smith at tsmith@buffalobayou.org. \nSOLD OUT
URL:https://www.buffalobayou.org/event/underground-sounds-roco-2022-05-07/
LOCATION:Second Saturday Boat Ride
CATEGORIES:Buffalo Bayou Art
ATTACH;FMTTYPE=image/jpeg:https://www.buffalobayou.org/wp-content/uploads/2023/04/Underground-sounds-2022-1-scaled-1.jpg
END:VEVENT
BEGIN:VEVENT
DTSTART;TZID=America/Chicago:20220507T140000
DTEND;TZID=America/Chicago:20220507T143000
DTSTAMP:20260424T104107
CREATED:20220311T215414Z
LAST-MODIFIED:20220311T215414Z
UID:10002791-1651932000-1651933800@www.buffalobayou.org
SUMMARY:Underground Sounds: ROCO
DESCRIPTION:All performances are now sold out. To be added to the waitlist\, please email Trudi Smith at tsmith@buffalobayou.org. \n\nJoin us for a special music series in the Buffalo Bayou Park Cistern! \nThroughout 2022\, Buffalo Bayou Partnership (BBP) is collaborating with Houston organizations on Underground Sounds\, a series of musical performances that highlight the remarkable natural acoustics of the Buffalo Bayou Park Cistern. \nUnderground Sounds returns with performances by ROCO\, an innovative music ensemble known for customizing and modernizing classical music. For this engagement\, ROCO has commissioned Houston-based Marcus Maroney to create Interwoven\, a site-specific composition that plays upon the rare acoustics of the historic venue. \nGuests will have the opportunity to tour the Cistern plus enjoy the performance\, which will be presented at 10:00 am\, 12:00 pm\, 2:00 pm\, 4:00 pm & 6:00 pm. \nFeatured ROCO musicians will be:\nGeorge Chase\, Flugelhorn\nGavin Reed\, French Horn\nThomas Hulten\, Trombone\nJared Lantzy\, Bass Trombone \n  \nFor ticketing issues\, please email Trudi Smith at tsmith@buffalobayou.org. \nSOLD OUT
URL:https://www.buffalobayou.org/event/underground-sounds-roco-2022-05-07-2/
LOCATION:Second Saturday Boat Ride
CATEGORIES:Buffalo Bayou Art
ATTACH;FMTTYPE=image/jpeg:https://www.buffalobayou.org/wp-content/uploads/2023/04/Underground-sounds-2022-1-scaled-1.jpg
END:VEVENT
BEGIN:VEVENT
DTSTART;TZID=America/Chicago:20220507T160000
DTEND;TZID=America/Chicago:20220507T163000
DTSTAMP:20260424T104108
CREATED:20220311T215414Z
LAST-MODIFIED:20220311T215414Z
UID:10002793-1651939200-1651941000@www.buffalobayou.org
SUMMARY:Underground Sounds: ROCO
DESCRIPTION:All performances are now sold out. To be added to the waitlist\, please email Trudi Smith at tsmith@buffalobayou.org. \n\nJoin us for a special music series in the Buffalo Bayou Park Cistern! \nThroughout 2022\, Buffalo Bayou Partnership (BBP) is collaborating with Houston organizations on Underground Sounds\, a series of musical performances that highlight the remarkable natural acoustics of the Buffalo Bayou Park Cistern. \nUnderground Sounds returns with performances by ROCO\, an innovative music ensemble known for customizing and modernizing classical music. For this engagement\, ROCO has commissioned Houston-based Marcus Maroney to create Interwoven\, a site-specific composition that plays upon the rare acoustics of the historic venue. \nGuests will have the opportunity to tour the Cistern plus enjoy the performance\, which will be presented at 10:00 am\, 12:00 pm\, 2:00 pm\, 4:00 pm & 6:00 pm. \nFeatured ROCO musicians will be:\nGeorge Chase\, Flugelhorn\nGavin Reed\, French Horn\nThomas Hulten\, Trombone\nJared Lantzy\, Bass Trombone \n  \nFor ticketing issues\, please email Trudi Smith at tsmith@buffalobayou.org. \nSOLD OUT
URL:https://www.buffalobayou.org/event/underground-sounds-roco-2022-05-07-3/
LOCATION:Second Saturday Boat Ride
CATEGORIES:Buffalo Bayou Art
ATTACH;FMTTYPE=image/jpeg:https://www.buffalobayou.org/wp-content/uploads/2023/04/Underground-sounds-2022-1-scaled-1.jpg
END:VEVENT
BEGIN:VEVENT
DTSTART;TZID=America/Chicago:20220507T180000
DTEND;TZID=America/Chicago:20220507T183000
DTSTAMP:20260424T104108
CREATED:20220311T215414Z
LAST-MODIFIED:20220311T215414Z
UID:10002795-1651946400-1651948200@www.buffalobayou.org
SUMMARY:Underground Sounds: ROCO
DESCRIPTION:All performances are now sold out. To be added to the waitlist\, please email Trudi Smith at tsmith@buffalobayou.org. \n\nJoin us for a special music series in the Buffalo Bayou Park Cistern! \nThroughout 2022\, Buffalo Bayou Partnership (BBP) is collaborating with Houston organizations on Underground Sounds\, a series of musical performances that highlight the remarkable natural acoustics of the Buffalo Bayou Park Cistern. \nUnderground Sounds returns with performances by ROCO\, an innovative music ensemble known for customizing and modernizing classical music. For this engagement\, ROCO has commissioned Houston-based Marcus Maroney to create Interwoven\, a site-specific composition that plays upon the rare acoustics of the historic venue. \nGuests will have the opportunity to tour the Cistern plus enjoy the performance\, which will be presented at 10:00 am\, 12:00 pm\, 2:00 pm\, 4:00 pm & 6:00 pm. \nFeatured ROCO musicians will be:\nGeorge Chase\, Flugelhorn\nGavin Reed\, French Horn\nThomas Hulten\, Trombone\nJared Lantzy\, Bass Trombone \n  \nFor ticketing issues\, please email Trudi Smith at tsmith@buffalobayou.org. \nSOLD OUT
URL:https://www.buffalobayou.org/event/underground-sounds-roco-2022-05-07-4/
LOCATION:Second Saturday Boat Ride
CATEGORIES:Buffalo Bayou Art
ATTACH;FMTTYPE=image/jpeg:https://www.buffalobayou.org/wp-content/uploads/2023/04/Underground-sounds-2022-1-scaled-1.jpg
END:VEVENT
END:VCALENDAR