BEGIN:VCALENDAR
VERSION:2.0
PRODID:-//Buffalo Bayou Partnership - ECPv6.15.20//NONSGML v1.0//EN
CALSCALE:GREGORIAN
METHOD:PUBLISH
X-ORIGINAL-URL:https://www.buffalobayou.org
X-WR-CALDESC:Events for Buffalo Bayou Partnership
REFRESH-INTERVAL;VALUE=DURATION:PT1H
X-Robots-Tag:noindex
X-PUBLISHED-TTL:PT1H
BEGIN:VTIMEZONE
TZID:America/Chicago
BEGIN:DAYLIGHT
TZOFFSETFROM:-0600
TZOFFSETTO:-0500
TZNAME:CDT
DTSTART:20150308T080000
END:DAYLIGHT
BEGIN:STANDARD
TZOFFSETFROM:-0500
TZOFFSETTO:-0600
TZNAME:CST
DTSTART:20151101T070000
END:STANDARD
BEGIN:DAYLIGHT
TZOFFSETFROM:-0600
TZOFFSETTO:-0500
TZNAME:CDT
DTSTART:20160313T080000
END:DAYLIGHT
BEGIN:STANDARD
TZOFFSETFROM:-0500
TZOFFSETTO:-0600
TZNAME:CST
DTSTART:20161106T070000
END:STANDARD
BEGIN:DAYLIGHT
TZOFFSETFROM:-0600
TZOFFSETTO:-0500
TZNAME:CDT
DTSTART:20170312T080000
END:DAYLIGHT
BEGIN:STANDARD
TZOFFSETFROM:-0500
TZOFFSETTO:-0600
TZNAME:CST
DTSTART:20171105T070000
END:STANDARD
BEGIN:DAYLIGHT
TZOFFSETFROM:-0600
TZOFFSETTO:-0500
TZNAME:CDT
DTSTART:20180311T080000
END:DAYLIGHT
BEGIN:STANDARD
TZOFFSETFROM:-0500
TZOFFSETTO:-0600
TZNAME:CST
DTSTART:20181104T070000
END:STANDARD
BEGIN:DAYLIGHT
TZOFFSETFROM:-0600
TZOFFSETTO:-0500
TZNAME:CDT
DTSTART:20190310T080000
END:DAYLIGHT
BEGIN:STANDARD
TZOFFSETFROM:-0500
TZOFFSETTO:-0600
TZNAME:CST
DTSTART:20191103T070000
END:STANDARD
END:VTIMEZONE
BEGIN:VTIMEZONE
TZID:UTC
BEGIN:STANDARD
TZOFFSETFROM:+0000
TZOFFSETTO:+0000
TZNAME:UTC
DTSTART:20140101T000000
END:STANDARD
END:VTIMEZONE
BEGIN:VEVENT
DTSTART;TZID=America/Chicago:20180707T100000
DTEND;TZID=America/Chicago:20180707T113000
DTSTAMP:20260419T120839
CREATED:20180111T212158Z
LAST-MODIFIED:20180111T212158Z
UID:10002234-1530957600-1530963000@www.buffalobayou.org
SUMMARY:"Looking Back" History Tour
DESCRIPTION:Time: 10 – 11:30 am \nCost: $40 per person (children under 4 are not permitted on boat tours) \nWeather permitting. Reservations must be made by selecting an available date on the right. \nAboard BBP’s pontoon boat\, take a look back to the late 1800s when Houston was founded with Louis Aulbach\, local historian and author of Buffalo Bayou: An Echo of Houston’s Wilderness Beginning or Andrew Groocock\, local historian. Hear stories of the Allen brothers and historical information about the people\, places and events along the bayou that helped shape Houston. \nBuy Tickets
URL:https://www.buffalobayou.org/event/looking-back-history-tour-july-7-2018/
LOCATION:Volunteer
CATEGORIES:History Tours
ATTACH;FMTTYPE=image/jpeg:https://www.buffalobayou.org/wp-content/uploads/2023/04/Copy-of-AllensLanding-SS-Coffee-e1484851772677-1.jpg
END:VEVENT
BEGIN:VEVENT
DTSTART;TZID=America/Chicago:20180707T100000
DTEND;TZID=America/Chicago:20180707T113000
DTSTAMP:20260419T120839
CREATED:20180111T212158Z
LAST-MODIFIED:20230422T153625Z
UID:10001912-1530957600-1530963000@www.buffalobayou.org
SUMMARY:"Looking Back" History Tour
DESCRIPTION:Time: 10 – 11:30 am \nCost: $40 per person (children under 4 are not permitted on boat tours) \nWeather permitting. Reservations must be made by selecting an available date on the right. \nAboard BBP’s pontoon boat\, take a look back to the late 1800s when Houston was founded with Louis Aulbach\, local historian and author of Buffalo Bayou: An Echo of Houston’s Wilderness Beginning or Andrew Groocock\, local historian. Hear stories of the Allen brothers and historical information about the people\, places and events along the bayou that helped shape Houston. \nBuy Tickets
URL:https://www.buffalobayou.org/event/looking-back-history-tour-july-7-2018-2/
LOCATION:Volunteer
CATEGORIES:History Tours
ATTACH;FMTTYPE=image/jpeg:https://www.buffalobayou.org/wp-content/uploads/2023/04/Copy-of-AllensLanding-SS-Coffee-e1484851772677-1.jpg
END:VEVENT
BEGIN:VEVENT
DTSTART;TZID=America/Chicago:20180707T100000
DTEND;TZID=America/Chicago:20180707T113000
DTSTAMP:20260419T120839
CREATED:20180111T212158Z
LAST-MODIFIED:20230422T170954Z
UID:10002230-1530957600-1530963000@www.buffalobayou.org
SUMMARY:"Looking Back" History Tour
DESCRIPTION:Time: 10 – 11:30 am \nCost: $40 per person (children under 4 are not permitted on boat tours) \nWeather permitting. Reservations must be made by selecting an available date on the right. \nAboard BBP’s pontoon boat\, take a look back to the late 1800s when Houston was founded with Louis Aulbach\, local historian and author of Buffalo Bayou: An Echo of Houston’s Wilderness Beginning or Andrew Groocock\, local historian. Hear stories of the Allen brothers and historical information about the people\, places and events along the bayou that helped shape Houston. \nBuy Tickets
URL:https://www.buffalobayou.org/event/looking-back-history-tour-july-7-2018-3/
LOCATION:Volunteer
CATEGORIES:History Tours
ATTACH;FMTTYPE=image/jpeg:https://www.buffalobayou.org/wp-content/uploads/2023/04/Copy-of-AllensLanding-SS-Coffee-e1484851772677.jpg
END:VEVENT
BEGIN:VEVENT
DTSTART;TZID=America/Chicago:20180602T100000
DTEND;TZID=America/Chicago:20180602T113000
DTSTAMP:20260419T120839
CREATED:20180111T211958Z
LAST-MODIFIED:20180111T211958Z
UID:10002233-1527933600-1527939000@www.buffalobayou.org
SUMMARY:SOLD OUT - "Looking Back" History Tour
DESCRIPTION:This tour is sold out. Please see other boat tour dates and times here. \n\nTime: 10 – 11:30 am \nCost: $40 per person (children under 4 are not permitted on boat tours) \nWeather permitting. Reservations must be made by selecting an available date on the right. \nAboard BBP’s pontoon boat\, take a look back to the late 1800s when Houston was founded with Louis Aulbach\, local historian and author of Buffalo Bayou: An Echo of Houston’s Wilderness Beginning or Andrew Groocock\, local historian. Hear stories of the Allen brothers and historical information about the people\, places and events along the bayou that helped shape Houston.
URL:https://www.buffalobayou.org/event/looking-back-history-tour-june-2-2018/
LOCATION:Volunteer
CATEGORIES:History Tours
ATTACH;FMTTYPE=image/jpeg:https://www.buffalobayou.org/wp-content/uploads/2023/04/Copy-of-AllensLanding-SS-Coffee-e1484851772677-1.jpg
END:VEVENT
BEGIN:VEVENT
DTSTART;TZID=America/Chicago:20180526T100000
DTEND;TZID=America/Chicago:20180526T113000
DTSTAMP:20260419T120839
CREATED:20171130T205419Z
LAST-MODIFIED:20171130T205419Z
UID:10002195-1527328800-1527334200@www.buffalobayou.org
SUMMARY:SOLD OUT: "Looking Back" History Tour
DESCRIPTION:This tour is sold out. Please see other boat tour dates and times here. \n\nTime: 10 – 11:30 am \nCost: $40 per person (children under 4 are not permitted on boat tours) \nWeather permitting. Reservations must be made by selecting an available date on the right. \nAboard BBP’s pontoon boat\, take a look back to the late 1800s when Houston was founded with Louis Aulbach\, local historian and author of Buffalo Bayou: An Echo of Houston’s Wilderness Beginnings or Andrew Groocock\, local historian. Louis will share stories of the Allen brothers and provide historical information about the people\, places and events along the bayou that helped shape Houston.
URL:https://www.buffalobayou.org/event/looking-back-history-tour-may-26-2018/
LOCATION:Volunteer
CATEGORIES:History Tours
ATTACH;FMTTYPE=image/jpeg:https://www.buffalobayou.org/wp-content/uploads/2023/04/Copy-of-AllensLanding-SS-Coffee-e1484851772677-1.jpg
END:VEVENT
BEGIN:VEVENT
DTSTART;TZID=America/Chicago:20180428T100000
DTEND;TZID=America/Chicago:20180428T113000
DTSTAMP:20260419T120839
CREATED:20171130T204943Z
LAST-MODIFIED:20171130T204943Z
UID:10001914-1524909600-1524915000@www.buffalobayou.org
SUMMARY:SOLD OUT: "Looking Back" History Tour
DESCRIPTION:This tour is sold out. Please see other boat tour dates and times here. \n\nTime: 10 – 11:30 am \nCost: $40 per person (children under 4 are not permitted on boat tours) \nWeather permitting. Reservations must be made by selecting an available date on the right. \nAboard BBP’s pontoon boat\, take a look back to the late 1800s when Houston was founded with Louis Aulbach\, local historian and author of Buffalo Bayou: An Echo of Houston’s Wilderness Beginnings or Andrew Groocock\, local historian. Louis will share stories of the Allen brothers and provide historical information about the people\, places and events along the bayou that helped shape Houston.
URL:https://www.buffalobayou.org/event/looking-back-history-tour-april-28-2018/
LOCATION:Volunteer
CATEGORIES:History Tours
ATTACH;FMTTYPE=image/jpeg:https://www.buffalobayou.org/wp-content/uploads/2023/04/Copy-of-AllensLanding-SS-Coffee-e1484851772677-1.jpg
END:VEVENT
BEGIN:VEVENT
DTSTART;TZID=America/Chicago:20161203T100000
DTEND;TZID=America/Chicago:20161203T113000
DTSTAMP:20260419T120840
CREATED:20160516T193551Z
LAST-MODIFIED:20160516T193551Z
UID:10002022-1480759200-1480764600@www.buffalobayou.org
SUMMARY:SOLD OUT: "Looking Back" Boat Tour
DESCRIPTION:This boat tour is SOLD OUT! Check back in 2017 for future tour dates. \n\n  \nBuffalo Bayou Partnership invites you to take a look back to the late 1800s\, when Houston was founded. Louis Aulbach\, local historian and author of Buffalo Bayou: An Echo of Houston’s Wilderness Beginnings\, will be your guide. Listen to stories about the Allen brothers\, the founders of Houston\, and learn more about the places\, people\, animals and events along Buffalo Bayou that helped shape Houston. \nCost: $40 per person \nRestrictions: Weather and water levels permitting. Children under 4 are not permitted on boat tours.
URL:https://www.buffalobayou.org/event/looking-back-boat-tour-9/
LOCATION:Note
CATEGORIES:History Tours
ATTACH;FMTTYPE=image/jpeg:https://www.buffalobayou.org/wp-content/uploads/2023/04/slideshow-03.jpg
END:VEVENT
BEGIN:VEVENT
DTSTART;TZID=America/Chicago:20161105T100000
DTEND;TZID=America/Chicago:20161105T113000
DTSTAMP:20260419T120840
CREATED:20160516T193224Z
LAST-MODIFIED:20160516T193224Z
UID:10002020-1478340000-1478345400@www.buffalobayou.org
SUMMARY:SOLD OUT: "Looking Back" Boat Tour
DESCRIPTION:This boat tour is SOLD OUT. Please see our Boat Tours page for other available dates and times. \n\n  \nBuffalo Bayou Partnership invites you to take a look back to the late 1800s\, when Houston was founded. Louis Aulbach\, local historian and author of Buffalo Bayou: An Echo of Houston’s Wilderness Beginnings\, will be your guide. Listen to stories about the Allen brothers\, the founders of Houston\, and learn more about the places\, people\, animals and events along Buffalo Bayou that helped shape Houston. \nCost: $40 per person \nRestrictions: Weather and water levels permitting. Children under 4 are not permitted on boat tours.
URL:https://www.buffalobayou.org/event/looking-back-boat-tour-8/
LOCATION:Note
CATEGORIES:History Tours
ATTACH;FMTTYPE=image/jpeg:https://www.buffalobayou.org/wp-content/uploads/2023/04/slideshow-03.jpg
END:VEVENT
BEGIN:VEVENT
DTSTART;TZID=America/Chicago:20161028T180000
DTEND;TZID=America/Chicago:20161028T193000
DTSTAMP:20260419T120840
CREATED:20161005T013959Z
LAST-MODIFIED:20161005T013959Z
UID:10001842-1477677600-1477683000@www.buffalobayou.org
SUMMARY:SOLD OUT - The Bayou of Lost Souls Boat Ride
DESCRIPTION:This boat tour is sold out.  Please go to our Boat Tours page for other available boat tour dates and times. \n\n  \nJoin Buffalo Bayou Partnership for a ghostly evening on the Spirit of Buffalo Bayou pontoon boat. Led by historian and “ghost writer” Andrew Groocock\, listen to stories of haunted tales and legends of Buffalo Bayou. Libations courtesy of Saint Arnold Brewing Company and light bites from Spaghetti Warehouse. \nCostumes are encouraged in keeping with the Halloween spirit and to continue the ghoulish fun in downtown after your tour. \nCancellation Policy: To receive full refund\, please notify BBP 48 hours prior to boat tour of any cancellation. \nQuestions? Please contact Trudi Smith at 713.752.0314 ext. 103.
URL:https://www.buffalobayou.org/event/the-bayou-of-lost-souls-boat-ride/
LOCATION:Note
CATEGORIES:History Tours
ATTACH;FMTTYPE=image/jpeg:https://www.buffalobayou.org/wp-content/uploads/2023/04/DSC_0760-scaled.jpg
END:VEVENT
BEGIN:VEVENT
DTSTART;TZID=America/Chicago:20161022T100000
DTEND;TZID=America/Chicago:20161022T113000
DTSTAMP:20260419T120840
CREATED:20160516T192904Z
LAST-MODIFIED:20160516T192904Z
UID:10002019-1477130400-1477135800@www.buffalobayou.org
SUMMARY:SOLD OUT - "Looking Back" Boat Tour
DESCRIPTION:This boat tour is sold out.  Please go to our Boat Tours page for other available boat tour dates and times. \nBuffalo Bayou Partnership invites you to take a look back to the late 1800s\, when Houston was founded. Louis Aulbach\, local historian and author of Buffalo Bayou: An Echo of Houston’s Wilderness Beginnings\, will be your guide. Listen to stories about the Allen brothers\, the founders of Houston\, and learn more about the places\, people\, animals and events along Buffalo Bayou that helped shape Houston. \nCost: $40 per person \nRestrictions: Weather and water levels permitting. Children under 4 are not permitted on boat tours.
URL:https://www.buffalobayou.org/event/looking-back-boat-tour-7/
LOCATION:Note
CATEGORIES:History Tours
ATTACH;FMTTYPE=image/jpeg:https://www.buffalobayou.org/wp-content/uploads/2023/04/slideshow-03.jpg
END:VEVENT
BEGIN:VEVENT
DTSTART;TZID=UTC:20150516T100000
DTEND;TZID=UTC:20150516T113000
DTSTAMP:20260419T120840
CREATED:20150110T004157Z
LAST-MODIFIED:20150110T004157Z
UID:10001894-1431770400-1431775800@www.buffalobayou.org
SUMMARY:SOLD OUT - “Looking Back” Boat Tour
DESCRIPTION:THIS TOUR IS SOLD OUT. \nBuffalo Bayou Partnership invites you to take a look back to the late 1800s\, when Houston was founded\, to learn about the important individuals and families along Buffalo Bayou who helped shape Houston. Louis Aulbach\, local historian and author of Buffalo Bayou: An Echo of Houston’s Wilderness Beginnings will be your guide. He will share stories of the Allen brothers\, the founders of Houston\, and provide historical information about places\, people\, animals and events along the bayou west and east of downtown. \nCost: $40 per person \nRestrictions: Weather permitting. Children under 4 are not permitted on boat tours.
URL:https://www.buffalobayou.org/event/looking-back-boat-tour-3/
LOCATION:Note
CATEGORIES:History Tours
ATTACH;FMTTYPE=image/jpeg:https://www.buffalobayou.org/wp-content/uploads/2023/04/slideshow-03.jpg
END:VEVENT
BEGIN:VEVENT
DTSTART;TZID=UTC:20150404T100000
DTEND;TZID=UTC:20150404T113000
DTSTAMP:20260419T120840
CREATED:20150110T003951Z
LAST-MODIFIED:20150110T003951Z
UID:10001892-1428141600-1428147000@www.buffalobayou.org
SUMMARY:“Looking Back” Boat Tour - SOLD OUT
DESCRIPTION:This boat tour is SOLD OUT! Please refer to the Boat Tours page for upcoming dates. \nBuffalo Bayou Partnership invites you to take a look back to the late 1800s\, when Houston was founded\, to learn about the important individuals and families along Buffalo Bayou who helped shape Houston. Louis Aulbach\, local historian and author of Buffalo Bayou: An Echo of Houston’s Wilderness Beginnings will be your guide. He will share stories of the Allen brothers\, the founders of Houston\, and provide historical information about places\, people\, animals and events along the bayou west and east of downtown. \nCost: $40 per person \nRestrictions: Weather permitting. Children under 4 are not permitted on boat tours.
URL:https://www.buffalobayou.org/event/looking-back-boat-tour-2/
LOCATION:Note
CATEGORIES:History Tours
ATTACH;FMTTYPE=image/jpeg:https://www.buffalobayou.org/wp-content/uploads/2023/04/BBayou-4.jpg
END:VEVENT
BEGIN:VEVENT
DTSTART;TZID=UTC:20150321T100000
DTEND;TZID=UTC:20150321T113000
DTSTAMP:20260419T120840
CREATED:20150110T003726Z
LAST-MODIFIED:20150110T003726Z
UID:10001886-1426932000-1426937400@www.buffalobayou.org
SUMMARY:"Looking Back" Boat Tour
DESCRIPTION:Buffalo Bayou Partnership invites you to take a look back to the late 1800s\, when Houston was founded\, to learn about the important individuals and families along Buffalo Bayou who helped shape Houston. Louis Aulbach\, local historian and author of Buffalo Bayou: An Echo of Houston’s Wilderness Beginnings will be your guide. He will share stories of the Allen brothers\, the founders of Houston\, and provide historical information about places\, people\, animals and events along the bayou west and east of downtown. \nCost: $40 per person \nRestrictions: Weather permitting. Children under 4 are not permitted on boat tours. \nReserve Your Spot!
URL:https://www.buffalobayou.org/event/looking-back-boat-tour/
LOCATION:Note
CATEGORIES:History Tours
ATTACH;FMTTYPE=image/jpeg:https://www.buffalobayou.org/wp-content/uploads/2023/04/slideshow-03.jpg
END:VEVENT
END:VCALENDAR