BEGIN:VCALENDAR
VERSION:2.0
PRODID:-//Buffalo Bayou Partnership - ECPv6.15.20//NONSGML v1.0//EN
CALSCALE:GREGORIAN
METHOD:PUBLISH
X-ORIGINAL-URL:https://www.buffalobayou.org
X-WR-CALDESC:Events for Buffalo Bayou Partnership
REFRESH-INTERVAL;VALUE=DURATION:PT1H
X-Robots-Tag:noindex
X-PUBLISHED-TTL:PT1H
BEGIN:VTIMEZONE
TZID:America/Chicago
BEGIN:DAYLIGHT
TZOFFSETFROM:-0600
TZOFFSETTO:-0500
TZNAME:CDT
DTSTART:20240310T080000
END:DAYLIGHT
BEGIN:STANDARD
TZOFFSETFROM:-0500
TZOFFSETTO:-0600
TZNAME:CST
DTSTART:20241103T070000
END:STANDARD
BEGIN:DAYLIGHT
TZOFFSETFROM:-0600
TZOFFSETTO:-0500
TZNAME:CDT
DTSTART:20250309T080000
END:DAYLIGHT
BEGIN:STANDARD
TZOFFSETFROM:-0500
TZOFFSETTO:-0600
TZNAME:CST
DTSTART:20251102T070000
END:STANDARD
BEGIN:DAYLIGHT
TZOFFSETFROM:-0600
TZOFFSETTO:-0500
TZNAME:CDT
DTSTART:20260308T080000
END:DAYLIGHT
BEGIN:STANDARD
TZOFFSETFROM:-0500
TZOFFSETTO:-0600
TZNAME:CST
DTSTART:20261101T070000
END:STANDARD
END:VTIMEZONE
BEGIN:VEVENT
DTSTART;TZID=America/Chicago:20251220T083000
DTEND;TZID=America/Chicago:20251220T113000
DTSTAMP:20260423T065728
CREATED:20251216T161333Z
LAST-MODIFIED:20251216T161333Z
UID:10004044-1766219400-1766230200@www.buffalobayou.org
SUMMARY:Monthly Volunteer Workday
DESCRIPTION:Volunteers\, ages 9 and up\, are invited to join Buffalo Bayou Partnership for community-wide volunteer days at Buffalo Bayou Park happening the third Saturday of each month. Whether volunteering as an individual or a small group\, your efforts will lead to a healthier environment and a more aesthetically pleasing amenity for all to enjoy. \nVolunteers will help with a variety of tasks\, including but not limited to: trash pick-up\, mulching and weed removal. We do ask that all volunteers bring their own work gloves. All other necessary work tools will be provided by BBP. \nTime: 8:30 to 11:30 am \nMeeting Location / Parking: Details will be provided after registration. \nInterested individuals and small groups can sign up here. Larger groups can schedule another day during the month by emailing volunteer@buffalobayou.org. \n  \nTo sign up\, please read the Volunteer Information packet and register through our GetConnected volunteer platform. \nVolunteer Information Packet \nCreate a Profile on GetConnected \nQuestions? Contact Steve Parker by email (volunteer@buffalobayou.org) or by phone 713-752-0314 ext. 206.
URL:https://www.buffalobayou.org/event/monthly-volunteer-workday-32/
LOCATION:TX
CATEGORIES:Monthly Volunteer Day
ATTACH;FMTTYPE=image/jpeg:https://www.buffalobayou.org/wp-content/uploads/2024/09/IMG_6787.jpeg
END:VEVENT
BEGIN:VEVENT
DTSTART;TZID=America/Chicago:20251220T100000
DTEND;TZID=America/Chicago:20251220T104500
DTSTAMP:20260423T065728
CREATED:20251002T214743Z
LAST-MODIFIED:20251002T214743Z
UID:10004011-1766224800-1766227500@www.buffalobayou.org
SUMMARY:Sound Healing Meditation
DESCRIPTION:Find your center and practice meditation in the spacious and tranquil Buffalo Bayou Park Cistern. Offered in collaboration with Union is Creation\, this meditation series will feature the use of singing bowls and wind chimes to encourage mindfulness and connectivity. \nGuests should bring their own cushions or mats. No food or drinks are allowed inside the Cistern. \nCost: $20 \nPURCHASE TICKETS
URL:https://www.buffalobayou.org/event/sound-healing-meditation-272/
LOCATION:BUFFALO BAYOU PARK CISTERN\, 105 Sabine Street\, Houston\, TX\, 77007\, United States
CATEGORIES:Cistern
ATTACH;FMTTYPE=image/jpeg:https://www.buffalobayou.org/wp-content/uploads/2023/04/sound-bath-high-res-crop-scaled-1.jpg
END:VEVENT
END:VCALENDAR