BEGIN:VCALENDAR
VERSION:2.0
PRODID:-//Buffalo Bayou Partnership - ECPv6.15.20//NONSGML v1.0//EN
CALSCALE:GREGORIAN
METHOD:PUBLISH
X-ORIGINAL-URL:https://www.buffalobayou.org
X-WR-CALDESC:Events for Buffalo Bayou Partnership
REFRESH-INTERVAL;VALUE=DURATION:PT1H
X-Robots-Tag:noindex
X-PUBLISHED-TTL:PT1H
BEGIN:VTIMEZONE
TZID:America/Chicago
BEGIN:DAYLIGHT
TZOFFSETFROM:-0600
TZOFFSETTO:-0500
TZNAME:CDT
DTSTART:20220313T080000
END:DAYLIGHT
BEGIN:STANDARD
TZOFFSETFROM:-0500
TZOFFSETTO:-0600
TZNAME:CST
DTSTART:20221106T070000
END:STANDARD
BEGIN:DAYLIGHT
TZOFFSETFROM:-0600
TZOFFSETTO:-0500
TZNAME:CDT
DTSTART:20230312T080000
END:DAYLIGHT
BEGIN:STANDARD
TZOFFSETFROM:-0500
TZOFFSETTO:-0600
TZNAME:CST
DTSTART:20231105T070000
END:STANDARD
BEGIN:DAYLIGHT
TZOFFSETFROM:-0600
TZOFFSETTO:-0500
TZNAME:CDT
DTSTART:20240310T080000
END:DAYLIGHT
BEGIN:STANDARD
TZOFFSETFROM:-0500
TZOFFSETTO:-0600
TZNAME:CST
DTSTART:20241103T070000
END:STANDARD
END:VTIMEZONE
BEGIN:VTIMEZONE
TZID:UTC
BEGIN:STANDARD
TZOFFSETFROM:+0000
TZOFFSETTO:+0000
TZNAME:UTC
DTSTART:20220101T000000
END:STANDARD
END:VTIMEZONE
BEGIN:VEVENT
DTSTART;TZID=America/Chicago:20231112T100000
DTEND;TZID=America/Chicago:20231112T104500
DTSTAMP:20260424T124314
CREATED:20230911T201456Z
LAST-MODIFIED:20231102T204607Z
UID:10003315-1699783200-1699785900@www.buffalobayou.org
SUMMARY:Sound Healing Meditation
DESCRIPTION:Find your center and practice meditation in the spacious and tranquil Buffalo Bayou Park Cistern. Offered in collaboration with Union is Creation\, this meditation series will feature the use of singing bowls and wind chimes to encourage mindfulness and connectivity. \nGuests should bring their own cushions or mats and water only in a non-glass container. No food or non-water drinks are allowed inside the Cistern. Sound Healing Meditation can be loud for those with sensitive hearing. Earplugs will be available for purchase in the visitor’s center. \nCost: $15 \nPurchase Tickets
URL:https://www.buffalobayou.org/event/sound-healing-meditation-51/
LOCATION:BUFFALO BAYOU PARK CISTERN\, 105 Sabine Street\, Houston\, TX\, 77007\, United States
CATEGORIES:Cistern
ATTACH;FMTTYPE=image/jpeg:https://www.buffalobayou.org/wp-content/uploads/2023/04/sound-bath-high-res-crop-scaled-1.jpg
END:VEVENT
BEGIN:VEVENT
DTSTART;TZID=UTC:20231112T173000
DTEND;TZID=UTC:20231112T180000
DTSTAMP:20260424T124315
CREATED:20230803T193930Z
LAST-MODIFIED:20231014T021226Z
UID:10003287-1699810200-1699812000@www.buffalobayou.org
SUMMARY:Underground Sounds: Musiqa
DESCRIPTION:UPDATE: All Musiqa performances are now SOLD OUT!  For any additional guests wishing to attend\, we will be taking an in-person\, first-come-first-served waiting list beginning exactly 30 minutes prior to each performance time. \nThis concludes our ticket sales for the 2023 “Underground Sounds” series. \n*** \nJoin us for Underground Sounds\, a unique music series in the Buffalo Bayou Park Cistern! \nThis fall\, four Houston-based music organizations will perform specially composed or arranged works that highlight the remarkable natural acoustics of the Buffalo Bayou Park Cistern. \nAbout this program: This Musiqa performance features the world premiere of a new composition by artist board member Pierre Jalbert that takes advantage of the Cistern’s unique reverberation. Performers include Jacob Schader (violin)\, Chris Ellis (cello)\, Nicholas Bissen (saxophone)\, Sophie Volpe (trombone) and Terry McKinney (percussion). \nTickets available starting Friday\, October 13 at 9am. \nCost: $25 \nPerformance Times: \n\nNovember 9 at 7:30pm\nNovember 10 at 7:30pm\nNovember 11 at 5:30pm\nNovember 11 at 6:30pm\nNovember 12 at 5:30pm\nNovember 12 at 6:30pm\n\n  \nLed by four composers\, Musiqa’s mission is to enrich and inspire their community through programs that integrate new music with other modern art-forms. Each season\, Musiqa programs a diverse series of public performances introducing Houston audiences to dynamic and challenging music by contemporary composers\, making it one of the most active contemporary music ensembles in the United States.
URL:https://www.buffalobayou.org/event/underground-sounds-musiqa-nov-12-530pm/
LOCATION:BUFFALO BAYOU PARK CISTERN\, 105 Sabine Street\, Houston\, TX\, 77007\, United States
CATEGORIES:Buffalo Bayou Art,Cistern
ATTACH;FMTTYPE=image/jpeg:https://www.buffalobayou.org/wp-content/uploads/2023/07/Musiqa-New-Dimensions-in-Sight-and-Sound-Photographer-Lynn-Lane-Hi-Res-17-scaled.jpg
END:VEVENT
BEGIN:VEVENT
DTSTART;TZID=UTC:20231112T183000
DTEND;TZID=UTC:20231112T190000
DTSTAMP:20260424T124315
CREATED:20230803T193917Z
LAST-MODIFIED:20231014T021213Z
UID:10003288-1699813800-1699815600@www.buffalobayou.org
SUMMARY:Underground Sounds: Musiqa
DESCRIPTION:UPDATE: All Musiqa performances are now SOLD OUT!  For any additional guests wishing to attend\, we will be taking an in-person\, first-come-first-served waiting list beginning exactly 30 minutes prior to each performance time. \nThis concludes our ticket sales for the 2023 “Underground Sounds” series. \n*** \nJoin us for Underground Sounds\, a unique music series in the Buffalo Bayou Park Cistern! \nThis fall\, four Houston-based music organizations will perform specially composed or arranged works that highlight the remarkable natural acoustics of the Buffalo Bayou Park Cistern. \nAbout this program: This Musiqa performance features the world premiere of a new composition by artist board member Pierre Jalbert that takes advantage of the Cistern’s unique reverberation. Performers include Jacob Schader (violin)\, Chris Ellis (cello)\, Nicholas Bissen (saxophone)\, Sophie Volpe (trombone) and Terry McKinney (percussion). \nTickets available starting Friday\, October 13 at 9am. \nCost: $25 \nPerformance Times: \n\nNovember 9 at 7:30pm\nNovember 10 at 7:30pm\nNovember 11 at 5:30pm\nNovember 11 at 6:30pm\nNovember 12 at 5:30pm\nNovember 12 at 6:30pm\n\n  \nLed by four composers\, Musiqa’s mission is to enrich and inspire their community through programs that integrate new music with other modern art-forms. Each season\, Musiqa programs a diverse series of public performances introducing Houston audiences to dynamic and challenging music by contemporary composers\, making it one of the most active contemporary music ensembles in the United States.
URL:https://www.buffalobayou.org/event/underground-sounds-musiqa-nov-12-630pm/
LOCATION:BUFFALO BAYOU PARK CISTERN\, 105 Sabine Street\, Houston\, TX\, 77007\, United States
CATEGORIES:Buffalo Bayou Art,Cistern
ATTACH;FMTTYPE=image/jpeg:https://www.buffalobayou.org/wp-content/uploads/2023/07/Musiqa-New-Dimensions-in-Sight-and-Sound-Photographer-Lynn-Lane-Hi-Res-17-scaled.jpg
END:VEVENT
END:VCALENDAR