BEGIN:VCALENDAR
VERSION:2.0
PRODID:-//Buffalo Bayou Partnership - ECPv6.15.20//NONSGML v1.0//EN
CALSCALE:GREGORIAN
METHOD:PUBLISH
X-WR-CALNAME:Buffalo Bayou Partnership
X-ORIGINAL-URL:https://www.buffalobayou.org
X-WR-CALDESC:Events for Buffalo Bayou Partnership
REFRESH-INTERVAL;VALUE=DURATION:PT1H
X-Robots-Tag:noindex
X-PUBLISHED-TTL:PT1H
BEGIN:VTIMEZONE
TZID:America/Chicago
BEGIN:DAYLIGHT
TZOFFSETFROM:-0600
TZOFFSETTO:-0500
TZNAME:CDT
DTSTART:20220313T080000
END:DAYLIGHT
BEGIN:STANDARD
TZOFFSETFROM:-0500
TZOFFSETTO:-0600
TZNAME:CST
DTSTART:20221106T070000
END:STANDARD
BEGIN:DAYLIGHT
TZOFFSETFROM:-0600
TZOFFSETTO:-0500
TZNAME:CDT
DTSTART:20230312T080000
END:DAYLIGHT
BEGIN:STANDARD
TZOFFSETFROM:-0500
TZOFFSETTO:-0600
TZNAME:CST
DTSTART:20231105T070000
END:STANDARD
BEGIN:DAYLIGHT
TZOFFSETFROM:-0600
TZOFFSETTO:-0500
TZNAME:CDT
DTSTART:20240310T080000
END:DAYLIGHT
BEGIN:STANDARD
TZOFFSETFROM:-0500
TZOFFSETTO:-0600
TZNAME:CST
DTSTART:20241103T070000
END:STANDARD
END:VTIMEZONE
BEGIN:VTIMEZONE
TZID:UTC
BEGIN:STANDARD
TZOFFSETFROM:+0000
TZOFFSETTO:+0000
TZNAME:UTC
DTSTART:20220101T000000
END:STANDARD
END:VTIMEZONE
BEGIN:VEVENT
DTSTART;TZID=America/Chicago:20231021T083000
DTEND;TZID=America/Chicago:20231021T113000
DTSTAMP:20260425T112525
CREATED:20230928T010234Z
LAST-MODIFIED:20230928T010234Z
UID:10002717-1697877000-1697887800@www.buffalobayou.org
SUMMARY:Monthly Volunteer Workday
DESCRIPTION:Time: 8:30 to 11:30 am\nParking: City Lot H\nCheck-In Location: Contact volunteer@buffalobayou.org for location details \nHoustonians\, ages 9 and up\, are invited to join Buffalo Bayou Partnership for community-wide volunteer days at Buffalo Bayou Park happening the third Saturday of each month. Whether volunteering as an individual or a small group\, your efforts will lead to a healthier environment and a more aesthetically pleasing amenity for all to enjoy. \nIndividuals can register by completing our online waiver. Small groups can reserve spaces and larger groups can schedule another day during the month by emailing volulnteer@buffalobayou.org. \nVolunteers will help with a variety of tasks\, including but not limited to: trash pick-up\, mulching and weed removal. We do ask that all volunteers bring their own work gloves. All other necessary work tools will be provided by BBP. \nTo sign up\, please read the Volunteer Information packet and complete an online Volunteer Waiver with the event date. \nVolunteer Information Packet \nVolunteer Waiver \nQuestions? Contact Steve Parker by email (volunteer@buffalobayou.org) or by phone 713-752-0314 ext. 206. \n\nWe are implementing additional safety measures due to COVID including: \n\nLimiting the number of people for each of our activities\nProper social distancing will be maintained\nParticipants are required to bring their own Personal Protection Equipment (PPE) to be worn at all times and provide their own sanitation items\nDisposable gloves will be available\n\nRegister
URL:https://www.buffalobayou.org/event/monthly-volunteer-workday-7/
LOCATION:TX
CATEGORIES:Monthly Volunteer Day
ATTACH;FMTTYPE=image/jpeg:https://www.buffalobayou.org/wp-content/uploads/2023/04/DSC_0654-scaled-e1592255850939.jpg
END:VEVENT
BEGIN:VEVENT
DTSTART;TZID=America/Chicago:20231021T090000
DTEND;TZID=America/Chicago:20231021T103000
DTSTAMP:20260425T112525
CREATED:20210716T233917Z
LAST-MODIFIED:20231016T205549Z
UID:10002433-1697878800-1697884200@www.buffalobayou.org
SUMMARY:Nature Walking Tour
DESCRIPTION:Learn about native plants and the insects that pollinate them along Buffalo Bayou! Follow along this discovery tour of Houston’s historic waterway ecosystem with Nancy Greig\, founding director of the Cockrell Butterfly Center (now retired). An avid natural historian “jack of all trades”\, she has particular interest in plants and insects\, but birds\, mammals\, herps and fish are all on her radar.  At home she keeps busy with a butterfly garden\, honey bee hives\, and purple martin houses. \nRegister
URL:https://www.buffalobayou.org/event/nature-walking-tour-2022-05-21-2022-09-17-2023-10-21/
LOCATION:bird-grasshopper
CATEGORIES:Walking Tours
ATTACH;FMTTYPE=image/jpeg:https://www.buffalobayou.org/wp-content/uploads/2023/04/IMG_5387-e1509586465872.jpg
END:VEVENT
BEGIN:VEVENT
DTSTART;TZID=America/Chicago:20231021T100000
DTEND;TZID=America/Chicago:20231021T113000
DTSTAMP:20260425T112526
CREATED:20220106T213637Z
LAST-MODIFIED:20231016T205638Z
UID:10002980-1697882400-1697887800@www.buffalobayou.org
SUMMARY:History Boat Tour
DESCRIPTION:Look back at Houston’s history while cruising Buffalo Bayou on a 90-minute tour with a local historian. Your guide will share stories of the Allen brothers and provide historical information about the people\, places\, and events along the bayou that helped shape Houston. \nCost: $40/person \nDeparture location: Allen’s Landing\, 1001 Commerce St.\, Houston\, TX 77002 \nWeather permitting. Reservations Required. Children under the age of 4 are not permitted on the pontoon boat. \nTickets
URL:https://www.buffalobayou.org/event/history-boat-tour-2-2022-04-23-2023-10-21/
LOCATION:Sound Healing Meditation
CATEGORIES:History Tours
ATTACH;FMTTYPE=image/jpeg:https://www.buffalobayou.org/wp-content/uploads/2023/04/Copy-of-AllensLanding-SS-Coffee.jpg
END:VEVENT
BEGIN:VEVENT
DTSTART;TZID=UTC:20231021T110000
DTEND;TZID=UTC:20231021T150000
DTSTAMP:20260425T112526
CREATED:20230501T125536Z
LAST-MODIFIED:20240916T161817Z
UID:10003248-1697886000-1697900400@www.buffalobayou.org
SUMMARY:2023 KBR Kids Day on Buffalo Bayou
DESCRIPTION:Kids Day is a free annual event for the entire community. Thousands of children and their families will gather at Tony Marron Park in the East End to experience a full day of fun including: \n\nHands-on nature activities\nBirds of prey show\nPumpkin painting\nRock climbing wall\nDance performances\nFace painting\nBalloon artists\nHalloween costume parade\nNature and Birding Walks\nBBP’s Bayou-Vac trash vacuum boat\n\nGet to know your park with an exploratory scavenger hunt and learn more about BBP’s plans for this beloved neighborhood gathering place. \nFree parking and shuttle service are provided to and from the event at MoonStruck Drive-in at 100 Bringhurst St\, Houston\, TX 77020 (off Clinton Drive). \n  \nRegister here \nWe’re looking for volunteers to help make Kids Day a success! Sign up here. \n  \nPerformance Schedule: \n11:00 am     Compania Folklorica Alegria Mexicana\n11:45 am     Birds of prey show with the Friends of Brazoria Wildlife Refuges\n12:30 pm     Halloween costume parade\n1:00 pm       Infused Performing Arts\n1:30 pm       Break City Youth Breakdance League\n2:00 pm       Birds of prey show with the Friends of Brazoria Wildlife Refuges \nView the  walking tours schedule. \n  \nPartners\nAnahuac National Wildlife Refuge\nBe Smart for Kids\nDreamland Entertainment\nEast End Communities\nFriends of Anahuac Refuge\nFriends of Brazoria Wildlife Refuges\nGirl Scouts of San Jacinto Council\nHarris County Master Gardener Association\nHispanic Health Coalition\nHouston Area Bat Team\nHouston Ballet\nHouston Fire Department\nHouston Public Library – Flores and Stanaker Neighborhood Library\nIncredible Events\nLatino Learning Center\nMECA\nNameless Sound\nNative Plant Society of Texas – Houston Chapter\nSecret Life of Plants\nTexas Tim Webb\nTwist It Up\nUrban Paths\nUP Art Studio\nWildlife and Environmental Advocacy and Relief\nYES Prep East End Elementary\nYoung Audiences of Houston \n  \nGenerous support provided by: \n\nInterested in joining the fun as a sponsor? Download our sponsorship package here. \n  \n 
URL:https://www.buffalobayou.org/event/kids-day-2023/
LOCATION:TONY MARRON PARK\, 808 N. York Street\, Houston\, Texas\, 77003
CATEGORIES:Kids Day
ATTACH;FMTTYPE=image/jpeg:https://www.buffalobayou.org/wp-content/uploads/2023/04/BBP_211023_022_PhotoByLawrenceElizabethKnox-scaled-e1664799499959.jpg
END:VEVENT
END:VCALENDAR