BEGIN:VCALENDAR
VERSION:2.0
PRODID:-//Buffalo Bayou Partnership - ECPv6.15.20//NONSGML v1.0//EN
CALSCALE:GREGORIAN
METHOD:PUBLISH
X-WR-CALNAME:Buffalo Bayou Partnership
X-ORIGINAL-URL:https://www.buffalobayou.org
X-WR-CALDESC:Events for Buffalo Bayou Partnership
REFRESH-INTERVAL;VALUE=DURATION:PT1H
X-Robots-Tag:noindex
X-PUBLISHED-TTL:PT1H
BEGIN:VTIMEZONE
TZID:America/Chicago
BEGIN:DAYLIGHT
TZOFFSETFROM:-0600
TZOFFSETTO:-0500
TZNAME:CDT
DTSTART:20220313T080000
END:DAYLIGHT
BEGIN:STANDARD
TZOFFSETFROM:-0500
TZOFFSETTO:-0600
TZNAME:CST
DTSTART:20221106T070000
END:STANDARD
BEGIN:DAYLIGHT
TZOFFSETFROM:-0600
TZOFFSETTO:-0500
TZNAME:CDT
DTSTART:20230312T080000
END:DAYLIGHT
BEGIN:STANDARD
TZOFFSETFROM:-0500
TZOFFSETTO:-0600
TZNAME:CST
DTSTART:20231105T070000
END:STANDARD
BEGIN:DAYLIGHT
TZOFFSETFROM:-0600
TZOFFSETTO:-0500
TZNAME:CDT
DTSTART:20240310T080000
END:DAYLIGHT
BEGIN:STANDARD
TZOFFSETFROM:-0500
TZOFFSETTO:-0600
TZNAME:CST
DTSTART:20241103T070000
END:STANDARD
END:VTIMEZONE
BEGIN:VTIMEZONE
TZID:UTC
BEGIN:STANDARD
TZOFFSETFROM:+0000
TZOFFSETTO:+0000
TZNAME:UTC
DTSTART:20220101T000000
END:STANDARD
END:VTIMEZONE
BEGIN:VEVENT
DTSTART;TZID=America/Chicago:20231008T100000
DTEND;TZID=America/Chicago:20231008T104500
DTSTAMP:20260424T182457
CREATED:20230802T232510Z
LAST-MODIFIED:20230831T233858Z
UID:10003307-1696759200-1696761900@www.buffalobayou.org
SUMMARY:Sound Healing Meditation
DESCRIPTION:This event is canceled. \nFind your center and practice meditation in the spacious and tranquil Buffalo Bayou Park Cistern. Offered in collaboration with Union is Creation\, this meditation series will feature the use of singing bowls and wind chimes to encourage mindfulness and connectivity. \nGuests should bring their own cushions or mats and water only in a non-glass container. No food or non-water drinks are allowed inside the Cistern. Sound Healing Meditation can be loud for those with sensitive hearing. Earplugs will be available for purchase in the visitor’s center. \nCost: $15 \nPurchase Tickets
URL:https://www.buffalobayou.org/event/sound-healing-meditation-37/
LOCATION:BUFFALO BAYOU PARK CISTERN\, 105 Sabine Street\, Houston\, TX\, 77007\, United States
CATEGORIES:Cistern
ATTACH;FMTTYPE=image/jpeg:https://www.buffalobayou.org/wp-content/uploads/2023/04/sound-bath-high-res-crop-scaled-1.jpg
END:VEVENT
BEGIN:VEVENT
DTSTART;TZID=UTC:20231008T160000
DTEND;TZID=UTC:20231008T163000
DTSTAMP:20260424T182458
CREATED:20230801T020759Z
LAST-MODIFIED:20230908T235935Z
UID:10002668-1696780800-1696782600@www.buffalobayou.org
SUMMARY:Underground Sounds: DACAMERA
DESCRIPTION:UPDATE: All DACAMERA performances are now SOLD OUT!  For any additional guests wishing to attend\, we will be taking an in-person\, first-come-first-served waiting list beginning exactly 30 minutes prior to each performance time. \nThe next “Underground Sounds” is with vocalist Alexandra Smither and bassist Austin Lewellen on October 26 – 29 . Tickets are available starting Friday\, September 29 at 9am. \n**** \nJoin us for Underground Sounds\, a unique music series in the Buffalo Bayou Park Cistern! \nThis fall\, four Houston-based music organizations will perform specially composed or arranged works that highlight the remarkable natural acoustics of the Buffalo Bayou Park Cistern. \nAbout this program: DACAMERA has commissioned Houston composer Mark Buller (an alumnus of the DACAMERA Young Artist Program) to create a new\, site-specific work for the Cistern which will be performed by current DACAMERA Young Artists. \nTickets available starting Friday\, September 8 at 9am. \nCost: $25 \nPerformance Times: \n\nOctober 5 at 7pm\nOctober 6 at 7pm\nOctober 7 at 4pm\nOctober 7 at 5:30pm\nOctober 8 at 4pm\nOctober 8 at 5:30pm\n\n  \nDACAMERA is an internationally recognized producer and presenter of chamber music and jazz\, committed to bringing its audiences transformative musical experiences. DACAMERA’s Education and Community Initiatives have received national attention for its Young Artist Program\, a professional development program for outstanding musicians that emphasizes community advocacy and brings Young Artist-teachers into classrooms\, introducing music into STEM and humanities lessons.
URL:https://www.buffalobayou.org/event/underground-sounds-dacamera-oct-8-4pm/
LOCATION:BUFFALO BAYOU PARK CISTERN\, 105 Sabine Street\, Houston\, TX\, 77007\, United States
CATEGORIES:Buffalo Bayou Art,Cistern
ATTACH;FMTTYPE=image/jpeg:https://www.buffalobayou.org/wp-content/uploads/2023/07/MicrosoftTeams-image-15-scaled-e1696274396184.jpg
END:VEVENT
BEGIN:VEVENT
DTSTART;TZID=UTC:20231008T173000
DTEND;TZID=UTC:20231008T180000
DTSTAMP:20260424T182458
CREATED:20230803T193842Z
LAST-MODIFIED:20231003T005250Z
UID:10003289-1696786200-1696788000@www.buffalobayou.org
SUMMARY:Underground Sounds: DACAMERA
DESCRIPTION:UPDATE: All DACAMERA performances are now SOLD OUT!  For any additional guests wishing to attend\, we will be taking an in-person\, first-come-first-served waiting list beginning exactly 30 minutes prior to each performance time. \nThe next “Underground Sounds” is with vocalist Alexandra Smither and bassist Austin Lewellen on October 26 – 29 . Tickets are available starting Friday\, September 29 at 9am. \n**** \nJoin us for Underground Sounds\, a unique music series in the Buffalo Bayou Park Cistern! \nThis fall\, four Houston-based music organizations will perform specially composed or arranged works that highlight the remarkable natural acoustics of the Buffalo Bayou Park Cistern. \nAbout this program: DACAMERA has commissioned Houston composer Mark Buller (an alumnus of the DACAMERA Young Artist Program) to create a new\, site-specific work for the Cistern which will be performed by current DACAMERA Young Artists. \nTickets available starting Friday\, September 8 at 9am. \nCost: $25 \nPerformance Times: \n\nOctober 5 at 7pm\nOctober 6 at 7pm\nOctober 7 at 4pm\nOctober 7 at 5:30pm\nOctober 8 at 4pm\nOctober 8 at 5:30pm\n\n  \nDACAMERA is an internationally recognized producer and presenter of chamber music and jazz\, committed to bringing its audiences transformative musical experiences. DACAMERA’s Education and Community Initiatives have received national attention for its Young Artist Program\, a professional development program for outstanding musicians that emphasizes community advocacy and brings Young Artist-teachers into classrooms\, introducing music into STEM and humanities lessons.
URL:https://www.buffalobayou.org/event/underground-sounds-dacamera-oct-8-530pm/
LOCATION:BUFFALO BAYOU PARK CISTERN\, 105 Sabine Street\, Houston\, TX\, 77007\, United States
CATEGORIES:Buffalo Bayou Art,Cistern
ATTACH;FMTTYPE=image/jpeg:https://www.buffalobayou.org/wp-content/uploads/2023/07/MicrosoftTeams-image-15-scaled-e1696274396184.jpg
END:VEVENT
END:VCALENDAR