BEGIN:VCALENDAR
VERSION:2.0
PRODID:-//Buffalo Bayou Partnership - ECPv6.15.20//NONSGML v1.0//EN
CALSCALE:GREGORIAN
METHOD:PUBLISH
X-WR-CALNAME:Buffalo Bayou Partnership
X-ORIGINAL-URL:https://www.buffalobayou.org
X-WR-CALDESC:Events for Buffalo Bayou Partnership
REFRESH-INTERVAL;VALUE=DURATION:PT1H
X-Robots-Tag:noindex
X-PUBLISHED-TTL:PT1H
BEGIN:VTIMEZONE
TZID:America/Chicago
BEGIN:DAYLIGHT
TZOFFSETFROM:-0600
TZOFFSETTO:-0500
TZNAME:CDT
DTSTART:20220313T080000
END:DAYLIGHT
BEGIN:STANDARD
TZOFFSETFROM:-0500
TZOFFSETTO:-0600
TZNAME:CST
DTSTART:20221106T070000
END:STANDARD
BEGIN:DAYLIGHT
TZOFFSETFROM:-0600
TZOFFSETTO:-0500
TZNAME:CDT
DTSTART:20230312T080000
END:DAYLIGHT
BEGIN:STANDARD
TZOFFSETFROM:-0500
TZOFFSETTO:-0600
TZNAME:CST
DTSTART:20231105T070000
END:STANDARD
BEGIN:DAYLIGHT
TZOFFSETFROM:-0600
TZOFFSETTO:-0500
TZNAME:CDT
DTSTART:20240310T080000
END:DAYLIGHT
BEGIN:STANDARD
TZOFFSETFROM:-0500
TZOFFSETTO:-0600
TZNAME:CST
DTSTART:20241103T070000
END:STANDARD
END:VTIMEZONE
BEGIN:VTIMEZONE
TZID:UTC
BEGIN:STANDARD
TZOFFSETFROM:+0000
TZOFFSETTO:+0000
TZNAME:UTC
DTSTART:20220101T000000
END:STANDARD
END:VTIMEZONE
BEGIN:VEVENT
DTSTART;TZID=America/Chicago:20231007T090000
DTEND;TZID=America/Chicago:20231007T094500
DTSTAMP:20260425T112525
CREATED:20221003T181723Z
LAST-MODIFIED:20231003T005333Z
UID:10003098-1696669200-1696671900@www.buffalobayou.org
SUMMARY:Books on the Bayou / Libros sobre el Bayou
DESCRIPTION:Join us for a fun\, free story time event for infants\, toddlers\, and preschoolers (best for 6 months – 4 years) and their parents/caregivers! There will be silly stories\, rhymes\, and songs\, along with fun for the whole family! \nBooks on the Bayou will be held on the first Saturday of each month at the Barbara Fish Daniel Nature Play Area in Buffalo Bayou Park. \nCost: Free \nTime: \n· 9am – Story time in English and Spanish \nMeeting location: Barbara Fish Daniel Nature Play Area (next to The Water Works at 105 Sabine St.) \n——————- \n¡Únase a nosotros para un evento divertido y gratuito a la hora del cuento para bebés\, niños pequeños y preescolares (mejor para 6 meses a 4 años) y sus padres / cuidadores! Habrá historias\, rimas y canciones. \nBooks on the Bayou se llevará a cabo el primer sábado de cada mes en el Área de Juegos Naturales Barbara Fish Daniel en Buffalo Bayou Park. \nCosto: Gratis \nHorario: \n• 9am – Hora del cuento en inglés y español \nLugar de reunión: Barbara Fish Daniel Nature Play Area (junto a The Water Works en 105 Sabine St.) \nFree Registration / Registro Gratuito
URL:https://www.buffalobayou.org/event/books-on-the-bayou-libros-sobre-el-bayou-2023-10-07/
LOCATION:BARBARA FISH DANIEL NATURE PLAY AREA\, 105 Sabine St\, Houston\, TX\, 77007\, United States
CATEGORIES:En español,Free,Free Event
ATTACH;FMTTYPE=image/jpeg:https://www.buffalobayou.org/wp-content/uploads/2023/04/8e7e45db-e9a7-48a0-b2b6-78a7d06c755a-e1699364246162.jpeg
END:VEVENT
BEGIN:VEVENT
DTSTART;TZID=America/Chicago:20231007T100000
DTEND;TZID=America/Chicago:20231007T104500
DTSTAMP:20260425T112525
CREATED:20230802T232439Z
LAST-MODIFIED:20231003T005407Z
UID:10003306-1696672800-1696675500@www.buffalobayou.org
SUMMARY:Sound Healing Meditation
DESCRIPTION:Find your center and practice meditation in the spacious and tranquil Buffalo Bayou Park Cistern. Offered in collaboration with Union is Creation\, this meditation series will feature the use of singing bowls and wind chimes to encourage mindfulness and connectivity. \nGuests should bring their own cushions or mats and water only in a non-glass container. No food or non-water drinks are allowed inside the Cistern. Sound Healing Meditation can be loud for those with sensitive hearing. Earplugs will be available for purchase in the visitor’s center. \nCost: $15 \nPurchase Tickets
URL:https://www.buffalobayou.org/event/sound-healing-meditation-36/
LOCATION:BUFFALO BAYOU PARK CISTERN\, 105 Sabine Street\, Houston\, TX\, 77007\, United States
CATEGORIES:Cistern
ATTACH;FMTTYPE=image/jpeg:https://www.buffalobayou.org/wp-content/uploads/2023/04/sound-bath-high-res-crop-scaled-1.jpg
END:VEVENT
BEGIN:VEVENT
DTSTART;TZID=America/Chicago:20231007T100000
DTEND;TZID=America/Chicago:20231007T140000
DTSTAMP:20260425T112525
CREATED:20220818T232820Z
LAST-MODIFIED:20230912T223043Z
UID:10002972-1696672800-1696687200@www.buffalobayou.org
SUMMARY:Excursiones en español en el barco ponton de BBP
DESCRIPTION:A Spanish interpreter will be on board for these tours / Un intérprete de español estará a bordo para estos tours. \nCost: \n\nAdults: $15\nChildren: $12 (ages 4-12)*\n\nHours: 10am-2pm (45 minute boat rides) The last tour leaves at 1pm. \nPlease note that boat tours depart promptly at the designated time. \nDeparture location: 1019 Commerce Street (at Main Street)\, go down the stairs (to your left of the 3-story brown brick building). The pontoon will be at the pier. \nThese 45-minute boat rides are a great way to spend time with family and friends. Escape the bustle of the city and enjoy the cool breeze as you glide across the waters of Buffalo Bayou. Spot graceful herons\, jumping fish and even an alligator at the water’s edge. \n*Children under 4 years old are not allowed on boat tours. \n  \nCosto: \n\nAdultos: $15\nNiños: $12 (edades 4-12)*\n\nHorario: 10am-2pm (paseos en bote de 45 minutos) El último tour sale a las 1pm. \nTenga en cuenta que los recorridos en barco salen puntualmente a la hora designada. \nLugar de salida: 1019 Commerce Street (en Main Street)\, baje las escaleras (a su izquierda del edificio de ladrillo de color marrón de 3 pisos). El pontón estará en el muelle. \nEstos paseos en bote de 45 minutos son una excelente manera de pasar tiempo con su familia y amigos. Escápese del bullicio de la ciudad y disfrute de la brisa fresca mientras se desliza por las aguas de Buffalo Bayou. Observe garzas elegantes\, peces saltadores e incluso un caimán en las orillas del agua. \n*Los niños menores de 4 años no están permitidos en excursiones en barco. \nSi el tiempo lo permite. Se requiere reservación. \nTickets/Entradas
URL:https://www.buffalobayou.org/event/excursiones-en-espanol-en-el-barco-ponton-de-bbp-2023-10-07/
LOCATION:ALLEN’S LANDING\, 1001 Commerce Street\, Houston\, TX\, 77002\, United States
CATEGORIES:En español,Excursiones en español
ATTACH;FMTTYPE=image/jpeg:https://www.buffalobayou.org/wp-content/uploads/2023/04/BBayou-43097-scaled.jpg
END:VEVENT
BEGIN:VEVENT
DTSTART;TZID=UTC:20231007T160000
DTEND;TZID=UTC:20231007T163000
DTSTAMP:20260425T112525
CREATED:20230802T220443Z
LAST-MODIFIED:20230909T000149Z
UID:10003286-1696694400-1696696200@www.buffalobayou.org
SUMMARY:Underground Sounds: DACAMERA
DESCRIPTION:UPDATE: All DACAMERA performances are now SOLD OUT!  For any additional guests wishing to attend\, we will be taking an in-person\, first-come-first-served waiting list beginning exactly 30 minutes prior to each performance time. \nThe next “Underground Sounds” is with vocalist Alexandra Smither and bassist Austin Lewellen on October 26 – 29 . Tickets are available starting Friday\, September 29 at 9am. \n**** \nJoin us for Underground Sounds\, a unique music series in the Buffalo Bayou Park Cistern! \nThis fall\, four Houston-based music organizations will perform specially composed or arranged works that highlight the remarkable natural acoustics of the Buffalo Bayou Park Cistern. \nAbout this program: DACAMERA has commissioned Houston composer Mark Buller (an alumnus of the DACAMERA Young Artist Program) to create a new\, site-specific work for the Cistern which will be performed by current DACAMERA Young Artists. \nTickets available starting Friday\, September 8 at 9am. \nCost: $25 \nPerformance Times: \n\nOctober 5 at 7pm\nOctober 6 at 7pm\nOctober 7 at 4pm\nOctober 7 at 5:30pm\nOctober 8 at 4pm\nOctober 8 at 5:30pm\n\n  \nDACAMERA is an internationally recognized producer and presenter of chamber music and jazz\, committed to bringing its audiences transformative musical experiences. DACAMERA’s Education and Community Initiatives have received national attention for its Young Artist Program\, a professional development program for outstanding musicians that emphasizes community advocacy and brings Young Artist-teachers into classrooms\, introducing music into STEM and humanities lessons.
URL:https://www.buffalobayou.org/event/underground-sounds-dacamera-oct-7-4pm/
LOCATION:BUFFALO BAYOU PARK CISTERN\, 105 Sabine Street\, Houston\, TX\, 77007\, United States
CATEGORIES:Buffalo Bayou Art,Cistern
ATTACH;FMTTYPE=image/jpeg:https://www.buffalobayou.org/wp-content/uploads/2023/07/MicrosoftTeams-image-15-scaled-e1696274396184.jpg
END:VEVENT
END:VCALENDAR