BEGIN:VCALENDAR
VERSION:2.0
PRODID:-//Buffalo Bayou Partnership - ECPv6.15.20//NONSGML v1.0//EN
CALSCALE:GREGORIAN
METHOD:PUBLISH
X-ORIGINAL-URL:https://www.buffalobayou.org
X-WR-CALDESC:Events for Buffalo Bayou Partnership
REFRESH-INTERVAL;VALUE=DURATION:PT1H
X-Robots-Tag:noindex
X-PUBLISHED-TTL:PT1H
BEGIN:VTIMEZONE
TZID:UTC
BEGIN:STANDARD
TZOFFSETFROM:+0000
TZOFFSETTO:+0000
TZNAME:UTC
DTSTART:20220101T000000
END:STANDARD
END:VTIMEZONE
BEGIN:VEVENT
DTSTART;TZID=UTC:20230928T193000
DTEND;TZID=UTC:20230928T220000
DTSTAMP:20260424T152906
CREATED:20230919T005958Z
LAST-MODIFIED:20230919T010128Z
UID:10002713-1695929400-1695938400@www.buffalobayou.org
SUMMARY:Film: Metropolis in Buffalo Bayou Park
DESCRIPTION:Buffalo Bayou Partnership and Friends of River Oaks Theatre will host a special screening consisting of new short films made by inspired artists\, followed by Fritz Lang’s groundbreaking 1927 science fiction epic\, Metropolis\, accompanied by an original live score by Omar Vincent Al-Bochi (aka: Vincent Priceless). The film will be shown on The Water Works terrace in Buffalo Bayou Park (105 Sabine St). \nAbout Metropolis \nIn a futuristic city sharply divided between the rich and the poor\, the son of the city’s mastermind meets a prophet who predicts the coming of a savior to mediate their differences. \nGeneral Admission: $15 \nFREE for BBP and Cinephile members \nPurchase Tickets
URL:https://www.buffalobayou.org/event/film-metropolis-in-buffalo-bayou-park/
LOCATION:THE WATER WORKS\, 105 Sabine Street\, Houston\, TX\, 77007\, United States
CATEGORIES:Events at Buffalo Bayou Park
ATTACH;FMTTYPE=image/jpeg:https://www.buffalobayou.org/wp-content/uploads/2023/09/Metropolis-e1695067081164.jpg
END:VEVENT
END:VCALENDAR