BEGIN:VCALENDAR
VERSION:2.0
PRODID:-//Buffalo Bayou Partnership - ECPv6.15.20//NONSGML v1.0//EN
CALSCALE:GREGORIAN
METHOD:PUBLISH
X-ORIGINAL-URL:https://www.buffalobayou.org
X-WR-CALDESC:Events for Buffalo Bayou Partnership
REFRESH-INTERVAL;VALUE=DURATION:PT1H
X-Robots-Tag:noindex
X-PUBLISHED-TTL:PT1H
BEGIN:VTIMEZONE
TZID:UTC
BEGIN:STANDARD
TZOFFSETFROM:+0000
TZOFFSETTO:+0000
TZNAME:UTC
DTSTART:20220101T000000
END:STANDARD
END:VTIMEZONE
BEGIN:VEVENT
DTSTART;TZID=UTC:20230925T170000
DTEND;TZID=UTC:20230925T190000
DTSTAMP:20260424T152833
CREATED:20230901T213907Z
LAST-MODIFIED:20230901T213907Z
UID:10003311-1695661200-1695668400@www.buffalobayou.org
SUMMARY:Currents Member Happy Hour: The Orange Show
DESCRIPTION:Join us at The Orange Show for a vibrant gathering amidst bird art and vendors. Enjoy conversation with other young professionals at this night championing the birds that live along Buffalo Bayou! Drinks will be available by donation. \nMake a difference while enjoying all the bayou has to offer! Become a BBP Member today for your special invitation!
URL:https://www.buffalobayou.org/event/currents-member-happy-hour-the-orange-show/
LOCATION:The Orange Show\, 2402 Munger Street\, Houston\, TX\, 77023\, United States
CATEGORIES:Member Event,Membership,The Currents
ATTACH;FMTTYPE=image/jpeg:https://www.buffalobayou.org/wp-content/uploads/2023/08/38-IMG_5698.jpg
END:VEVENT
END:VCALENDAR