BEGIN:VCALENDAR
VERSION:2.0
PRODID:-//Buffalo Bayou Partnership - ECPv6.15.20//NONSGML v1.0//EN
CALSCALE:GREGORIAN
METHOD:PUBLISH
X-ORIGINAL-URL:https://www.buffalobayou.org
X-WR-CALDESC:Events for Buffalo Bayou Partnership
REFRESH-INTERVAL;VALUE=DURATION:PT1H
X-Robots-Tag:noindex
X-PUBLISHED-TTL:PT1H
BEGIN:VTIMEZONE
TZID:UTC
BEGIN:STANDARD
TZOFFSETFROM:+0000
TZOFFSETTO:+0000
TZNAME:UTC
DTSTART:20220101T000000
END:STANDARD
END:VTIMEZONE
BEGIN:VTIMEZONE
TZID:America/Chicago
BEGIN:DAYLIGHT
TZOFFSETFROM:-0600
TZOFFSETTO:-0500
TZNAME:CDT
DTSTART:20220313T080000
END:DAYLIGHT
BEGIN:STANDARD
TZOFFSETFROM:-0500
TZOFFSETTO:-0600
TZNAME:CST
DTSTART:20221106T070000
END:STANDARD
BEGIN:DAYLIGHT
TZOFFSETFROM:-0600
TZOFFSETTO:-0500
TZNAME:CDT
DTSTART:20230312T080000
END:DAYLIGHT
BEGIN:STANDARD
TZOFFSETFROM:-0500
TZOFFSETTO:-0600
TZNAME:CST
DTSTART:20231105T070000
END:STANDARD
BEGIN:DAYLIGHT
TZOFFSETFROM:-0600
TZOFFSETTO:-0500
TZNAME:CDT
DTSTART:20240310T080000
END:DAYLIGHT
BEGIN:STANDARD
TZOFFSETFROM:-0500
TZOFFSETTO:-0600
TZNAME:CST
DTSTART:20241103T070000
END:STANDARD
END:VTIMEZONE
BEGIN:VEVENT
DTSTART;TZID=UTC:20230713T120000
DTEND;TZID=UTC:20230713T130000
DTSTAMP:20260425T134717
CREATED:20230430T211644Z
LAST-MODIFIED:20230629T002125Z
UID:10002640-1689249600-1689253200@www.buffalobayou.org
SUMMARY:Lunch & Learn: Why Birds Migrate
DESCRIPTION:Join us downtown at the Sunset Coffee Building (1019 Commerce) during your lunch hour to learn all about birds in your neighborhood\, how to identify them\, and ways to provide a safe environment for a variety of bird species. \nGuests are welcome to bring a lunch. \nToday’s Topic: Houston and the upper Texas coast are important stopovers for migratory birds as they lie along the Central Flyway. Learn more about the route that these birds take and the fascinating science of bird migration. \nCost: $10 \n$5 for BBP and Houston Audubon Members \nPurchase Tickets
URL:https://www.buffalobayou.org/event/lunch-learn-why-birds-migrate/
LOCATION:SUNSET COFFEE BUILDING\, 1019 Commerce Street\, Suite 200\, Houston\, TX\, 77002\, United States
CATEGORIES:Lunch and Learn,Summer Species
ATTACH;FMTTYPE=image/jpeg:https://www.buffalobayou.org/wp-content/uploads/2023/04/Red-bellied-Woodpecker_Victor-Lee-Jones_By-Victor-Lee-Jones.jpg
END:VEVENT
BEGIN:VEVENT
DTSTART;TZID=America/Chicago:20230713T183000
DTEND;TZID=America/Chicago:20230713T191500
DTSTAMP:20260425T134717
CREATED:20230309T031818Z
LAST-MODIFIED:20230711T012436Z
UID:10003087-1689273000-1689275700@www.buffalobayou.org
SUMMARY:Sunset Yoga
DESCRIPTION:Wind down with Sunset Yoga on Buffalo Bayou! From April through September\, we’re partnering with The Breathing Room to offer a series of evening yoga sessions on the 2nd and 4th Thursday of each month. Yogis of all ages and levels are welcome to enjoy this 45-minute session along with golden-hour views of downtown from The Water Works in Buffalo Bayou Park. Bring your own mat. Reusable water bottles are encouraged. \nCost: Suggested $10 donation to Buffalo Bayou Partnership \nParking is available at 105 Sabine Street. See other parking options here. \nRegister
URL:https://www.buffalobayou.org/event/sunset-yoga-2023-07-13/
LOCATION:bird-grasshopper
CATEGORIES:Wellness,Yoga
ATTACH;FMTTYPE=image/png:https://www.buffalobayou.org/wp-content/uploads/2023/04/Sunrise-Yoga-—-Buffalo-Bayou-PartnershipBuffalo-Bayou-Partnership.png
END:VEVENT
END:VCALENDAR