BEGIN:VCALENDAR
VERSION:2.0
PRODID:-//Buffalo Bayou Partnership - ECPv6.15.20//NONSGML v1.0//EN
CALSCALE:GREGORIAN
METHOD:PUBLISH
X-WR-CALNAME:Buffalo Bayou Partnership
X-ORIGINAL-URL:https://www.buffalobayou.org
X-WR-CALDESC:Events for Buffalo Bayou Partnership
REFRESH-INTERVAL;VALUE=DURATION:PT1H
X-Robots-Tag:noindex
X-PUBLISHED-TTL:PT1H
BEGIN:VTIMEZONE
TZID:America/Chicago
BEGIN:DAYLIGHT
TZOFFSETFROM:-0600
TZOFFSETTO:-0500
TZNAME:CDT
DTSTART:20220313T080000
END:DAYLIGHT
BEGIN:STANDARD
TZOFFSETFROM:-0500
TZOFFSETTO:-0600
TZNAME:CST
DTSTART:20221106T070000
END:STANDARD
BEGIN:DAYLIGHT
TZOFFSETFROM:-0600
TZOFFSETTO:-0500
TZNAME:CDT
DTSTART:20230312T080000
END:DAYLIGHT
BEGIN:STANDARD
TZOFFSETFROM:-0500
TZOFFSETTO:-0600
TZNAME:CST
DTSTART:20231105T070000
END:STANDARD
BEGIN:DAYLIGHT
TZOFFSETFROM:-0600
TZOFFSETTO:-0500
TZNAME:CDT
DTSTART:20240310T080000
END:DAYLIGHT
BEGIN:STANDARD
TZOFFSETFROM:-0500
TZOFFSETTO:-0600
TZNAME:CST
DTSTART:20241103T070000
END:STANDARD
END:VTIMEZONE
BEGIN:VEVENT
DTSTART;TZID=America/Chicago:20230709T100000
DTEND;TZID=America/Chicago:20230709T104500
DTSTAMP:20260425T180313
CREATED:20230622T194710Z
LAST-MODIFIED:20230622T194710Z
UID:10002655-1688896800-1688899500@www.buffalobayou.org
SUMMARY:Sound Healing Meditation
DESCRIPTION:Find your center and practice meditation in the spacious and tranquil Buffalo Bayou Park Cistern. Offered in collaboration with Union is Creation\, this meditation series will feature the use of singing bowls and wind chimes to encourage mindfulness and connectivity. \nGuests should bring their own cushions or mats and water only in a non-glass container. No food or non-water drinks are allowed inside the Cistern. Sound Healing Meditation can be loud for those with sensitive hearing. Earplugs will be available for purchase in the visitor’s center. \nCost: $15 \nPurchase Tickets
URL:https://www.buffalobayou.org/event/sound-healing-meditation-10/
LOCATION:BUFFALO BAYOU PARK CISTERN\, 105 Sabine Street\, Houston\, TX\, 77007\, United States
ATTACH;FMTTYPE=image/jpeg:https://www.buffalobayou.org/wp-content/uploads/2023/04/sound-bath-high-res-crop-scaled-1.jpg
END:VEVENT
BEGIN:VEVENT
DTSTART;TZID=America/Chicago:20230709T170000
DTEND;TZID=America/Chicago:20230709T190000
DTSTAMP:20260425T180313
CREATED:20230628T004830Z
LAST-MODIFIED:20230630T202655Z
UID:10003272-1688922000-1688929200@www.buffalobayou.org
SUMMARY:Piano in the Park
DESCRIPTION:Join Buffalo Bayou Partnership for a melodious evening! Multitalented pianist\, Ben Chavez\, brings his musical gifts to Buffalo Bayou with Piano in the Park\, special “piano bar” performances at The Water Works. \nBring a picnic and let Ben serenade you with your favorite songs – he will be taking requests! This event is free\, but we’d love to know you’re coming. \nBen Chavez is an accomplished piano/vocal entertainer and Broadway actor who returned to Houston this past year. Ben has recently performed with the Radio City Rockettes and in several national tours of Broadway productions. \nFree Registration
URL:https://www.buffalobayou.org/event/piano-in-the-park/
LOCATION:THE WATER WORKS\, 105 Sabine Street\, Houston\, TX\, 77007\, United States
CATEGORIES:Free Event
ATTACH;FMTTYPE=image/jpeg:https://www.buffalobayou.org/wp-content/uploads/2023/04/IMG_0655.jpeg
END:VEVENT
END:VCALENDAR